BEGIN:VCALENDAR
VERSION:2.0
PRODID:-//Mark Turcotte - ECPv6.15.20//NONSGML v1.0//EN
CALSCALE:GREGORIAN
METHOD:PUBLISH
X-WR-CALNAME:Mark Turcotte
X-ORIGINAL-URL:https://markturcotte.com
X-WR-CALDESC:Events for Mark Turcotte
REFRESH-INTERVAL;VALUE=DURATION:PT1H
X-Robots-Tag:noindex
X-PUBLISHED-TTL:PT1H
BEGIN:VTIMEZONE
TZID:America/New_York
BEGIN:DAYLIGHT
TZOFFSETFROM:-0500
TZOFFSETTO:-0400
TZNAME:EDT
DTSTART:20160313T070000
END:DAYLIGHT
BEGIN:STANDARD
TZOFFSETFROM:-0400
TZOFFSETTO:-0500
TZNAME:EST
DTSTART:20161106T060000
END:STANDARD
BEGIN:DAYLIGHT
TZOFFSETFROM:-0500
TZOFFSETTO:-0400
TZNAME:EDT
DTSTART:20170312T070000
END:DAYLIGHT
BEGIN:STANDARD
TZOFFSETFROM:-0400
TZOFFSETTO:-0500
TZNAME:EST
DTSTART:20171105T060000
END:STANDARD
BEGIN:DAYLIGHT
TZOFFSETFROM:-0500
TZOFFSETTO:-0400
TZNAME:EDT
DTSTART:20180311T070000
END:DAYLIGHT
BEGIN:STANDARD
TZOFFSETFROM:-0400
TZOFFSETTO:-0500
TZNAME:EST
DTSTART:20181104T060000
END:STANDARD
END:VTIMEZONE
BEGIN:VEVENT
DTSTART;TZID=America/New_York:20170602T190000
DTEND;TZID=America/New_York:20170602T203000
DTSTAMP:20260424T230754
CREATED:20160823T182032Z
LAST-MODIFIED:20160825T124430Z
UID:2559-1496430000-1496435400@markturcotte.com
SUMMARY:Andy's Old Port Pub (Portland\, ME)
DESCRIPTION:
URL:https://markturcotte.com/event/andys-old-port-pub-25/
LOCATION:Andy’s Old Port Pub\, 94 Commercial St.\, Portland\, ME\, 04101\, United States
ATTACH;FMTTYPE=image/jpeg:https://markturcotte.com/wp-content/uploads/205_andys_old_port_pub.jpg
END:VEVENT
BEGIN:VEVENT
DTSTART;TZID=America/New_York:20170603T193000
DTEND;TZID=America/New_York:20170603T210000
DTSTAMP:20260424T230754
CREATED:20160622T135457Z
LAST-MODIFIED:20170309T213730Z
UID:2435-1496518200-1496523600@markturcotte.com
SUMMARY:Johnson Hall (Gardiner\, ME)
DESCRIPTION:
URL:https://markturcotte.com/event/johnson-hall-9/
LOCATION:Johnson Hall\, 280 Water St.\, Gardiner\, ME\, 04345\, United States
END:VEVENT
BEGIN:VEVENT
DTSTART;TZID=America/New_York:20170608T200000
DTEND;TZID=America/New_York:20170608T200000
DTSTAMP:20260424T230754
CREATED:20170604T224121Z
LAST-MODIFIED:20170604T224121Z
UID:26785-1496952000-1496952000@markturcotte.com
SUMMARY:The Old Goat (Richmond\, ME)
DESCRIPTION:
URL:https://markturcotte.com/event/the-old-goat-richmond-me/
LOCATION:The Old Goat\, 33 Main St.\, Richmond\, ME\, 04357\, United States
ATTACH;FMTTYPE=image/jpeg:https://markturcotte.com/wp-content/uploads/205_the_old_goat.jpg
END:VEVENT
BEGIN:VEVENT
DTSTART;TZID=America/New_York:20170610T200000
DTEND;TZID=America/New_York:20170610T200000
DTSTAMP:20260424T230754
CREATED:20170223T163518Z
LAST-MODIFIED:20170223T163518Z
UID:26386-1497124800-1497124800@markturcotte.com
SUMMARY:Hubbardston\, MA
DESCRIPTION:with Jerry Caruso
URL:https://markturcotte.com/event/hubbardston-ma/
LOCATION:ME
END:VEVENT
BEGIN:VEVENT
DTSTART;TZID=America/New_York:20170611T150000
DTEND;TZID=America/New_York:20170611T150000
DTSTAMP:20260424T230754
CREATED:20170608T205624Z
LAST-MODIFIED:20170608T205624Z
UID:26800-1497193200-1497193200@markturcotte.com
SUMMARY:Oasis Club (Saco\, ME)
DESCRIPTION:
URL:https://markturcotte.com/event/oasis-club-saco-me/
LOCATION:Oasis Club\, 63 School St.\, Saco\, ME\, 04072\, United States
END:VEVENT
BEGIN:VEVENT
DTSTART;TZID=America/New_York:20170611T183000
DTEND;TZID=America/New_York:20170611T183000
DTSTAMP:20260424T230754
CREATED:20170608T214322Z
LAST-MODIFIED:20170608T214322Z
UID:26803-1497205800-1497205800@markturcotte.com
SUMMARY:Project Graduation (Portland\, ME)
DESCRIPTION:
URL:https://markturcotte.com/event/project-graduation-portland-me/
LOCATION:ME
END:VEVENT
BEGIN:VEVENT
DTSTART;TZID=America/New_York:20170615T200000
DTEND;TZID=America/New_York:20170615T210000
DTSTAMP:20260424T230754
CREATED:20161031T170447Z
LAST-MODIFIED:20161031T170447Z
UID:26001-1497556800-1497560400@markturcotte.com
SUMMARY:Bear Bones Beer (Lewiston\, ME)
DESCRIPTION:
URL:https://markturcotte.com/event/bear-bones-beer-lewiston-me-6/
LOCATION:Bear Bones Beer\, 43 Lisbon St.\, Lewiston\, ME\, 04240\, United States
ATTACH;FMTTYPE=image/jpeg:https://markturcotte.com/wp-content/uploads/205_bear_bones_beer.jpg
END:VEVENT
BEGIN:VEVENT
DTSTART;TZID=America/New_York:20170625T200000
DTEND;TZID=America/New_York:20170625T200000
DTSTAMP:20260424T230754
CREATED:20170531T224703Z
LAST-MODIFIED:20170604T224349Z
UID:26782-1498420800-1498420800@markturcotte.com
SUMMARY:Footlights Theater (Falmouth\, ME)
DESCRIPTION:with Karen Morgan
URL:https://markturcotte.com/event/falmouth/
LOCATION:Footlights Theater\, 190 US Route 1\, Falmouth\, ME\, 04105\, United States
END:VEVENT
BEGIN:VEVENT
DTSTART;TZID=America/New_York:20170630T190000
DTEND;TZID=America/New_York:20170630T190000
DTSTAMP:20260424T230754
CREATED:20170401T215840Z
LAST-MODIFIED:20170401T215840Z
UID:26672-1498849200-1498849200@markturcotte.com
SUMMARY:Baxter Brewing (Lewiston\, ME)
DESCRIPTION:
URL:https://markturcotte.com/event/baxter-brewing-lewiston-me-4/
LOCATION:Baxter Brewing\, 130 Mill St.\, Lewiston\, ME\, 04240\, United States
ATTACH;FMTTYPE=image/jpeg:https://markturcotte.com/wp-content/uploads/205_baxter.jpg
END:VEVENT
END:VCALENDAR