BEGIN:VCALENDAR
VERSION:2.0
PRODID:-//Mark Turcotte - ECPv6.15.20//NONSGML v1.0//EN
CALSCALE:GREGORIAN
METHOD:PUBLISH
X-ORIGINAL-URL:https://markturcotte.com
X-WR-CALDESC:Events for Mark Turcotte
REFRESH-INTERVAL;VALUE=DURATION:PT1H
X-Robots-Tag:noindex
X-PUBLISHED-TTL:PT1H
BEGIN:VTIMEZONE
TZID:America/New_York
BEGIN:DAYLIGHT
TZOFFSETFROM:-0500
TZOFFSETTO:-0400
TZNAME:EDT
DTSTART:20160313T070000
END:DAYLIGHT
BEGIN:STANDARD
TZOFFSETFROM:-0400
TZOFFSETTO:-0500
TZNAME:EST
DTSTART:20161106T060000
END:STANDARD
BEGIN:DAYLIGHT
TZOFFSETFROM:-0500
TZOFFSETTO:-0400
TZNAME:EDT
DTSTART:20170312T070000
END:DAYLIGHT
BEGIN:STANDARD
TZOFFSETFROM:-0400
TZOFFSETTO:-0500
TZNAME:EST
DTSTART:20171105T060000
END:STANDARD
BEGIN:DAYLIGHT
TZOFFSETFROM:-0500
TZOFFSETTO:-0400
TZNAME:EDT
DTSTART:20180311T070000
END:DAYLIGHT
BEGIN:STANDARD
TZOFFSETFROM:-0400
TZOFFSETTO:-0500
TZNAME:EST
DTSTART:20181104T060000
END:STANDARD
END:VTIMEZONE
BEGIN:VEVENT
DTSTART;TZID=America/New_York:20171004T200000
DTEND;TZID=America/New_York:20171004T200000
DTSTAMP:20260424T180736
CREATED:20170821T235758Z
LAST-MODIFIED:20170903T171522Z
UID:26953-1507147200-1507147200@markturcotte.com
SUMMARY:Bull Feeney's (Portland\, ME)
DESCRIPTION:Portland Comedy Showcase
URL:https://markturcotte.com/event/bull-feeneys-portland-me-3/
LOCATION:Bull Feeney’s\, 375 Fore St.\, Portland\, ME\, 04101\, United States
ATTACH;FMTTYPE=image/jpeg:https://markturcotte.com/wp-content/uploads/205_portland_comedy_showcase.jpg
END:VEVENT
BEGIN:VEVENT
DTSTART;TZID=America/New_York:20171005T190000
DTEND;TZID=America/New_York:20171005T190000
DTSTAMP:20260424T180736
CREATED:20170907T203118Z
LAST-MODIFIED:20170907T203118Z
UID:26993-1507230000-1507230000@markturcotte.com
SUMMARY:Bear Bones Beer (Bridgton\, ME)
DESCRIPTION:
URL:https://markturcotte.com/event/bear-bones-beer-bridgton-me/
LOCATION:Bear Bones Beer (Bridgton)\, 2 Cottage St.\, Bridgton\, ME\, 04009\, United States
ATTACH;FMTTYPE=image/jpeg:https://markturcotte.com/wp-content/uploads/205_bear_bones_beer.jpg
END:VEVENT
BEGIN:VEVENT
DTSTART;TZID=America/New_York:20171006T200000
DTEND;TZID=America/New_York:20171006T200000
DTSTAMP:20260424T180736
CREATED:20170724T160704Z
LAST-MODIFIED:20170724T160704Z
UID:26892-1507320000-1507320000@markturcotte.com
SUMMARY:Headliners (Manchester\, NH)
DESCRIPTION:
URL:https://markturcotte.com/event/headliners-manchester-nh-3/
LOCATION:Headliners Comedy Club\, 700 Elm St.\, Manchester\, NH\, United States
ATTACH;FMTTYPE=image/jpeg:https://markturcotte.com/wp-content/uploads/credit_headliners.jpg
END:VEVENT
BEGIN:VEVENT
DTSTART;TZID=America/New_York:20171008T190000
DTEND;TZID=America/New_York:20171008T190000
DTSTAMP:20260424T180736
CREATED:20171008T161143Z
LAST-MODIFIED:20171008T161143Z
UID:27053-1507489200-1507489200@markturcotte.com
SUMMARY:Camden Opera House (Camden\, ME)
DESCRIPTION:
URL:https://markturcotte.com/event/camden-opera-house-camden-me/
LOCATION:Camden Opera House\, 29 Elm St.\, Camden\, ME\, 04843\, United States
ATTACH;FMTTYPE=image/jpeg:https://markturcotte.com/wp-content/uploads/205_camden_opera_house.jpg
END:VEVENT
BEGIN:VEVENT
DTSTART;TZID=America/New_York:20171013T190000
DTEND;TZID=America/New_York:20171013T203000
DTSTAMP:20260424T180736
CREATED:20161027T160110Z
LAST-MODIFIED:20161027T160110Z
UID:25986-1507921200-1507926600@markturcotte.com
SUMMARY:Somerset Abbey (Madison\, ME)
DESCRIPTION:
URL:https://markturcotte.com/event/somerset-abbey-madison-me-7/
LOCATION:Somerset Abbey\, 98 Main St.\, Madison\, ME\, 04950\, United States
ATTACH;FMTTYPE=image/jpeg:https://markturcotte.com/wp-content/uploads/205_somerset_abbey.jpg
END:VEVENT
BEGIN:VEVENT
DTSTART;TZID=America/New_York:20171014T200000
DTEND;TZID=America/New_York:20171014T200000
DTSTAMP:20260424T180736
CREATED:20170724T161011Z
LAST-MODIFIED:20170724T161011Z
UID:26896-1508011200-1508011200@markturcotte.com
SUMMARY:Chunky's (Nashua\, NH)
DESCRIPTION:
URL:https://markturcotte.com/event/chunkys-nashua-nh/
LOCATION:Chunky’s (Nashua\, NH)\, 151 Coliseum Ave.\, Nashua\, NH\, 03063\, United States
ATTACH;FMTTYPE=image/jpeg:https://markturcotte.com/wp-content/uploads/205_chunkys.jpg
END:VEVENT
BEGIN:VEVENT
DTSTART;TZID=America/New_York:20171016T200000
DTEND;TZID=America/New_York:20171016T200000
DTSTAMP:20260424T180736
CREATED:20170912T165945Z
LAST-MODIFIED:20170912T165945Z
UID:27007-1508184000-1508184000@markturcotte.com
SUMMARY:Blue (Portland\, ME)
DESCRIPTION:
URL:https://markturcotte.com/event/blue-portland-me/
LOCATION:Blue\, 650 Congress St. \, Portland\, ME\, 04101\, United States
ATTACH;FMTTYPE=image/jpeg:https://markturcotte.com/wp-content/uploads/credit_blue.jpg
END:VEVENT
BEGIN:VEVENT
DTSTART;TZID=America/New_York:20171018T200000
DTEND;TZID=America/New_York:20171018T200000
DTSTAMP:20260424T180736
CREATED:20171013T193127Z
LAST-MODIFIED:20171013T193336Z
UID:27070-1508356800-1508356800@markturcotte.com
SUMMARY:Live at 212 (Westbrook\, ME)
DESCRIPTION:
URL:https://markturcotte.com/event/live-at-212-westbrook-me/
LOCATION:Live at 212\, 212 Brown St.\, Westbrook\, ME\, 04092\, United States
END:VEVENT
BEGIN:VEVENT
DTSTART;TZID=America/New_York:20171019T190000
DTEND;TZID=America/New_York:20171019T190000
DTSTAMP:20260424T180736
CREATED:20170915T190534Z
LAST-MODIFIED:20170928T003018Z
UID:27026-1508439600-1508439600@markturcotte.com
SUMMARY:Corporate Event
DESCRIPTION:Portland
URL:https://markturcotte.com/event/corporate-event-2/
LOCATION:ME
END:VEVENT
BEGIN:VEVENT
DTSTART;TZID=America/New_York:20171021T210000
DTEND;TZID=America/New_York:20171021T210000
DTSTAMP:20260424T180736
CREATED:20170724T161102Z
LAST-MODIFIED:20171017T212045Z
UID:26898-1508619600-1508619600@markturcotte.com
SUMMARY:Chunky's (Manchester\, NH)
DESCRIPTION:
URL:https://markturcotte.com/event/chunkys-manchester-nh/
LOCATION:Chunky’s (Manchester\, NH)\, 707 Huse Rd.\, Manchester\, NH\, 03103\, United States
ATTACH;FMTTYPE=image/jpeg:https://markturcotte.com/wp-content/uploads/205_chunkys.jpg
END:VEVENT
BEGIN:VEVENT
DTSTART;TZID=America/New_York:20171022T200000
DTEND;TZID=America/New_York:20171022T200000
DTSTAMP:20260424T180736
CREATED:20170903T170825Z
LAST-MODIFIED:20170915T164956Z
UID:26983-1508702400-1508702400@markturcotte.com
SUMMARY:Empire (Portland\, ME)
DESCRIPTION:Battle Comedy
URL:https://markturcotte.com/event/empire-portland-me-4/
LOCATION:Empire\, 575 Congress St.\, Portland\, ME\, 04101\, United States
ATTACH;FMTTYPE=image/jpeg:https://markturcotte.com/wp-content/uploads/205_empire.jpg
END:VEVENT
BEGIN:VEVENT
DTSTART;TZID=America/New_York:20171025T190000
DTEND;TZID=America/New_York:20171025T190000
DTSTAMP:20260424T180736
CREATED:20170915T010000Z
LAST-MODIFIED:20170928T003108Z
UID:27020-1508958000-1508958000@markturcotte.com
SUMMARY:Corporate Event
DESCRIPTION:UMF
URL:https://markturcotte.com/event/corporate-event-3/
LOCATION:University of Maine-Farmington\, 111 South St. \, Farmington\, ME\, 04938\, United States
END:VEVENT
BEGIN:VEVENT
DTSTART;TZID=America/New_York:20171026T190000
DTEND;TZID=America/New_York:20171026T190000
DTSTAMP:20260424T180736
CREATED:20170604T224725Z
LAST-MODIFIED:20171022T152645Z
UID:26793-1509044400-1509044400@markturcotte.com
SUMMARY:Martini's on Main (Biddeford\, ME)
DESCRIPTION:
URL:https://markturcotte.com/event/martinis-on-main-biddeford-me/
LOCATION:Martini’s on Main\, 137 Main St.\, Biddeford\, ME\, 04005\, United States
ATTACH;FMTTYPE=image/jpeg:https://markturcotte.com/wp-content/uploads/205_martinis_on_main.jpg
END:VEVENT
BEGIN:VEVENT
DTSTART;TZID=America/New_York:20171027T190000
DTEND;TZID=America/New_York:20171027T190000
DTSTAMP:20260424T180736
CREATED:20170727T185055Z
LAST-MODIFIED:20170727T185055Z
UID:26907-1509130800-1509130800@markturcotte.com
SUMMARY:Baxter Brewing (Lewiston\, ME)
DESCRIPTION:
URL:https://markturcotte.com/event/baxter-brewing-lewiston-me-8/
LOCATION:Baxter Brewing\, 130 Mill St.\, Lewiston\, ME\, 04240\, United States
ATTACH;FMTTYPE=image/jpeg:https://markturcotte.com/wp-content/uploads/205_baxter.jpg
END:VEVENT
BEGIN:VEVENT
DTSTART;TZID=America/New_York:20171028T203000
DTEND;TZID=America/New_York:20171028T203000
DTSTAMP:20260424T180736
CREATED:20171005T120245Z
LAST-MODIFIED:20171022T153637Z
UID:27047-1509222600-1509222600@markturcotte.com
SUMMARY:Taste of Maine (Woolwich\, ME)
DESCRIPTION:
URL:https://markturcotte.com/event/taste-of-maine-woolwich/
LOCATION:Taste of Maine\, 161 Main St.\, Woolwich\, ME\, 04579\, United States
END:VEVENT
END:VCALENDAR