BEGIN:VCALENDAR
VERSION:2.0
PRODID:-//Mark Turcotte - ECPv6.15.20//NONSGML v1.0//EN
CALSCALE:GREGORIAN
METHOD:PUBLISH
X-ORIGINAL-URL:https://markturcotte.com
X-WR-CALDESC:Events for Mark Turcotte
REFRESH-INTERVAL;VALUE=DURATION:PT1H
X-Robots-Tag:noindex
X-PUBLISHED-TTL:PT1H
BEGIN:VTIMEZONE
TZID:America/New_York
BEGIN:DAYLIGHT
TZOFFSETFROM:-0500
TZOFFSETTO:-0400
TZNAME:EDT
DTSTART:20160313T070000
END:DAYLIGHT
BEGIN:STANDARD
TZOFFSETFROM:-0400
TZOFFSETTO:-0500
TZNAME:EST
DTSTART:20161106T060000
END:STANDARD
BEGIN:DAYLIGHT
TZOFFSETFROM:-0500
TZOFFSETTO:-0400
TZNAME:EDT
DTSTART:20170312T070000
END:DAYLIGHT
BEGIN:STANDARD
TZOFFSETFROM:-0400
TZOFFSETTO:-0500
TZNAME:EST
DTSTART:20171105T060000
END:STANDARD
BEGIN:DAYLIGHT
TZOFFSETFROM:-0500
TZOFFSETTO:-0400
TZNAME:EDT
DTSTART:20180311T070000
END:DAYLIGHT
BEGIN:STANDARD
TZOFFSETFROM:-0400
TZOFFSETTO:-0500
TZNAME:EST
DTSTART:20181104T060000
END:STANDARD
END:VTIMEZONE
BEGIN:VEVENT
DTSTART;TZID=America/New_York:20171101T200000
DTEND;TZID=America/New_York:20171101T200000
DTSTAMP:20260424T165912
CREATED:20170821T235845Z
LAST-MODIFIED:20170903T171451Z
UID:26955-1509566400-1509566400@markturcotte.com
SUMMARY:Bull Feeney's (Portland\, ME)
DESCRIPTION:Portland Comedy Showcase
URL:https://markturcotte.com/event/bull-feeneys-portland-me-2/
LOCATION:Bull Feeney’s\, 375 Fore St.\, Portland\, ME\, 04101\, United States
ATTACH;FMTTYPE=image/jpeg:https://markturcotte.com/wp-content/uploads/205_portland_comedy_showcase.jpg
END:VEVENT
BEGIN:VEVENT
DTSTART;TZID=America/New_York:20171102T190000
DTEND;TZID=America/New_York:20171102T190000
DTSTAMP:20260424T165912
CREATED:20170907T203205Z
LAST-MODIFIED:20170907T203205Z
UID:26996-1509649200-1509649200@markturcotte.com
SUMMARY:Bear Bones Beer (Bridgton\, ME)
DESCRIPTION:
URL:https://markturcotte.com/event/bear-bones-beer-bridgton-me-2/
LOCATION:Bear Bones Beer (Bridgton)\, 2 Cottage St.\, Bridgton\, ME\, 04009\, United States
ATTACH;FMTTYPE=image/jpeg:https://markturcotte.com/wp-content/uploads/205_bear_bones_beer.jpg
END:VEVENT
BEGIN:VEVENT
DTSTART;TZID=America/New_York:20171103T190000
DTEND;TZID=America/New_York:20171103T190000
DTSTAMP:20260424T165912
CREATED:20171023T211538Z
LAST-MODIFIED:20171023T212220Z
UID:27119-1509735600-1509735600@markturcotte.com
SUMMARY:Hollywood Casino (Bangor\, ME)
DESCRIPTION:
URL:https://markturcotte.com/event/hollywood-casino-bangor-me-2/
LOCATION:Hollywood Casino\, 500 Main St.\, Bangor\, ME\, 04401\, United States
ATTACH;FMTTYPE=image/jpeg:https://markturcotte.com/wp-content/uploads/205_hollywood_casino.jpg
END:VEVENT
BEGIN:VEVENT
DTSTART;TZID=America/New_York:20171104T200000
DTEND;TZID=America/New_York:20171104T200000
DTSTAMP:20260424T165912
CREATED:20170617T160046Z
LAST-MODIFIED:20170617T160046Z
UID:26810-1509825600-1509825600@markturcotte.com
SUMMARY:Mystic Theater (Rumford\, ME)
DESCRIPTION:Mystic Theater at 49 Franklin
URL:https://markturcotte.com/event/mystic-theater-rumford-me-2/
LOCATION:Mystic Theater at 49 Franklin\, 49 Franklin St.\, Rumford\, ME\, 04276\, United States
ATTACH;FMTTYPE=image/jpeg:https://markturcotte.com/wp-content/uploads/205_49_franklin.jpg
END:VEVENT
BEGIN:VEVENT
DTSTART;TZID=America/New_York:20171105T180000
DTEND;TZID=America/New_York:20171105T180000
DTSTAMP:20260424T165912
CREATED:20170914T135516Z
LAST-MODIFIED:20170915T142729Z
UID:27017-1509904800-1509904800@markturcotte.com
SUMMARY:Private Show
DESCRIPTION:Major
URL:https://markturcotte.com/event/private-show/
LOCATION:ME
END:VEVENT
BEGIN:VEVENT
DTSTART;TZID=America/New_York:20171106T200000
DTEND;TZID=America/New_York:20171106T200000
DTSTAMP:20260424T165912
CREATED:20170912T170043Z
LAST-MODIFIED:20170912T170043Z
UID:27009-1509998400-1509998400@markturcotte.com
SUMMARY:Blue (Portland\, ME)
DESCRIPTION:
URL:https://markturcotte.com/event/blue-portland-me-2/
LOCATION:Blue\, 650 Congress St. \, Portland\, ME\, 04101\, United States
ATTACH;FMTTYPE=image/jpeg:https://markturcotte.com/wp-content/uploads/credit_blue.jpg
END:VEVENT
BEGIN:VEVENT
DTSTART;TZID=America/New_York:20171110T193000
DTEND;TZID=America/New_York:20171110T193000
DTSTAMP:20260424T165912
CREATED:20170509T222225Z
LAST-MODIFIED:20170517T110805Z
UID:26745-1510342200-1510342200@markturcotte.com
SUMMARY:Calumet Club (Augusta\, ME)
DESCRIPTION:with Kyron Hobdy
URL:https://markturcotte.com/event/calumet-club-augusta-me/
LOCATION:Calumet Club\, 334 West River Road\, Augusta\, ME\, 04330\, United States
END:VEVENT
BEGIN:VEVENT
DTSTART;TZID=America/New_York:20171111T193000
DTEND;TZID=America/New_York:20171111T193000
DTSTAMP:20260424T165912
CREATED:20170617T161457Z
LAST-MODIFIED:20170617T161457Z
UID:26822-1510428600-1510428600@markturcotte.com
SUMMARY:Johnson Hall (Gardiner\, ME)
DESCRIPTION:
URL:https://markturcotte.com/event/johnson-hall-gardiner-me-2/
LOCATION:Johnson Hall\, 280 Water St.\, Gardiner\, ME\, 04345\, United States
END:VEVENT
BEGIN:VEVENT
DTSTART;TZID=America/New_York:20171116T190000
DTEND;TZID=America/New_York:20171116T190000
DTSTAMP:20260424T165912
CREATED:20161031T170903Z
LAST-MODIFIED:20170812T123838Z
UID:26011-1510858800-1510858800@markturcotte.com
SUMMARY:Bear Bones Beer (Lewiston\, ME)
DESCRIPTION:
URL:https://markturcotte.com/event/bear-bones-beer-lewiston-me-11/
LOCATION:Bear Bones Beer\, 43 Lisbon St.\, Lewiston\, ME\, 04240\, United States
ATTACH;FMTTYPE=image/jpeg:https://markturcotte.com/wp-content/uploads/205_bear_bones_beer.jpg
END:VEVENT
BEGIN:VEVENT
DTSTART;TZID=America/New_York:20171116T203000
DTEND;TZID=America/New_York:20171116T203000
DTSTAMP:20260424T165912
CREATED:20170912T170426Z
LAST-MODIFIED:20170913T151549Z
UID:27011-1510864200-1510864200@markturcotte.com
SUMMARY:Lincolns (Portland\, ME)
DESCRIPTION:
URL:https://markturcotte.com/event/lincolns-portland-me/
LOCATION:Lincolns\, Market St.\, Portland\, ME\, 04101\, United States
END:VEVENT
BEGIN:VEVENT
DTSTART;TZID=America/New_York:20171117T190000
DTEND;TZID=America/New_York:20171117T190000
DTSTAMP:20260424T165912
CREATED:20170727T185152Z
LAST-MODIFIED:20170727T185152Z
UID:26909-1510945200-1510945200@markturcotte.com
SUMMARY:Baxter Brewing (Lewiston\, ME)
DESCRIPTION:
URL:https://markturcotte.com/event/baxter-brewing-lewiston-me-9/
LOCATION:Baxter Brewing\, 130 Mill St.\, Lewiston\, ME\, 04240\, United States
ATTACH;FMTTYPE=image/jpeg:https://markturcotte.com/wp-content/uploads/205_baxter.jpg
END:VEVENT
BEGIN:VEVENT
DTSTART;TZID=America/New_York:20171118T200000
DTEND;TZID=America/New_York:20171118T200000
DTSTAMP:20260424T165912
CREATED:20170413T211131Z
LAST-MODIFIED:20170413T211131Z
UID:26712-1511035200-1511035200@markturcotte.com
SUMMARY:Elks Lodge (Lewiston\, ME)
DESCRIPTION:
URL:https://markturcotte.com/event/elks-lodge-lewiston-me-6/
LOCATION:Elks Lodge (Lewiston)\, 1675 Lisbon Rd.\, Lewiston\, ME\, 04240\, United States
ATTACH;FMTTYPE=image/jpeg:https://markturcotte.com/wp-content/uploads/205_elks.jpg
END:VEVENT
BEGIN:VEVENT
DTSTART;TZID=America/New_York:20171125T200000
DTEND;TZID=America/New_York:20171125T200000
DTSTAMP:20260424T165912
CREATED:20171106T234945Z
LAST-MODIFIED:20171106T234945Z
UID:27145-1511640000-1511640000@markturcotte.com
SUMMARY:House of Bacon (Auburn\, ME)
DESCRIPTION:
URL:https://markturcotte.com/event/house-of-bacon-auburn-me-2/
LOCATION:House of Bacon\, 34 Court St\, Auburn\, ME\, Auburn\, ME\, 04210\, United States
ATTACH;FMTTYPE=image/jpeg:https://markturcotte.com/wp-content/uploads/205_house_of_bacon.jpg
END:VEVENT
BEGIN:VEVENT
DTSTART;TZID=America/New_York:20171126T200000
DTEND;TZID=America/New_York:20171126T200000
DTSTAMP:20260424T165912
CREATED:20171114T015740Z
LAST-MODIFIED:20171114T015740Z
UID:27148-1511726400-1511726400@markturcotte.com
SUMMARY:Empire (Portland\, ME)
DESCRIPTION:Battle Comedy
URL:https://markturcotte.com/event/empire-portland-me-5/
LOCATION:Empire\, 575 Congress St.\, Portland\, ME\, 04101\, United States
ATTACH;FMTTYPE=image/jpeg:https://markturcotte.com/wp-content/uploads/205_empire.jpg
END:VEVENT
BEGIN:VEVENT
DTSTART;TZID=America/New_York:20171129T200000
DTEND;TZID=America/New_York:20171129T200000
DTSTAMP:20260424T165912
CREATED:20171030T232401Z
LAST-MODIFIED:20171030T232401Z
UID:27136-1511985600-1511985600@markturcotte.com
SUMMARY:Bull Feeney's (Portland\, ME)
DESCRIPTION:
URL:https://markturcotte.com/event/bull-feeneys-portland-me-5/
LOCATION:Bull Feeney’s\, 375 Fore St.\, Portland\, ME\, 04101\, United States
ATTACH;FMTTYPE=image/jpeg:https://markturcotte.com/wp-content/uploads/205_portland_comedy_showcase.jpg
END:VEVENT
END:VCALENDAR