BEGIN:VCALENDAR
VERSION:2.0
PRODID:-//Mark Turcotte - ECPv6.15.20//NONSGML v1.0//EN
CALSCALE:GREGORIAN
METHOD:PUBLISH
X-WR-CALNAME:Mark Turcotte
X-ORIGINAL-URL:https://markturcotte.com
X-WR-CALDESC:Events for Mark Turcotte
REFRESH-INTERVAL;VALUE=DURATION:PT1H
X-Robots-Tag:noindex
X-PUBLISHED-TTL:PT1H
BEGIN:VTIMEZONE
TZID:America/New_York
BEGIN:DAYLIGHT
TZOFFSETFROM:-0500
TZOFFSETTO:-0400
TZNAME:EDT
DTSTART:20160313T070000
END:DAYLIGHT
BEGIN:STANDARD
TZOFFSETFROM:-0400
TZOFFSETTO:-0500
TZNAME:EST
DTSTART:20161106T060000
END:STANDARD
BEGIN:DAYLIGHT
TZOFFSETFROM:-0500
TZOFFSETTO:-0400
TZNAME:EDT
DTSTART:20170312T070000
END:DAYLIGHT
BEGIN:STANDARD
TZOFFSETFROM:-0400
TZOFFSETTO:-0500
TZNAME:EST
DTSTART:20171105T060000
END:STANDARD
BEGIN:DAYLIGHT
TZOFFSETFROM:-0500
TZOFFSETTO:-0400
TZNAME:EDT
DTSTART:20180311T070000
END:DAYLIGHT
BEGIN:STANDARD
TZOFFSETFROM:-0400
TZOFFSETTO:-0500
TZNAME:EST
DTSTART:20181104T060000
END:STANDARD
END:VTIMEZONE
BEGIN:VEVENT
DTSTART;TZID=America/New_York:20171201T200000
DTEND;TZID=America/New_York:20171201T200000
DTSTAMP:20260424T155426
CREATED:20170928T001741Z
LAST-MODIFIED:20170928T001741Z
UID:27041-1512158400-1512158400@markturcotte.com
SUMMARY:Mixers (Sabattus\, ME)
DESCRIPTION:B. Roberts
URL:https://markturcotte.com/event/mixers-sabattus-me/
LOCATION:Mixers\, 136 Sabattus Rd.\, Sabattus\, ME\, 04280\, United States
ATTACH;FMTTYPE=image/jpeg:https://markturcotte.com/wp-content/uploads/205_mixers.jpg
END:VEVENT
BEGIN:VEVENT
DTSTART;TZID=America/New_York:20171207T190000
DTEND;TZID=America/New_York:20171207T190000
DTSTAMP:20260424T155427
CREATED:20170907T203301Z
LAST-MODIFIED:20170907T203301Z
UID:26998-1512673200-1512673200@markturcotte.com
SUMMARY:Bear Bones Beer (Bridgton\, ME)
DESCRIPTION:
URL:https://markturcotte.com/event/bear-bones-beer-bridgton-me-3/
LOCATION:Bear Bones Beer (Bridgton)\, 2 Cottage St.\, Bridgton\, ME\, 04009\, United States
ATTACH;FMTTYPE=image/jpeg:https://markturcotte.com/wp-content/uploads/205_bear_bones_beer.jpg
END:VEVENT
BEGIN:VEVENT
DTSTART;TZID=America/New_York:20171208T190000
DTEND;TZID=America/New_York:20171208T190000
DTSTAMP:20260424T155427
CREATED:20170727T185231Z
LAST-MODIFIED:20170727T185231Z
UID:26911-1512759600-1512759600@markturcotte.com
SUMMARY:Baxter Brewing (Lewiston\, ME)
DESCRIPTION:
URL:https://markturcotte.com/event/baxter-brewing-lewiston-me-10/
LOCATION:Baxter Brewing\, 130 Mill St.\, Lewiston\, ME\, 04240\, United States
ATTACH;FMTTYPE=image/jpeg:https://markturcotte.com/wp-content/uploads/205_baxter.jpg
END:VEVENT
BEGIN:VEVENT
DTSTART;TZID=America/New_York:20171210T130000
DTEND;TZID=America/New_York:20171210T130000
DTSTAMP:20260424T155427
CREATED:20171102T212021Z
LAST-MODIFIED:20171102T212021Z
UID:27138-1512910800-1512910800@markturcotte.com
SUMMARY:Private Event
DESCRIPTION:Turner Publishing
URL:https://markturcotte.com/event/private-event-2/
LOCATION:ME
END:VEVENT
BEGIN:VEVENT
DTSTART;TZID=America/New_York:20171213T200000
DTEND;TZID=America/New_York:20171213T200000
DTSTAMP:20260424T155427
CREATED:20171121T165141Z
LAST-MODIFIED:20171121T165309Z
UID:27156-1513195200-1513195200@markturcotte.com
SUMMARY:Bull Feeney's (Portland\, ME)
DESCRIPTION:
URL:https://markturcotte.com/event/bull-feeneys-portland-me-6/
LOCATION:Bull Feeney’s\, 375 Fore St.\, Portland\, ME\, 04101\, United States
ATTACH;FMTTYPE=image/jpeg:https://markturcotte.com/wp-content/uploads/205_portland_comedy_showcase.jpg
END:VEVENT
BEGIN:VEVENT
DTSTART;TZID=America/New_York:20171215T130000
DTEND;TZID=America/New_York:20171215T130000
DTSTAMP:20260424T155427
CREATED:20171026T184328Z
LAST-MODIFIED:20171102T212322Z
UID:27122-1513342800-1513342800@markturcotte.com
SUMMARY:Private Event
DESCRIPTION:Step
URL:https://markturcotte.com/event/private-event-3/
LOCATION:Maine Ice Valut\, 203 Whitten Rd.\, Hallowell\, ME\, 04347\, United States
END:VEVENT
BEGIN:VEVENT
DTSTART;TZID=America/New_York:20171216T190000
DTEND;TZID=America/New_York:20171216T190000
DTSTAMP:20260424T155427
CREATED:20170802T005032Z
LAST-MODIFIED:20171102T212250Z
UID:26930-1513450800-1513450800@markturcotte.com
SUMMARY:Private Event
DESCRIPTION:IP
URL:https://markturcotte.com/event/private-event-4/
LOCATION:Royal Oak Room\, 1 Bates St.\, Lewiston\, ME\, 04240\, United States
END:VEVENT
BEGIN:VEVENT
DTSTART;TZID=America/New_York:20171221T190000
DTEND;TZID=America/New_York:20171221T190000
DTSTAMP:20260424T155427
CREATED:20161031T170940Z
LAST-MODIFIED:20170812T123902Z
UID:26013-1513882800-1513882800@markturcotte.com
SUMMARY:Bear Bones Beer (Lewiston\, ME)
DESCRIPTION:
URL:https://markturcotte.com/event/bear-bones-beer-lewiston-me-12/
LOCATION:Bear Bones Beer\, 43 Lisbon St.\, Lewiston\, ME\, 04240\, United States
ATTACH;FMTTYPE=image/jpeg:https://markturcotte.com/wp-content/uploads/205_bear_bones_beer.jpg
END:VEVENT
BEGIN:VEVENT
DTSTART;TZID=America/New_York:20171227T200000
DTEND;TZID=America/New_York:20171227T200000
DTSTAMP:20260424T155427
CREATED:20171121T165359Z
LAST-MODIFIED:20171121T165359Z
UID:27158-1514404800-1514404800@markturcotte.com
SUMMARY:Bull Feeney's (Portland\, ME)
DESCRIPTION:
URL:https://markturcotte.com/event/bull-feeneys-portland-me-7/
LOCATION:Bull Feeney’s\, 375 Fore St.\, Portland\, ME\, 04101\, United States
ATTACH;FMTTYPE=image/jpeg:https://markturcotte.com/wp-content/uploads/205_portland_comedy_showcase.jpg
END:VEVENT
BEGIN:VEVENT
DTSTART;TZID=America/New_York:20171228T203000
DTEND;TZID=America/New_York:20171228T203000
DTSTAMP:20260424T155427
CREATED:20170912T170510Z
LAST-MODIFIED:20170913T151510Z
UID:27014-1514493000-1514493000@markturcotte.com
SUMMARY:Lincolns (Portland\, ME)
DESCRIPTION:
URL:https://markturcotte.com/event/lincolns-portland-me-2/
LOCATION:Lincolns\, Market St.\, Portland\, ME\, 04101\, United States
END:VEVENT
BEGIN:VEVENT
DTSTART;TZID=America/New_York:20171231T203000
DTEND;TZID=America/New_York:20171231T203000
DTSTAMP:20260424T155427
CREATED:20171220T000945Z
LAST-MODIFIED:20171220T000945Z
UID:27187-1514752200-1514752200@markturcotte.com
SUMMARY:Holiday Inn (Concord\, NH)
DESCRIPTION:
URL:https://markturcotte.com/event/holiday-inn-concord-nh/
LOCATION:Holiday Inn (Concord\, NH)\, 172 North Main St.\, Concord\, NH\, 03301\, United States
END:VEVENT
END:VCALENDAR