BEGIN:VCALENDAR
VERSION:2.0
PRODID:-//Mark Turcotte - ECPv6.15.20//NONSGML v1.0//EN
CALSCALE:GREGORIAN
METHOD:PUBLISH
X-ORIGINAL-URL:https://markturcotte.com
X-WR-CALDESC:Events for Mark Turcotte
REFRESH-INTERVAL;VALUE=DURATION:PT1H
X-Robots-Tag:noindex
X-PUBLISHED-TTL:PT1H
BEGIN:VTIMEZONE
TZID:America/New_York
BEGIN:DAYLIGHT
TZOFFSETFROM:-0500
TZOFFSETTO:-0400
TZNAME:EDT
DTSTART:20170312T070000
END:DAYLIGHT
BEGIN:STANDARD
TZOFFSETFROM:-0400
TZOFFSETTO:-0500
TZNAME:EST
DTSTART:20171105T060000
END:STANDARD
BEGIN:DAYLIGHT
TZOFFSETFROM:-0500
TZOFFSETTO:-0400
TZNAME:EDT
DTSTART:20180311T070000
END:DAYLIGHT
BEGIN:STANDARD
TZOFFSETFROM:-0400
TZOFFSETTO:-0500
TZNAME:EST
DTSTART:20181104T060000
END:STANDARD
BEGIN:DAYLIGHT
TZOFFSETFROM:-0500
TZOFFSETTO:-0400
TZNAME:EDT
DTSTART:20190310T070000
END:DAYLIGHT
BEGIN:STANDARD
TZOFFSETFROM:-0400
TZOFFSETTO:-0500
TZNAME:EST
DTSTART:20191103T060000
END:STANDARD
END:VTIMEZONE
BEGIN:VEVENT
DTSTART;TZID=America/New_York:20180302T190000
DTEND;TZID=America/New_York:20180302T190000
DTSTAMP:20260424T122539
CREATED:20170802T003933Z
LAST-MODIFIED:20170802T003933Z
UID:26922-1520017200-1520017200@markturcotte.com
SUMMARY:Baxter Brewing (Lewiston\, ME)
DESCRIPTION:
URL:https://markturcotte.com/event/baxter-brewing-lewiston-me-13/
LOCATION:Baxter Brewing\, 130 Mill St.\, Lewiston\, ME\, 04240\, United States
ATTACH;FMTTYPE=image/jpeg:https://markturcotte.com/wp-content/uploads/205_baxter.jpg
END:VEVENT
BEGIN:VEVENT
DTSTART;TZID=America/New_York:20180303T200000
DTEND;TZID=America/New_York:20180303T200000
DTSTAMP:20260424T122539
CREATED:20171010T172325Z
LAST-MODIFIED:20171010T172325Z
UID:27065-1520107200-1520107200@markturcotte.com
SUMMARY:Trail's End (Newry\, ME)
DESCRIPTION:
URL:https://markturcotte.com/event/trails-end-newry-me/
LOCATION:Trail’s End\, 9 Timberline Dr.\, Newry\, ME\, 04261\, United States
ATTACH;FMTTYPE=image/jpeg:https://markturcotte.com/wp-content/uploads/205_trails_end.jpg
END:VEVENT
BEGIN:VEVENT
DTSTART;TZID=America/New_York:20180307T200000
DTEND;TZID=America/New_York:20180307T200000
DTSTAMP:20260424T122539
CREATED:20180212T174626Z
LAST-MODIFIED:20180212T174626Z
UID:27270-1520452800-1520452800@markturcotte.com
SUMMARY:Bull Feeney's (Portland\, ME)
DESCRIPTION:Portland Comedy Showcase
URL:https://markturcotte.com/event/bull-feeneys-portland-me-12/
LOCATION:Bull Feeney’s\, 375 Fore St.\, Portland\, ME\, 04101\, United States
ATTACH;FMTTYPE=image/jpeg:https://markturcotte.com/wp-content/uploads/205_portland_comedy_showcase.jpg
END:VEVENT
BEGIN:VEVENT
DTSTART;TZID=America/New_York:20180309T200000
DTEND;TZID=America/New_York:20180309T200000
DTSTAMP:20260424T122539
CREATED:20180306T123019Z
LAST-MODIFIED:20180306T123019Z
UID:27310-1520625600-1520625600@markturcotte.com
SUMMARY:Italian Heritage Center (Portland\, ME)
DESCRIPTION:with Karen Morgan
URL:https://markturcotte.com/event/italian-heritage-center-portland-me/
LOCATION:Italian Heritage Center\, 40 Westland Ave.\, Portland\, ME\, 04102\, United States
END:VEVENT
BEGIN:VEVENT
DTSTART;TZID=America/New_York:20180310T193000
DTEND;TZID=America/New_York:20180310T193000
DTSTAMP:20260424T122539
CREATED:20170617T161630Z
LAST-MODIFIED:20170617T161630Z
UID:26826-1520710200-1520710200@markturcotte.com
SUMMARY:Johnson Hall (Gardiner\, ME)
DESCRIPTION:
URL:https://markturcotte.com/event/johnson-hall-gardiner-me-4/
LOCATION:Johnson Hall\, 280 Water St.\, Gardiner\, ME\, 04345\, United States
END:VEVENT
BEGIN:VEVENT
DTSTART;TZID=America/New_York:20180314T070000
DTEND;TZID=America/New_York:20180314T070000
DTSTAMP:20260424T122539
CREATED:20180306T123147Z
LAST-MODIFIED:20180306T123147Z
UID:27313-1521010800-1521010800@markturcotte.com
SUMMARY:Maine's Big Z
DESCRIPTION:Breakfast Club interview
URL:https://markturcotte.com/event/maines-big-z-2/
LOCATION:Maine’s Big Z\, 555 Center St.\, Auburn\, ME\, 04210\, United States
END:VEVENT
BEGIN:VEVENT
DTSTART;TZID=America/New_York:20180315T190000
DTEND;TZID=America/New_York:20180315T190000
DTSTAMP:20260424T122539
CREATED:20171022T153954Z
LAST-MODIFIED:20171022T153954Z
UID:27098-1521140400-1521140400@markturcotte.com
SUMMARY:Bear Bones Beer (Lewiston\, ME)
DESCRIPTION:
URL:https://markturcotte.com/event/bear-bones-beer-lewiston-me-14/
LOCATION:Bear Bones Beer\, 43 Lisbon St.\, Lewiston\, ME\, 04240\, United States
ATTACH;FMTTYPE=image/jpeg:https://markturcotte.com/wp-content/uploads/205_bear_bones_beer.jpg
END:VEVENT
BEGIN:VEVENT
DTSTART;TZID=America/New_York:20180316T120000
DTEND;TZID=America/New_York:20180316T120000
DTSTAMP:20260424T122539
CREATED:20180316T113132Z
LAST-MODIFIED:20180316T113132Z
UID:27321-1521201600-1521201600@markturcotte.com
SUMMARY:Private Shows
DESCRIPTION:Gardiner\, ME
URL:https://markturcotte.com/event/private-shows/
LOCATION:ME
END:VEVENT
BEGIN:VEVENT
DTSTART;TZID=America/New_York:20180317T200000
DTEND;TZID=America/New_York:20180317T200000
DTSTAMP:20260424T122539
CREATED:20180211T214201Z
LAST-MODIFIED:20180211T214201Z
UID:27267-1521316800-1521316800@markturcotte.com
SUMMARY:West End Beagle Club (Gardner\, MA)
DESCRIPTION:with Jerry Caruso
URL:https://markturcotte.com/event/west-end-beagle-club-gardner-ma/
LOCATION:West End Beagle Club\, 110 Clark St.\, Gardner\, MA\, 01440\, United States
END:VEVENT
BEGIN:VEVENT
DTSTART;TZID=America/New_York:20180319T193000
DTEND;TZID=America/New_York:20180319T193000
DTSTAMP:20260424T122539
CREATED:20180318T233241Z
LAST-MODIFIED:20180318T233241Z
UID:27324-1521487800-1521487800@markturcotte.com
SUMMARY:Luna Theater (Lowell\, MA)
DESCRIPTION:
URL:https://markturcotte.com/event/luna-theater-lowell-ma/
LOCATION:Luna Theater\, 250 Jackson St.\, Lowell\, MA\, 01852\, United States
ATTACH;FMTTYPE=image/jpeg:https://markturcotte.com/wp-content/uploads/250_luna_theater.jpg
END:VEVENT
BEGIN:VEVENT
DTSTART;TZID=America/New_York:20180321T200000
DTEND;TZID=America/New_York:20180321T200000
DTSTAMP:20260424T122539
CREATED:20180212T174731Z
LAST-MODIFIED:20180212T174731Z
UID:27272-1521662400-1521662400@markturcotte.com
SUMMARY:Bull Feeney's (Portland\, ME)
DESCRIPTION:Portland Comedy Showcase
URL:https://markturcotte.com/event/bull-feeneys-portland-me-13/
LOCATION:Bull Feeney’s\, 375 Fore St.\, Portland\, ME\, 04101\, United States
ATTACH;FMTTYPE=image/jpeg:https://markturcotte.com/wp-content/uploads/205_portland_comedy_showcase.jpg
END:VEVENT
BEGIN:VEVENT
DTSTART;TZID=America/New_York:20180323T190000
DTEND;TZID=America/New_York:20180323T190000
DTSTAMP:20260424T122539
CREATED:20180323T184157Z
LAST-MODIFIED:20180323T184258Z
UID:27334-1521831600-1521831600@markturcotte.com
SUMMARY:603 Brewery (Londonderry\, NH)
DESCRIPTION:
URL:https://markturcotte.com/event/603-brewery-londonderry-nh/
LOCATION:603 Brewery\, 12 Liberty Dr.\, Londonderry\, NH\, 03053\, United States
ATTACH;FMTTYPE=image/png:https://markturcotte.com/wp-content/uploads/venue_603_brewery.png
END:VEVENT
BEGIN:VEVENT
DTSTART;TZID=America/New_York:20180323T203000
DTEND;TZID=America/New_York:20180323T203000
DTSTAMP:20260424T122539
CREATED:20180109T232031Z
LAST-MODIFIED:20180109T232031Z
UID:27207-1521837000-1521837000@markturcotte.com
SUMMARY:Headliners (Manchester\, NH)
DESCRIPTION:
URL:https://markturcotte.com/event/headliners-manchester-nh-5/
LOCATION:Headliners Comedy Club\, 700 Elm St.\, Manchester\, NH\, United States
ATTACH;FMTTYPE=image/jpeg:https://markturcotte.com/wp-content/uploads/credit_headliners.jpg
END:VEVENT
BEGIN:VEVENT
DTSTART;TZID=America/New_York:20180324T200000
DTEND;TZID=America/New_York:20180324T200000
DTSTAMP:20260424T122539
CREATED:20180127T162709Z
LAST-MODIFIED:20180127T162709Z
UID:27241-1521921600-1521921600@markturcotte.com
SUMMARY:Seasons (Bangor\, ME)
DESCRIPTION:with Krazy Jake
URL:https://markturcotte.com/event/seasons-bangor-me/
LOCATION:Seasons\, 427 Main St.\, Bangor\, ME\, 04401\, United States
ATTACH;FMTTYPE=image/jpeg:https://markturcotte.com/wp-content/uploads/credit_seasons.jpg
END:VEVENT
BEGIN:VEVENT
DTSTART;TZID=America/New_York:20180325T200000
DTEND;TZID=America/New_York:20180325T200000
DTSTAMP:20260424T122539
CREATED:20180318T233405Z
LAST-MODIFIED:20180318T233405Z
UID:27328-1522008000-1522008000@markturcotte.com
SUMMARY:Empire (Portland\, ME)
DESCRIPTION:
URL:https://markturcotte.com/event/empire-portland-me-11/
LOCATION:Empire\, 575 Congress St.\, Portland\, ME\, 04101\, United States
ATTACH;FMTTYPE=image/jpeg:https://markturcotte.com/wp-content/uploads/205_empire.jpg
END:VEVENT
BEGIN:VEVENT
DTSTART;TZID=America/New_York:20180329T190000
DTEND;TZID=America/New_York:20180329T190000
DTSTAMP:20260424T122539
CREATED:20171128T164058Z
LAST-MODIFIED:20180204T182214Z
UID:27169-1522350000-1522350000@markturcotte.com
SUMMARY:Poland High School (Poland\, ME)
DESCRIPTION:
URL:https://markturcotte.com/event/poland-high-school-poland-me/
LOCATION:Poland Regional High School\, 1457 Maine St.\, Poland\, ME\, 04274\, United States
ATTACH;FMTTYPE=image/jpeg:https://markturcotte.com/wp-content/uploads/poland_high_school.jpg
END:VEVENT
BEGIN:VEVENT
DTSTART;TZID=America/New_York:20180330T200000
DTEND;TZID=America/New_York:20180330T200000
DTSTAMP:20260424T122539
CREATED:20180207T004334Z
LAST-MODIFIED:20180207T004334Z
UID:27260-1522440000-1522440000@markturcotte.com
SUMMARY:House of Bacon (Auburn\, ME)
DESCRIPTION:
URL:https://markturcotte.com/event/house-of-bacon-auburn-me-3/
LOCATION:House of Bacon\, 34 Court St\, Auburn\, ME\, Auburn\, ME\, 04210\, United States
ATTACH;FMTTYPE=image/jpeg:https://markturcotte.com/wp-content/uploads/205_house_of_bacon.jpg
END:VEVENT
END:VCALENDAR