BEGIN:VCALENDAR
VERSION:2.0
PRODID:-//Mark Turcotte - ECPv6.15.20//NONSGML v1.0//EN
CALSCALE:GREGORIAN
METHOD:PUBLISH
X-WR-CALNAME:Mark Turcotte
X-ORIGINAL-URL:https://markturcotte.com
X-WR-CALDESC:Events for Mark Turcotte
REFRESH-INTERVAL;VALUE=DURATION:PT1H
X-Robots-Tag:noindex
X-PUBLISHED-TTL:PT1H
BEGIN:VTIMEZONE
TZID:America/New_York
BEGIN:DAYLIGHT
TZOFFSETFROM:-0500
TZOFFSETTO:-0400
TZNAME:EDT
DTSTART:20170312T070000
END:DAYLIGHT
BEGIN:STANDARD
TZOFFSETFROM:-0400
TZOFFSETTO:-0500
TZNAME:EST
DTSTART:20171105T060000
END:STANDARD
BEGIN:DAYLIGHT
TZOFFSETFROM:-0500
TZOFFSETTO:-0400
TZNAME:EDT
DTSTART:20180311T070000
END:DAYLIGHT
BEGIN:STANDARD
TZOFFSETFROM:-0400
TZOFFSETTO:-0500
TZNAME:EST
DTSTART:20181104T060000
END:STANDARD
BEGIN:DAYLIGHT
TZOFFSETFROM:-0500
TZOFFSETTO:-0400
TZNAME:EDT
DTSTART:20190310T070000
END:DAYLIGHT
BEGIN:STANDARD
TZOFFSETFROM:-0400
TZOFFSETTO:-0500
TZNAME:EST
DTSTART:20191103T060000
END:STANDARD
END:VTIMEZONE
BEGIN:VEVENT
DTSTART;TZID=America/New_York:20180404T200000
DTEND;TZID=America/New_York:20180404T200000
DTSTAMP:20260424T111009
CREATED:20180212T174826Z
LAST-MODIFIED:20180212T174826Z
UID:27274-1522872000-1522872000@markturcotte.com
SUMMARY:Bull Feeney's (Portland\, ME)
DESCRIPTION:Portland Comedy Showcase
URL:https://markturcotte.com/event/bull-feeneys-portland-me-14/
LOCATION:Bull Feeney’s\, 375 Fore St.\, Portland\, ME\, 04101\, United States
ATTACH;FMTTYPE=image/jpeg:https://markturcotte.com/wp-content/uploads/205_portland_comedy_showcase.jpg
END:VEVENT
BEGIN:VEVENT
DTSTART;TZID=America/New_York:20180405T190000
DTEND;TZID=America/New_York:20180405T190000
DTSTAMP:20260424T111009
CREATED:20180302T124459Z
LAST-MODIFIED:20180302T124459Z
UID:27306-1522954800-1522954800@markturcotte.com
SUMMARY:Fore River Brewing (South Portland\, ME)
DESCRIPTION:
URL:https://markturcotte.com/event/fore-river-brewing-south-portland-me/
LOCATION:Fore River Brewing\, 45 Huntress Ave.\, South Portland\, ME\, 04106\, United States
ATTACH;FMTTYPE=image/jpeg:https://markturcotte.com/wp-content/uploads/250x250_fore_river_brewing.jpg
END:VEVENT
BEGIN:VEVENT
DTSTART;TZID=America/New_York:20180406T190000
DTEND;TZID=America/New_York:20180406T190000
DTSTAMP:20260424T111009
CREATED:20170802T004026Z
LAST-MODIFIED:20170802T004026Z
UID:26924-1523041200-1523041200@markturcotte.com
SUMMARY:Baxter Brewing (Lewiston\, ME)
DESCRIPTION:
URL:https://markturcotte.com/event/baxter-brewing-lewiston-me-14/
LOCATION:Baxter Brewing\, 130 Mill St.\, Lewiston\, ME\, 04240\, United States
ATTACH;FMTTYPE=image/jpeg:https://markturcotte.com/wp-content/uploads/205_baxter.jpg
END:VEVENT
BEGIN:VEVENT
DTSTART;TZID=America/New_York:20180407T200000
DTEND;TZID=America/New_York:20180407T200000
DTSTAMP:20260424T111009
CREATED:20180404T210745Z
LAST-MODIFIED:20180404T211508Z
UID:27379-1523131200-1523131200@markturcotte.com
SUMMARY:Mayflower Brewing (Plymouth\, MA)
DESCRIPTION:
URL:https://markturcotte.com/event/mayflower-brewing-plymouth-ma/
LOCATION:Mayflower Brewing\, 12 Resnik Rd.\, Plymouth\, MA\, 02360\, United States
ATTACH;FMTTYPE=image/jpeg:https://markturcotte.com/wp-content/uploads/250_mayflower_brewing.jpg
END:VEVENT
BEGIN:VEVENT
DTSTART;TZID=America/New_York:20180409T060000
DTEND;TZID=America/New_York:20180409T090000
DTSTAMP:20260424T111009
CREATED:20180115T155413Z
LAST-MODIFIED:20180115T155413Z
UID:27212-1523253600-1523264400@markturcotte.com
SUMMARY:Frank Morning Show
DESCRIPTION:
URL:https://markturcotte.com/event/frank-morning-show/
LOCATION:ME
ATTACH;FMTTYPE=image/png:https://markturcotte.com/wp-content/uploads/1075_FrankFM.png
END:VEVENT
BEGIN:VEVENT
DTSTART;TZID=America/New_York:20180413T100000
DTEND;TZID=America/New_York:20180413T100000
DTSTAMP:20260424T111009
CREATED:20180410T213555Z
LAST-MODIFIED:20180410T213622Z
UID:27409-1523613600-1523613600@markturcotte.com
SUMMARY:Workshop with Eddie Brill
DESCRIPTION:Sold Out
URL:https://markturcotte.com/event/workshop-with-eddie-brill/
LOCATION:ME
END:VEVENT
BEGIN:VEVENT
DTSTART;TZID=America/New_York:20180413T190000
DTEND;TZID=America/New_York:20180413T190000
DTSTAMP:20260424T111009
CREATED:20170812T122917Z
LAST-MODIFIED:20170812T123410Z
UID:26937-1523646000-1523646000@markturcotte.com
SUMMARY:Somerset Abbey (Madison\, ME)
DESCRIPTION:
URL:https://markturcotte.com/event/somerset-abbey-madison-me-11/
LOCATION:Somerset Abbey\, 98 Main St.\, Madison\, ME\, 04950\, United States
ATTACH;FMTTYPE=image/jpeg:https://markturcotte.com/wp-content/uploads/205_somerset_abbey.jpg
END:VEVENT
BEGIN:VEVENT
DTSTART;TZID=America/New_York:20180414T200000
DTEND;TZID=America/New_York:20180414T200000
DTSTAMP:20260424T111009
CREATED:20170617T160332Z
LAST-MODIFIED:20170617T160332Z
UID:26816-1523736000-1523736000@markturcotte.com
SUMMARY:Mystic Theater (Rumford\, ME)
DESCRIPTION:Mystic Theater at 49 Franklin
URL:https://markturcotte.com/event/mystic-theater-rumford-me-5/
LOCATION:Mystic Theater at 49 Franklin\, 49 Franklin St.\, Rumford\, ME\, 04276\, United States
ATTACH;FMTTYPE=image/jpeg:https://markturcotte.com/wp-content/uploads/205_49_franklin.jpg
END:VEVENT
BEGIN:VEVENT
DTSTART;TZID=America/New_York:20180415T200000
DTEND;TZID=America/New_York:20180415T200000
DTSTAMP:20260424T111009
CREATED:20180404T124234Z
LAST-MODIFIED:20180404T125050Z
UID:27375-1523822400-1523822400@markturcotte.com
SUMMARY:Amvets (Sanford\, ME)
DESCRIPTION:
URL:https://markturcotte.com/event/amvets-sanford-me/
LOCATION:Amvets (Sanford\, ME)\, 169 School St.\, Sanford\, ME\, 04073\, United States
ATTACH;FMTTYPE=image/jpeg:https://markturcotte.com/wp-content/uploads/credit_amvets.jpg
END:VEVENT
BEGIN:VEVENT
DTSTART;TZID=America/New_York:20180416T180000
DTEND;TZID=America/New_York:20180416T180000
DTSTAMP:20260424T111009
CREATED:20180217T180858Z
LAST-MODIFIED:20180404T125239Z
UID:27285-1523901600-1523901600@markturcotte.com
SUMMARY:Guthries (Lewiston\, ME)
DESCRIPTION:Hosting Lewiston Adult Ed Graduation Show
URL:https://markturcotte.com/event/guthries-lewiston-me-2/
LOCATION:Guthries\, 115 Middle St.\, Lewiston\, ME\, 04240\, United States
ATTACH;FMTTYPE=image/jpeg:https://markturcotte.com/wp-content/uploads/205_guthries.jpg
END:VEVENT
BEGIN:VEVENT
DTSTART;TZID=America/New_York:20180418T150000
DTEND;TZID=America/New_York:20180418T150000
DTSTAMP:20260424T111009
CREATED:20180131T114422Z
LAST-MODIFIED:20180131T123618Z
UID:27249-1524063600-1524063600@markturcotte.com
SUMMARY:Port City Music Hall (Portland\, ME)
DESCRIPTION:
URL:https://markturcotte.com/event/port-city-music-hall-portland-me/
LOCATION:Port City Music Hall\, 504 Congress St.\, Portland\, ME\, 04101\, United States
ATTACH;FMTTYPE=image/jpeg:https://markturcotte.com/wp-content/uploads/port_city_music_hall.jpg
END:VEVENT
BEGIN:VEVENT
DTSTART;TZID=America/New_York:20180419T190000
DTEND;TZID=America/New_York:20180419T190000
DTSTAMP:20260424T111009
CREATED:20171022T154040Z
LAST-MODIFIED:20171022T154040Z
UID:27100-1524164400-1524164400@markturcotte.com
SUMMARY:Bear Bones Beer (Lewiston\, ME)
DESCRIPTION:
URL:https://markturcotte.com/event/bear-bones-beer-lewiston-me-15/
LOCATION:Bear Bones Beer\, 43 Lisbon St.\, Lewiston\, ME\, 04240\, United States
ATTACH;FMTTYPE=image/jpeg:https://markturcotte.com/wp-content/uploads/205_bear_bones_beer.jpg
END:VEVENT
BEGIN:VEVENT
DTSTART;TZID=America/New_York:20180421T200000
DTEND;TZID=America/New_York:20180421T200000
DTSTAMP:20260424T111009
CREATED:20180109T231837Z
LAST-MODIFIED:20180109T231837Z
UID:27203-1524340800-1524340800@markturcotte.com
SUMMARY:Headliners (Brewer\, ME)
DESCRIPTION:
URL:https://markturcotte.com/event/headliners-brewer-me-2/
LOCATION:ME
ATTACH;FMTTYPE=image/jpeg:https://markturcotte.com/wp-content/uploads/credit_headliners.jpg
END:VEVENT
BEGIN:VEVENT
DTSTART;TZID=America/New_York:20180422T200000
DTEND;TZID=America/New_York:20180422T200000
DTSTAMP:20260424T111009
CREATED:20180310T173237Z
LAST-MODIFIED:20180310T173237Z
UID:27319-1524427200-1524427200@markturcotte.com
SUMMARY:Empire (Portland\, ME)
DESCRIPTION:
URL:https://markturcotte.com/event/empire-portland-me-10/
LOCATION:Empire\, 575 Congress St.\, Portland\, ME\, 04101\, United States
ATTACH;FMTTYPE=image/jpeg:https://markturcotte.com/wp-content/uploads/205_empire.jpg
END:VEVENT
BEGIN:VEVENT
DTSTART;TZID=America/New_York:20180425T200000
DTEND;TZID=America/New_York:20180425T200000
DTSTAMP:20260424T111009
CREATED:20180212T174917Z
LAST-MODIFIED:20180212T174917Z
UID:27276-1524686400-1524686400@markturcotte.com
SUMMARY:Bull Feeney's (Portland\, ME)
DESCRIPTION:Portland Comedy Showcase
URL:https://markturcotte.com/event/bull-feeneys-portland-me-15/
LOCATION:Bull Feeney’s\, 375 Fore St.\, Portland\, ME\, 04101\, United States
ATTACH;FMTTYPE=image/jpeg:https://markturcotte.com/wp-content/uploads/205_portland_comedy_showcase.jpg
END:VEVENT
BEGIN:VEVENT
DTSTART;TZID=America/New_York:20180427T200000
DTEND;TZID=America/New_York:20180427T200000
DTSTAMP:20260424T111009
CREATED:20180102T235951Z
LAST-MODIFIED:20180102T235951Z
UID:27193-1524859200-1524859200@markturcotte.com
SUMMARY:The Gold Room (Portland\, ME)
DESCRIPTION:with Dennis Fogg & Johnny Ater
URL:https://markturcotte.com/event/the-gold-room-portland-me-3/
LOCATION:The Gold Room\,  512 Warren Ave.\, Portland\, ME\, 04103\, United States
ATTACH;FMTTYPE=image/jpeg:https://markturcotte.com/wp-content/uploads/credit_gold_room.jpg
END:VEVENT
BEGIN:VEVENT
DTSTART;TZID=America/New_York:20180428T200000
DTEND;TZID=America/New_York:20180428T200000
DTSTAMP:20260424T111009
CREATED:20180204T182830Z
LAST-MODIFIED:20180204T182830Z
UID:27258-1524945600-1524945600@markturcotte.com
SUMMARY:The Gold Room (Portland\, ME)
DESCRIPTION:
URL:https://markturcotte.com/event/the-gold-room-portland-me-4/
LOCATION:The Gold Room\,  512 Warren Ave.\, Portland\, ME\, 04103\, United States
ATTACH;FMTTYPE=image/jpeg:https://markturcotte.com/wp-content/uploads/205_the_gold_room.jpg
END:VEVENT
BEGIN:VEVENT
DTSTART;TZID=America/New_York:20180429T200000
DTEND;TZID=America/New_York:20180429T200000
DTSTAMP:20260424T111009
CREATED:20180318T233457Z
LAST-MODIFIED:20180318T233457Z
UID:27330-1525032000-1525032000@markturcotte.com
SUMMARY:Empire (Portland\, ME)
DESCRIPTION:
URL:https://markturcotte.com/event/empire-portland-me-12/
LOCATION:Empire\, 575 Congress St.\, Portland\, ME\, 04101\, United States
ATTACH;FMTTYPE=image/jpeg:https://markturcotte.com/wp-content/uploads/205_empire.jpg
END:VEVENT
END:VCALENDAR