BEGIN:VCALENDAR
VERSION:2.0
PRODID:-//Mark Turcotte - ECPv6.15.20//NONSGML v1.0//EN
CALSCALE:GREGORIAN
METHOD:PUBLISH
X-WR-CALNAME:Mark Turcotte
X-ORIGINAL-URL:https://markturcotte.com
X-WR-CALDESC:Events for Mark Turcotte
REFRESH-INTERVAL;VALUE=DURATION:PT1H
X-Robots-Tag:noindex
X-PUBLISHED-TTL:PT1H
BEGIN:VTIMEZONE
TZID:America/New_York
BEGIN:DAYLIGHT
TZOFFSETFROM:-0500
TZOFFSETTO:-0400
TZNAME:EDT
DTSTART:20170312T070000
END:DAYLIGHT
BEGIN:STANDARD
TZOFFSETFROM:-0400
TZOFFSETTO:-0500
TZNAME:EST
DTSTART:20171105T060000
END:STANDARD
BEGIN:DAYLIGHT
TZOFFSETFROM:-0500
TZOFFSETTO:-0400
TZNAME:EDT
DTSTART:20180311T070000
END:DAYLIGHT
BEGIN:STANDARD
TZOFFSETFROM:-0400
TZOFFSETTO:-0500
TZNAME:EST
DTSTART:20181104T060000
END:STANDARD
BEGIN:DAYLIGHT
TZOFFSETFROM:-0500
TZOFFSETTO:-0400
TZNAME:EDT
DTSTART:20190310T070000
END:DAYLIGHT
BEGIN:STANDARD
TZOFFSETFROM:-0400
TZOFFSETTO:-0500
TZNAME:EST
DTSTART:20191103T060000
END:STANDARD
END:VTIMEZONE
BEGIN:VEVENT
DTSTART;TZID=America/New_York:20180503T200000
DTEND;TZID=America/New_York:20180503T200000
DTSTAMP:20260424T093907
CREATED:20180326T141914Z
LAST-MODIFIED:20180326T192319Z
UID:27343-1525377600-1525377600@markturcotte.com
SUMMARY:Hella Good Tacos (Portland\, ME)
DESCRIPTION:
URL:https://markturcotte.com/event/hella-good-tacos-portland-me/
LOCATION:Hella Good Tacos\, 500 Washington Ave.\, Portland\, ME\, 04103\, United States
ATTACH;FMTTYPE=image/jpeg:https://markturcotte.com/wp-content/uploads/250_hella_good_tacos.jpg
END:VEVENT
BEGIN:VEVENT
DTSTART;TZID=America/New_York:20180504T190000
DTEND;TZID=America/New_York:20180504T190000
DTSTAMP:20260424T093907
CREATED:20170802T004132Z
LAST-MODIFIED:20170802T004132Z
UID:26926-1525460400-1525460400@markturcotte.com
SUMMARY:Baxter Brewing (Lewiston\, ME)
DESCRIPTION:
URL:https://markturcotte.com/event/baxter-brewing-lewiston-me-15/
LOCATION:ME
ATTACH;FMTTYPE=image/jpeg:https://markturcotte.com/wp-content/uploads/205_baxter.jpg
END:VEVENT
BEGIN:VEVENT
DTSTART;TZID=America/New_York:20180505T203000
DTEND;TZID=America/New_York:20180505T203000
DTSTAMP:20260424T093907
CREATED:20180109T231936Z
LAST-MODIFIED:20180109T231936Z
UID:27205-1525552200-1525552200@markturcotte.com
SUMMARY:Headliners (Manchester\, NH)
DESCRIPTION:
URL:https://markturcotte.com/event/headliners-manchester-nh-4/
LOCATION:Headliners Comedy Club\, 700 Elm St.\, Manchester\, NH\, United States
ATTACH;FMTTYPE=image/jpeg:https://markturcotte.com/wp-content/uploads/credit_headliners.jpg
END:VEVENT
BEGIN:VEVENT
DTSTART;TZID=America/New_York:20180509T200000
DTEND;TZID=America/New_York:20180509T200000
DTSTAMP:20260424T093907
CREATED:20180417T122252Z
LAST-MODIFIED:20180417T122252Z
UID:27421-1525896000-1525896000@markturcotte.com
SUMMARY:Bull Feeney's (Portland\, ME)
DESCRIPTION:
URL:https://markturcotte.com/event/bull-feeneys-portland-me-16/
LOCATION:Bull Feeney’s\, 375 Fore St.\, Portland\, ME\, 04101\, United States
ATTACH;FMTTYPE=image/jpeg:https://markturcotte.com/wp-content/uploads/205_portland_comedy_showcase.jpg
END:VEVENT
BEGIN:VEVENT
DTSTART;TZID=America/New_York:20180510T190000
DTEND;TZID=America/New_York:20180510T190000
DTSTAMP:20260424T093907
CREATED:20180406T183916Z
LAST-MODIFIED:20180406T183916Z
UID:27391-1525978800-1525978800@markturcotte.com
SUMMARY:Fore River Brewing (South Portland\, ME)
DESCRIPTION:
URL:https://markturcotte.com/event/fore-river-brewing-south-portland-me-2/
LOCATION:Fore River Brewing\, 45 Huntress Ave.\, South Portland\, ME\, 04106\, United States
ATTACH;FMTTYPE=image/jpeg:https://markturcotte.com/wp-content/uploads/250x250_fore_river_brewing.jpg
END:VEVENT
BEGIN:VEVENT
DTSTART;TZID=America/New_York:20180511T190000
DTEND;TZID=America/New_York:20180511T190000
DTSTAMP:20260424T093907
CREATED:20170812T123008Z
LAST-MODIFIED:20170812T123008Z
UID:26939-1526065200-1526065200@markturcotte.com
SUMMARY:Somerset Abbey (Madison\, ME)
DESCRIPTION:
URL:https://markturcotte.com/event/somerset-abbey-madison-me-12/
LOCATION:Somerset Abbey\, 98 Main St.\, Madison\, ME\, 04950\, United States
ATTACH;FMTTYPE=image/jpeg:https://markturcotte.com/wp-content/uploads/205_somerset_abbey.jpg
END:VEVENT
BEGIN:VEVENT
DTSTART;TZID=America/New_York:20180512T200000
DTEND;TZID=America/New_York:20180512T200000
DTSTAMP:20260424T093907
CREATED:20170617T160427Z
LAST-MODIFIED:20170617T160427Z
UID:26818-1526155200-1526155200@markturcotte.com
SUMMARY:Mystic Theater (Rumford\, ME)
DESCRIPTION:Mystic Theater at 49 Franklin
URL:https://markturcotte.com/event/mystic-theater-rumford-me-6/
LOCATION:Mystic Theater at 49 Franklin\, 49 Franklin St.\, Rumford\, ME\, 04276\, United States
ATTACH;FMTTYPE=image/jpeg:https://markturcotte.com/wp-content/uploads/205_49_franklin.jpg
END:VEVENT
BEGIN:VEVENT
DTSTART;TZID=America/New_York:20180512T200000
DTEND;TZID=America/New_York:20180512T200000
DTSTAMP:20260424T093907
CREATED:20180130T132009Z
LAST-MODIFIED:20180130T132009Z
UID:27245-1526155200-1526155200@markturcotte.com
SUMMARY:Seasons (Bangor\, ME)
DESCRIPTION:with Gilbert Gottfried
URL:https://markturcotte.com/event/seasons-bangor-me-2/
LOCATION:Seasons\, 427 Main St.\, Bangor\, ME\, 04401\, United States
ATTACH;FMTTYPE=image/jpeg:https://markturcotte.com/wp-content/uploads/credit_seasons.jpg
END:VEVENT
BEGIN:VEVENT
DTSTART;TZID=America/New_York:20180517T190000
DTEND;TZID=America/New_York:20180517T190000
DTSTAMP:20260424T093907
CREATED:20171022T154125Z
LAST-MODIFIED:20171022T154125Z
UID:27102-1526583600-1526583600@markturcotte.com
SUMMARY:Bear Bones Beer (Lewiston\, ME)
DESCRIPTION:
URL:https://markturcotte.com/event/bear-bones-beer-lewiston-me-16/
LOCATION:Bear Bones Beer\, 43 Lisbon St.\, Lewiston\, ME\, 04240\, United States
ATTACH;FMTTYPE=image/jpeg:https://markturcotte.com/wp-content/uploads/205_bear_bones_beer.jpg
END:VEVENT
BEGIN:VEVENT
DTSTART;TZID=America/New_York:20180518T190000
DTEND;TZID=America/New_York:20180518T190000
DTSTAMP:20260424T093907
CREATED:20171231T160151Z
LAST-MODIFIED:20171231T160151Z
UID:27191-1526670000-1526670000@markturcotte.com
SUMMARY:Empire (Portland\, ME)
DESCRIPTION:
URL:https://markturcotte.com/event/empire-portland-me-6/
LOCATION:Empire\, 575 Congress St.\, Portland\, ME\, 04101\, United States
ATTACH;FMTTYPE=image/jpeg:https://markturcotte.com/wp-content/uploads/205_empire.jpg
END:VEVENT
BEGIN:VEVENT
DTSTART;TZID=America/New_York:20180519T193000
DTEND;TZID=America/New_York:20180519T193000
DTSTAMP:20260424T093907
CREATED:20170617T161716Z
LAST-MODIFIED:20170617T161716Z
UID:26828-1526758200-1526758200@markturcotte.com
SUMMARY:Johnson Hall (Gardiner\, ME)
DESCRIPTION:
URL:https://markturcotte.com/event/johnson-hall-gardiner-me-5/
LOCATION:Johnson Hall\, 280 Water St.\, Gardiner\, ME\, 04345\, United States
END:VEVENT
BEGIN:VEVENT
DTSTART;TZID=America/New_York:20180523T200000
DTEND;TZID=America/New_York:20180523T200000
DTSTAMP:20260424T093907
CREATED:20180417T122335Z
LAST-MODIFIED:20180417T122335Z
UID:27423-1527105600-1527105600@markturcotte.com
SUMMARY:Bull Feeney's (Portland\, ME)
DESCRIPTION:
URL:https://markturcotte.com/event/bull-feeneys-portland-me-17/
LOCATION:Bull Feeney’s\, 375 Fore St.\, Portland\, ME\, 04101\, United States
ATTACH;FMTTYPE=image/jpeg:https://markturcotte.com/wp-content/uploads/205_portland_comedy_showcase.jpg
END:VEVENT
BEGIN:VEVENT
DTSTART;TZID=America/New_York:20180524T190000
DTEND;TZID=America/New_York:20180524T190000
DTSTAMP:20260424T093907
CREATED:20180410T213117Z
LAST-MODIFIED:20180410T213117Z
UID:27407-1527188400-1527188400@markturcotte.com
SUMMARY:Private Event
DESCRIPTION:
URL:https://markturcotte.com/event/private-event-5/
LOCATION:ME
END:VEVENT
BEGIN:VEVENT
DTSTART;TZID=America/New_York:20180525T200000
DTEND;TZID=America/New_York:20180525T200000
DTSTAMP:20260424T093907
CREATED:20180216T165235Z
LAST-MODIFIED:20180216T165349Z
UID:27278-1527278400-1527278400@markturcotte.com
SUMMARY:Empire (Portland\, ME)
DESCRIPTION:NiteCap with Krister Rollins & Nic Robes
URL:https://markturcotte.com/event/empire-portland-me-9/
LOCATION:Empire\, 575 Congress St.\, Portland\, ME\, 04101\, United States
ATTACH;FMTTYPE=image/jpeg:https://markturcotte.com/wp-content/uploads/205_empire.jpg
END:VEVENT
BEGIN:VEVENT
DTSTART;VALUE=DATE:20180527
DTEND;VALUE=DATE:20180528
DTSTAMP:20260424T093907
CREATED:20180404T213238Z
LAST-MODIFIED:20180404T213238Z
UID:27383-1527379200-1527465599@markturcotte.com
SUMMARY:Unavailable
DESCRIPTION:
URL:https://markturcotte.com/event/unavailable-7/
LOCATION:ME
END:VEVENT
BEGIN:VEVENT
DTSTART;VALUE=DATE:20180528
DTEND;VALUE=DATE:20180529
DTSTAMP:20260424T093907
CREATED:20180404T213258Z
LAST-MODIFIED:20180404T213258Z
UID:27385-1527465600-1527551999@markturcotte.com
SUMMARY:Unavailable
DESCRIPTION:
URL:https://markturcotte.com/event/unavailable-8/
LOCATION:ME
END:VEVENT
END:VCALENDAR