BEGIN:VCALENDAR
VERSION:2.0
PRODID:-//Mark Turcotte - ECPv6.15.20//NONSGML v1.0//EN
CALSCALE:GREGORIAN
METHOD:PUBLISH
X-ORIGINAL-URL:https://markturcotte.com
X-WR-CALDESC:Events for Mark Turcotte
REFRESH-INTERVAL;VALUE=DURATION:PT1H
X-Robots-Tag:noindex
X-PUBLISHED-TTL:PT1H
BEGIN:VTIMEZONE
TZID:America/New_York
BEGIN:DAYLIGHT
TZOFFSETFROM:-0500
TZOFFSETTO:-0400
TZNAME:EDT
DTSTART:20170312T070000
END:DAYLIGHT
BEGIN:STANDARD
TZOFFSETFROM:-0400
TZOFFSETTO:-0500
TZNAME:EST
DTSTART:20171105T060000
END:STANDARD
BEGIN:DAYLIGHT
TZOFFSETFROM:-0500
TZOFFSETTO:-0400
TZNAME:EDT
DTSTART:20180311T070000
END:DAYLIGHT
BEGIN:STANDARD
TZOFFSETFROM:-0400
TZOFFSETTO:-0500
TZNAME:EST
DTSTART:20181104T060000
END:STANDARD
BEGIN:DAYLIGHT
TZOFFSETFROM:-0500
TZOFFSETTO:-0400
TZNAME:EDT
DTSTART:20190310T070000
END:DAYLIGHT
BEGIN:STANDARD
TZOFFSETFROM:-0400
TZOFFSETTO:-0500
TZNAME:EST
DTSTART:20191103T060000
END:STANDARD
END:VTIMEZONE
BEGIN:VEVENT
DTSTART;TZID=America/New_York:20180601T190000
DTEND;TZID=America/New_York:20180601T190000
DTSTAMP:20260424T083129
CREATED:20170802T004216Z
LAST-MODIFIED:20180601T022755Z
UID:26928-1527879600-1527879600@markturcotte.com
SUMMARY:Baxter Brewing (Lewiston\, ME)
DESCRIPTION:
URL:https://markturcotte.com/event/baxter-brewing-lewiston-me-16/
LOCATION:Baxter Brewing\, 130 Mill St.\, Lewiston\, ME\, 04240\, United States
ATTACH;FMTTYPE=image/jpeg:https://markturcotte.com/wp-content/uploads/baxter_brewing_250x250.jpg
END:VEVENT
BEGIN:VEVENT
DTSTART;VALUE=DATE:20180602
DTEND;VALUE=DATE:20180603
DTSTAMP:20260424T083129
CREATED:20180602T174557Z
LAST-MODIFIED:20180602T174557Z
UID:27510-1527897600-1527983999@markturcotte.com
SUMMARY:Unavailable
DESCRIPTION:
URL:https://markturcotte.com/event/unavailable-10/
LOCATION:ME
END:VEVENT
BEGIN:VEVENT
DTSTART;TZID=America/New_York:20180602T200000
DTEND;TZID=America/New_York:20180602T200000
DTSTAMP:20260424T083129
CREATED:20180411T111415Z
LAST-MODIFIED:20180411T111415Z
UID:27413-1527969600-1527969600@markturcotte.com
SUMMARY:Bangor Beer Co. (Bangor\, ME)
DESCRIPTION:
URL:https://markturcotte.com/event/bangor-beer-co-bangor-me/
LOCATION:Bangor Beer Company\, 330 Bangor Mall Blvd.\, Bangor\, ME\, 04401\, United States
ATTACH;FMTTYPE=image/jpeg:https://markturcotte.com/wp-content/uploads/250_bangor_beer_co.jpg
END:VEVENT
BEGIN:VEVENT
DTSTART;TZID=America/New_York:20180606T080000
DTEND;TZID=America/New_York:20180606T080000
DTSTAMP:20260424T083129
CREATED:20180512T124417Z
LAST-MODIFIED:20180512T124417Z
UID:27476-1528272000-1528272000@markturcotte.com
SUMMARY:Maine's Big Z
DESCRIPTION:The Breakfast Club Radio Show
URL:https://markturcotte.com/event/maines-big-z-3/
LOCATION:ME
END:VEVENT
BEGIN:VEVENT
DTSTART;TZID=America/New_York:20180606T193000
DTEND;TZID=America/New_York:20180606T193000
DTSTAMP:20260424T083129
CREATED:20180401T211352Z
LAST-MODIFIED:20180401T211352Z
UID:27367-1528313400-1528313400@markturcotte.com
SUMMARY:The Ellis Room (Brookline\, MA)
DESCRIPTION:
URL:https://markturcotte.com/event/the-ellis-room-brookline-ma/
LOCATION:The Ellis Room\, 6 Harvard Square\, Brookline\, MA\, 02445\, United States
ATTACH;FMTTYPE=image/jpeg:https://markturcotte.com/wp-content/uploads/250_the_ellis_room.jpg
END:VEVENT
BEGIN:VEVENT
DTSTART;TZID=America/New_York:20180606T220000
DTEND;TZID=America/New_York:20180606T220000
DTSTAMP:20260424T083129
CREATED:20180404T123527Z
LAST-MODIFIED:20180404T125136Z
UID:27372-1528322400-1528322400@markturcotte.com
SUMMARY:The Burren (Somerville\, MA)
DESCRIPTION:
URL:https://markturcotte.com/event/the-burren-somerville-ma/
LOCATION:The Burren\, 247 Elm St.\, Somerville\, MA\, 02144\, United States
ATTACH;FMTTYPE=image/jpeg:https://markturcotte.com/wp-content/uploads/250_the_burren.jpg
END:VEVENT
BEGIN:VEVENT
DTSTART;TZID=America/New_York:20180607T190000
DTEND;TZID=America/New_York:20180607T190000
DTSTAMP:20260424T083129
CREATED:20180406T183955Z
LAST-MODIFIED:20180406T183955Z
UID:27393-1528398000-1528398000@markturcotte.com
SUMMARY:Fore River Brewing (South Portland\, ME)
DESCRIPTION:
URL:https://markturcotte.com/event/fore-river-brewing-south-portland-me-3/
LOCATION:Fore River Brewing\, 45 Huntress Ave.\, South Portland\, ME\, 04106\, United States
ATTACH;FMTTYPE=image/jpeg:https://markturcotte.com/wp-content/uploads/250x250_fore_river_brewing.jpg
END:VEVENT
BEGIN:VEVENT
DTSTART;TZID=America/New_York:20180608T190000
DTEND;TZID=America/New_York:20180608T190000
DTSTAMP:20260424T083129
CREATED:20180327T031419Z
LAST-MODIFIED:20180327T031419Z
UID:27348-1528484400-1528484400@markturcotte.com
SUMMARY:Phoenix Karate (Auburn\, ME)
DESCRIPTION:Fundraiser for Greg Lambert\nFacebook Event Page\nGoFundMe Page
URL:https://markturcotte.com/event/phoenix-karate-auburn-me-2/
LOCATION:Phoenix No Limits Karate\, 945 Center St.\, Auburn\, ME\, 04210\, United States
ATTACH;FMTTYPE=image/jpeg:https://markturcotte.com/wp-content/uploads/250_phoenix_karate_academy.jpg
END:VEVENT
BEGIN:VEVENT
DTSTART;TZID=America/New_York:20180609T193000
DTEND;TZID=America/New_York:20180609T193000
DTSTAMP:20260424T083129
CREATED:20170617T161759Z
LAST-MODIFIED:20170617T161759Z
UID:26830-1528572600-1528572600@markturcotte.com
SUMMARY:Johnson Hall (Gardiner\, ME)
DESCRIPTION:
URL:https://markturcotte.com/event/johnson-hall-gardiner-me-6/
LOCATION:Johnson Hall\, 280 Water St.\, Gardiner\, ME\, 04345\, United States
END:VEVENT
BEGIN:VEVENT
DTSTART;TZID=America/New_York:20180611T013000
DTEND;TZID=America/New_York:20180611T013000
DTSTAMP:20260424T083129
CREATED:20171201T160449Z
LAST-MODIFIED:20180611T002709Z
UID:27171-1528680600-1528680600@markturcotte.com
SUMMARY:Project Graduation
DESCRIPTION:
URL:https://markturcotte.com/event/project-graduation/
LOCATION:ME
END:VEVENT
BEGIN:VEVENT
DTSTART;TZID=America/New_York:20180613T200000
DTEND;TZID=America/New_York:20180613T200000
DTSTAMP:20260424T083129
CREATED:20180417T122417Z
LAST-MODIFIED:20180417T122417Z
UID:27425-1528920000-1528920000@markturcotte.com
SUMMARY:Bull Feeney's (Portland\, ME)
DESCRIPTION:
URL:https://markturcotte.com/event/bull-feeneys-portland-me-18/
LOCATION:Bull Feeney’s\, 375 Fore St.\, Portland\, ME\, 04101\, United States
ATTACH;FMTTYPE=image/jpeg:https://markturcotte.com/wp-content/uploads/205_portland_comedy_showcase.jpg
END:VEVENT
BEGIN:VEVENT
DTSTART;TZID=America/New_York:20180614T193000
DTEND;TZID=America/New_York:20180614T193000
DTSTAMP:20260424T083129
CREATED:20180606T131703Z
LAST-MODIFIED:20180606T131703Z
UID:27525-1529004600-1529004600@markturcotte.com
SUMMARY:House of Bacon (Auburn\, ME)
DESCRIPTION:
URL:https://markturcotte.com/event/house-of-bacon-auburn-me-5/
LOCATION:House of Bacon\, 34 Court St\, Auburn\, ME\, Auburn\, ME\, 04210\, United States
ATTACH;FMTTYPE=image/jpeg:https://markturcotte.com/wp-content/uploads/205_house_of_bacon.jpg
END:VEVENT
BEGIN:VEVENT
DTSTART;TZID=America/New_York:20180615T190000
DTEND;TZID=America/New_York:20180615T190000
DTSTAMP:20260424T083129
CREATED:20180211T171053Z
LAST-MODIFIED:20180211T171053Z
UID:27263-1529089200-1529089200@markturcotte.com
SUMMARY:Ramada (Lewiston\, ME)
DESCRIPTION:
URL:https://markturcotte.com/event/ramada-lewiston-me/
LOCATION:Ramada – Lewiston\, ME\, 490 Pleasant St.\, Lewiston\, ME\, 04240\, United States
ATTACH;FMTTYPE=image/jpeg:https://markturcotte.com/wp-content/uploads/250_ramada.jpg
END:VEVENT
BEGIN:VEVENT
DTSTART;TZID=America/New_York:20180616T190000
DTEND;TZID=America/New_York:20180616T190000
DTSTAMP:20260424T083129
CREATED:20180424T201753Z
LAST-MODIFIED:20180424T201753Z
UID:27441-1529175600-1529175600@markturcotte.com
SUMMARY:Topsham Fairgrounds (Topsham\, ME)
DESCRIPTION:Kora Shriners – Private Event
URL:https://markturcotte.com/event/topsham-fairgrounds-topsham-me/
LOCATION:Topsham Fairgrounds\, 54 Elm St.\, Topsham\, ME\, 04086\, United States
END:VEVENT
BEGIN:VEVENT
DTSTART;TZID=America/New_York:20180621T190000
DTEND;TZID=America/New_York:20180621T190000
DTSTAMP:20260424T083129
CREATED:20171022T154213Z
LAST-MODIFIED:20171022T154213Z
UID:27104-1529607600-1529607600@markturcotte.com
SUMMARY:Bear Bones Beer (Lewiston\, ME)
DESCRIPTION:
URL:https://markturcotte.com/event/bear-bones-beer-lewiston-me-17/
LOCATION:Bear Bones Beer\, 43 Lisbon St.\, Lewiston\, ME\, 04240\, United States
ATTACH;FMTTYPE=image/jpeg:https://markturcotte.com/wp-content/uploads/205_bear_bones_beer.jpg
END:VEVENT
BEGIN:VEVENT
DTSTART;TZID=America/New_York:20180623T200000
DTEND;TZID=America/New_York:20180623T200000
DTSTAMP:20260424T083129
CREATED:20180417T122833Z
LAST-MODIFIED:20180417T122833Z
UID:27431-1529784000-1529784000@markturcotte.com
SUMMARY:Headliners (Rockland\, ME)
DESCRIPTION:
URL:https://markturcotte.com/event/headliners-rockland-me/
LOCATION:ME
ATTACH;FMTTYPE=image/jpeg:https://markturcotte.com/wp-content/uploads/credit_headliners.jpg
END:VEVENT
BEGIN:VEVENT
DTSTART;TZID=America/New_York:20180624T190000
DTEND;TZID=America/New_York:20180624T190000
DTSTAMP:20260424T083129
CREATED:20180421T203630Z
LAST-MODIFIED:20180502T144425Z
UID:27439-1529866800-1529866800@markturcotte.com
SUMMARY:Eagles Club (Westbrook\, ME)
DESCRIPTION:
URL:https://markturcotte.com/event/eagles-club-westbrook-me/
LOCATION:Eagles Club (Westbrook\, ME)\, 89 Saco St.\, Westbrook\, ME\, 04092\, United States
ATTACH;FMTTYPE=image/jpeg:https://markturcotte.com/wp-content/uploads/eagles.jpg
END:VEVENT
BEGIN:VEVENT
DTSTART;TZID=America/New_York:20180627T200000
DTEND;TZID=America/New_York:20180627T200000
DTSTAMP:20260424T083129
CREATED:20180417T122501Z
LAST-MODIFIED:20180417T122501Z
UID:27427-1530129600-1530129600@markturcotte.com
SUMMARY:Bull Feeney's (Portland\, ME)
DESCRIPTION:
URL:https://markturcotte.com/event/bull-feeneys-portland-me-19/
LOCATION:Bull Feeney’s\, 375 Fore St.\, Portland\, ME\, 04101\, United States
ATTACH;FMTTYPE=image/jpeg:https://markturcotte.com/wp-content/uploads/205_portland_comedy_showcase.jpg
END:VEVENT
BEGIN:VEVENT
DTSTART;TZID=America/New_York:20180628T190000
DTEND;TZID=America/New_York:20180628T190000
DTSTAMP:20260424T083129
CREATED:20180420T124643Z
LAST-MODIFIED:20180420T124643Z
UID:27433-1530212400-1530212400@markturcotte.com
SUMMARY:Bear Bones Beer (Bridgton\, ME)
DESCRIPTION:
URL:https://markturcotte.com/event/bear-bones-beer-bridgton-me-4/
LOCATION:Bear Bones Beer (Bridgton)\, 2 Cottage St.\, Bridgton\, ME\, 04009\, United States
ATTACH;FMTTYPE=image/jpeg:https://markturcotte.com/wp-content/uploads/205_bear_bones_beer.jpg
END:VEVENT
BEGIN:VEVENT
DTSTART;TZID=America/New_York:20180629T060000
DTEND;TZID=America/New_York:20180629T100000
DTSTAMP:20260424T083129
CREATED:20180620T234332Z
LAST-MODIFIED:20180620T234332Z
UID:27549-1530252000-1530266400@markturcotte.com
SUMMARY:Maine's Big Z
DESCRIPTION:Hosting “The Breakfast Club” Morning Show
URL:https://markturcotte.com/event/maines-big-z-4/
LOCATION:ME
END:VEVENT
BEGIN:VEVENT
DTSTART;TZID=America/New_York:20180629T180000
DTEND;TZID=America/New_York:20180629T180000
DTSTAMP:20260424T083129
CREATED:20180424T202135Z
LAST-MODIFIED:20180424T202241Z
UID:27444-1530295200-1530295200@markturcotte.com
SUMMARY:Art Walk (Lewiston-Auburn\, ME)
DESCRIPTION:In partnership with L/A Arts – 6pm and 7pm performances from Maine Event Comedy comedians. Venues TBA.
URL:https://markturcotte.com/event/art-walk-lewiston-auburn-me/
LOCATION:ME
ATTACH;FMTTYPE=image/jpeg:https://markturcotte.com/wp-content/uploads/250_la_arts.jpg
END:VEVENT
BEGIN:VEVENT
DTSTART;TZID=America/New_York:20180629T200000
DTEND;TZID=America/New_York:20180629T200000
DTSTAMP:20260424T083129
CREATED:20180306T123559Z
LAST-MODIFIED:20180309T150038Z
UID:27315-1530302400-1530302400@markturcotte.com
SUMMARY:Lost Valley (Auburn\, ME)
DESCRIPTION:LHS Boosters
URL:https://markturcotte.com/event/lost-valley-auburn-me-2/
LOCATION:Lost Valley\, 200 Lost Valley Road\, Auburn\, ME\, 04210\, United States
ATTACH;FMTTYPE=image/jpeg:https://markturcotte.com/wp-content/uploads/205_lost_valley.jpg
END:VEVENT
END:VCALENDAR