BEGIN:VCALENDAR
VERSION:2.0
PRODID:-//Mark Turcotte - ECPv6.15.20//NONSGML v1.0//EN
CALSCALE:GREGORIAN
METHOD:PUBLISH
X-WR-CALNAME:Mark Turcotte
X-ORIGINAL-URL:https://markturcotte.com
X-WR-CALDESC:Events for Mark Turcotte
REFRESH-INTERVAL;VALUE=DURATION:PT1H
X-Robots-Tag:noindex
X-PUBLISHED-TTL:PT1H
BEGIN:VTIMEZONE
TZID:America/New_York
BEGIN:DAYLIGHT
TZOFFSETFROM:-0500
TZOFFSETTO:-0400
TZNAME:EDT
DTSTART:20170312T070000
END:DAYLIGHT
BEGIN:STANDARD
TZOFFSETFROM:-0400
TZOFFSETTO:-0500
TZNAME:EST
DTSTART:20171105T060000
END:STANDARD
BEGIN:DAYLIGHT
TZOFFSETFROM:-0500
TZOFFSETTO:-0400
TZNAME:EDT
DTSTART:20180311T070000
END:DAYLIGHT
BEGIN:STANDARD
TZOFFSETFROM:-0400
TZOFFSETTO:-0500
TZNAME:EST
DTSTART:20181104T060000
END:STANDARD
BEGIN:DAYLIGHT
TZOFFSETFROM:-0500
TZOFFSETTO:-0400
TZNAME:EDT
DTSTART:20190310T070000
END:DAYLIGHT
BEGIN:STANDARD
TZOFFSETFROM:-0400
TZOFFSETTO:-0500
TZNAME:EST
DTSTART:20191103T060000
END:STANDARD
END:VTIMEZONE
BEGIN:VEVENT
DTSTART;TZID=America/New_York:20180702T060000
DTEND;TZID=America/New_York:20180702T100000
DTSTAMP:20260424T072725
CREATED:20180620T234419Z
LAST-MODIFIED:20180620T234419Z
UID:27552-1530511200-1530525600@markturcotte.com
SUMMARY:Maine's Big Z
DESCRIPTION:Hosting “The Breakfast Club” Morning Show
URL:https://markturcotte.com/event/maines-big-z-5/
LOCATION:ME
END:VEVENT
BEGIN:VEVENT
DTSTART;TZID=America/New_York:20180703T060000
DTEND;TZID=America/New_York:20180703T100000
DTSTAMP:20260424T072725
CREATED:20180620T234502Z
LAST-MODIFIED:20180620T234502Z
UID:27554-1530597600-1530612000@markturcotte.com
SUMMARY:Maine's Big Z
DESCRIPTION:Hosting “The Breakfast Club” Morning Show
URL:https://markturcotte.com/event/maines-big-z-6/
LOCATION:ME
END:VEVENT
BEGIN:VEVENT
DTSTART;TZID=America/New_York:20180704T060000
DTEND;TZID=America/New_York:20180704T100000
DTSTAMP:20260424T072725
CREATED:20180620T234540Z
LAST-MODIFIED:20180620T234540Z
UID:27556-1530684000-1530698400@markturcotte.com
SUMMARY:Maine's Big Z
DESCRIPTION:Hosting “The Breakfast Club” Morning Show
URL:https://markturcotte.com/event/maines-big-z-7/
LOCATION:ME
END:VEVENT
BEGIN:VEVENT
DTSTART;TZID=America/New_York:20180705T060000
DTEND;TZID=America/New_York:20180705T100000
DTSTAMP:20260424T072725
CREATED:20180620T234619Z
LAST-MODIFIED:20180620T234619Z
UID:27558-1530770400-1530784800@markturcotte.com
SUMMARY:Maine's Big Z
DESCRIPTION:Hosting “The Breakfast Club” Morning Show
URL:https://markturcotte.com/event/maines-big-z-8/
LOCATION:ME
END:VEVENT
BEGIN:VEVENT
DTSTART;TZID=America/New_York:20180705T190000
DTEND;TZID=America/New_York:20180705T190000
DTSTAMP:20260424T072725
CREATED:20180406T184029Z
LAST-MODIFIED:20180406T184029Z
UID:27395-1530817200-1530817200@markturcotte.com
SUMMARY:Fore River Brewing (South Portland\, ME)
DESCRIPTION:
URL:https://markturcotte.com/event/fore-river-brewing-south-portland-me-4/
LOCATION:Fore River Brewing\, 45 Huntress Ave.\, South Portland\, ME\, 04106\, United States
ATTACH;FMTTYPE=image/jpeg:https://markturcotte.com/wp-content/uploads/250x250_fore_river_brewing.jpg
END:VEVENT
BEGIN:VEVENT
DTSTART;TZID=America/New_York:20180706T060000
DTEND;TZID=America/New_York:20180706T100000
DTSTAMP:20260424T072725
CREATED:20180620T234653Z
LAST-MODIFIED:20180620T234653Z
UID:27560-1530856800-1530871200@markturcotte.com
SUMMARY:Maine's Big Z
DESCRIPTION:Hosting “The Breakfast Club” Morning Show
URL:https://markturcotte.com/event/maines-big-z-9/
LOCATION:ME
END:VEVENT
BEGIN:VEVENT
DTSTART;TZID=America/New_York:20180706T190000
DTEND;TZID=America/New_York:20180706T190000
DTSTAMP:20260424T072725
CREATED:20170916T101737Z
LAST-MODIFIED:20180601T022713Z
UID:27028-1530903600-1530903600@markturcotte.com
SUMMARY:Baxter Brewing (Lewiston\, ME)
DESCRIPTION:
URL:https://markturcotte.com/event/baxter-brewing-lewiston-me-17/
LOCATION:Baxter Brewing\, 130 Mill St.\, Lewiston\, ME\, 04240\, United States
ATTACH;FMTTYPE=image/jpeg:https://markturcotte.com/wp-content/uploads/baxter_brewing_250x250.jpg
END:VEVENT
BEGIN:VEVENT
DTSTART;TZID=America/New_York:20180707T200000
DTEND;TZID=America/New_York:20180707T200000
DTSTAMP:20260424T072725
CREATED:20180607T202723Z
LAST-MODIFIED:20180607T202723Z
UID:27528-1530993600-1530993600@markturcotte.com
SUMMARY:St. Lawrence Arts Center (Portland\, ME)
DESCRIPTION:
URL:https://markturcotte.com/event/st-lawrence-arts-center-portland-me/
LOCATION:St. Lawrence Arts Center\, 76 Congress St.\, Portland\, ME\, 04101\, United States
END:VEVENT
BEGIN:VEVENT
DTSTART;TZID=America/New_York:20180708T193000
DTEND;TZID=America/New_York:20180708T193000
DTSTAMP:20260424T072725
CREATED:20180525T172824Z
LAST-MODIFIED:20180525T172824Z
UID:27484-1531078200-1531078200@markturcotte.com
SUMMARY:Empire (Portland\, ME)
DESCRIPTION:
URL:https://markturcotte.com/event/empire-portland-me-13/
LOCATION:Empire\, 575 Congress St.\, Portland\, ME\, 04101\, United States
ATTACH;FMTTYPE=image/jpeg:https://markturcotte.com/wp-content/uploads/205_empire.jpg
END:VEVENT
BEGIN:VEVENT
DTSTART;TZID=America/New_York:20180711T200000
DTEND;TZID=America/New_York:20180711T200000
DTSTAMP:20260424T072725
CREATED:20180417T122545Z
LAST-MODIFIED:20180417T122545Z
UID:27429-1531339200-1531339200@markturcotte.com
SUMMARY:Bull Feeney's (Portland\, ME)
DESCRIPTION:
URL:https://markturcotte.com/event/bull-feeneys-portland-me-20/
LOCATION:Bull Feeney’s\, 375 Fore St.\, Portland\, ME\, 04101\, United States
ATTACH;FMTTYPE=image/jpeg:https://markturcotte.com/wp-content/uploads/205_portland_comedy_showcase.jpg
END:VEVENT
BEGIN:VEVENT
DTSTART;TZID=America/New_York:20180712T220000
DTEND;TZID=America/New_York:20180712T220000
DTSTAMP:20260424T072725
CREATED:20180401T114458Z
LAST-MODIFIED:20180527T141851Z
UID:27365-1531432800-1531432800@markturcotte.com
SUMMARY:Comix at Mohegan Sun (Uncasville\, CT)
DESCRIPTION:
URL:https://markturcotte.com/event/comix-at-mohegan-sun-uncasville-ct/
LOCATION:Comix at Mohegan Sun\, 1 Mohegan Sun Blvd.\, Uncasville\, CT\, 06382\, United States
ATTACH;FMTTYPE=image/jpeg:https://markturcotte.com/wp-content/uploads/credit_comix_at_mohegan.jpg
END:VEVENT
BEGIN:VEVENT
DTSTART;TZID=America/New_York:20180713T190000
DTEND;TZID=America/New_York:20180713T190000
DTSTAMP:20260424T072725
CREATED:20170812T123051Z
LAST-MODIFIED:20170812T123051Z
UID:26941-1531508400-1531508400@markturcotte.com
SUMMARY:Somerset Abbey (Madison\, ME)
DESCRIPTION:
URL:https://markturcotte.com/event/somerset-abbey-madison-me-13/
LOCATION:Somerset Abbey\, 98 Main St.\, Madison\, ME\, 04950\, United States
ATTACH;FMTTYPE=image/jpeg:https://markturcotte.com/wp-content/uploads/205_somerset_abbey.jpg
END:VEVENT
BEGIN:VEVENT
DTSTART;VALUE=DATE:20180714
DTEND;VALUE=DATE:20180715
DTSTAMP:20260424T072725
CREATED:20180301T205845Z
LAST-MODIFIED:20180301T205845Z
UID:27304-1531526400-1531612799@markturcotte.com
SUMMARY:Unavailable
DESCRIPTION:
URL:https://markturcotte.com/event/unavailable-6/
LOCATION:ME
END:VEVENT
BEGIN:VEVENT
DTSTART;TZID=America/New_York:20180717T060000
DTEND;TZID=America/New_York:20180717T100000
DTSTAMP:20260424T072725
CREATED:20180711T150745Z
LAST-MODIFIED:20180711T150745Z
UID:27571-1531807200-1531821600@markturcotte.com
SUMMARY:Maine's Big Z
DESCRIPTION:Hosting The Breakfast Club morning show
URL:https://markturcotte.com/event/maines-big-z-10/
LOCATION:ME
END:VEVENT
BEGIN:VEVENT
DTSTART;TZID=America/New_York:20180719T190000
DTEND;TZID=America/New_York:20180719T190000
DTSTAMP:20260424T072725
CREATED:20171022T154255Z
LAST-MODIFIED:20171022T154255Z
UID:27106-1532026800-1532026800@markturcotte.com
SUMMARY:Bear Bones Beer (Lewiston\, ME)
DESCRIPTION:
URL:https://markturcotte.com/event/bear-bones-beer-lewiston-me-18/
LOCATION:Bear Bones Beer\, 43 Lisbon St.\, Lewiston\, ME\, 04240\, United States
ATTACH;FMTTYPE=image/jpeg:https://markturcotte.com/wp-content/uploads/205_bear_bones_beer.jpg
END:VEVENT
BEGIN:VEVENT
DTSTART;TZID=America/New_York:20180720T200000
DTEND;TZID=America/New_York:20180720T200000
DTSTAMP:20260424T072725
CREATED:20180405T125234Z
LAST-MODIFIED:20180502T144537Z
UID:27387-1532116800-1532116800@markturcotte.com
SUMMARY:One Longfellow Square (Portland\, ME)
DESCRIPTION:
URL:https://markturcotte.com/event/one-longfellow-square-portland-me/
LOCATION:One Longfellow Square\, 181 State St\, Portland\, ME\, Portland\, ME\, 04101\, United States
ATTACH;FMTTYPE=image/jpeg:https://markturcotte.com/wp-content/uploads/250_one_longfellow_square.jpg
END:VEVENT
BEGIN:VEVENT
DTSTART;TZID=America/New_York:20180726T190000
DTEND;TZID=America/New_York:20180726T190000
DTSTAMP:20260424T072725
CREATED:20180420T124726Z
LAST-MODIFIED:20180420T124726Z
UID:27435-1532631600-1532631600@markturcotte.com
SUMMARY:Bear Bones Beer (Bridgton\, ME)
DESCRIPTION:
URL:https://markturcotte.com/event/bear-bones-beer-bridgton-me-5/
LOCATION:Bear Bones Beer (Bridgton)\, 2 Cottage St.\, Bridgton\, ME\, 04009\, United States
ATTACH;FMTTYPE=image/jpeg:https://markturcotte.com/wp-content/uploads/205_bear_bones_beer.jpg
END:VEVENT
BEGIN:VEVENT
DTSTART;TZID=America/New_York:20180728T200000
DTEND;TZID=America/New_York:20180728T200000
DTSTAMP:20260424T072725
CREATED:20180427T022928Z
LAST-MODIFIED:20180427T022928Z
UID:27452-1532808000-1532808000@markturcotte.com
SUMMARY:Elks Lodge (Skowhegan\, ME)
DESCRIPTION:
URL:https://markturcotte.com/event/elks-lodge-skowhegan-me/
LOCATION:Elks Lodge (Skowhegan\, ME)\, 21 Silver St\, Skowhegan\, ME\, Skowhegan\, ME\, 04976\, United States
ATTACH;FMTTYPE=image/jpeg:https://markturcotte.com/wp-content/uploads/205_elks.jpg
END:VEVENT
END:VCALENDAR