BEGIN:VCALENDAR
VERSION:2.0
PRODID:-//Mark Turcotte - ECPv6.15.20//NONSGML v1.0//EN
CALSCALE:GREGORIAN
METHOD:PUBLISH
X-ORIGINAL-URL:https://markturcotte.com
X-WR-CALDESC:Events for Mark Turcotte
REFRESH-INTERVAL;VALUE=DURATION:PT1H
X-Robots-Tag:noindex
X-PUBLISHED-TTL:PT1H
BEGIN:VTIMEZONE
TZID:America/New_York
BEGIN:DAYLIGHT
TZOFFSETFROM:-0500
TZOFFSETTO:-0400
TZNAME:EDT
DTSTART:20170312T070000
END:DAYLIGHT
BEGIN:STANDARD
TZOFFSETFROM:-0400
TZOFFSETTO:-0500
TZNAME:EST
DTSTART:20171105T060000
END:STANDARD
BEGIN:DAYLIGHT
TZOFFSETFROM:-0500
TZOFFSETTO:-0400
TZNAME:EDT
DTSTART:20180311T070000
END:DAYLIGHT
BEGIN:STANDARD
TZOFFSETFROM:-0400
TZOFFSETTO:-0500
TZNAME:EST
DTSTART:20181104T060000
END:STANDARD
BEGIN:DAYLIGHT
TZOFFSETFROM:-0500
TZOFFSETTO:-0400
TZNAME:EDT
DTSTART:20190310T070000
END:DAYLIGHT
BEGIN:STANDARD
TZOFFSETFROM:-0400
TZOFFSETTO:-0500
TZNAME:EST
DTSTART:20191103T060000
END:STANDARD
END:VTIMEZONE
BEGIN:VEVENT
DTSTART;TZID=America/New_York:20180901T200000
DTEND;TZID=America/New_York:20180901T200000
DTSTAMP:20260424T050012
CREATED:20180511T123331Z
LAST-MODIFIED:20180609T125522Z
UID:27467-1535832000-1535832000@markturcotte.com
SUMMARY:Island Dog Brewing (South Portland\, ME)
DESCRIPTION:
URL:https://markturcotte.com/event/island-dog-brewing-south-portland-me-2/
LOCATION:Island Dog Brewing\, 125 John Roberts Rd.\, South Portland\, ME\, 04106\, United States
ATTACH;FMTTYPE=image/jpeg:https://markturcotte.com/wp-content/uploads/island_dog_brewing_250.jpg
END:VEVENT
BEGIN:VEVENT
DTSTART;TZID=America/New_York:20180905T103000
DTEND;TZID=America/New_York:20180905T103000
DTSTAMP:20260424T050012
CREATED:20180907T130435Z
LAST-MODIFIED:20180907T130435Z
UID:27770-1536143400-1536143400@markturcotte.com
SUMMARY:Bacon 'n Bits Podcast
DESCRIPTION:
URL:https://markturcotte.com/event/bacon-n-bits-podcast-6/
LOCATION:House of Bacon\, 34 Court St\, Auburn\, ME\, Auburn\, ME\, 04210\, United States
END:VEVENT
BEGIN:VEVENT
DTSTART;TZID=America/New_York:20180905T200000
DTEND;TZID=America/New_York:20180905T200000
DTSTAMP:20260424T050012
CREATED:20180709T105521Z
LAST-MODIFIED:20180709T105521Z
UID:27567-1536177600-1536177600@markturcotte.com
SUMMARY:Bull Feeney's (Portland\, ME)
DESCRIPTION:
URL:https://markturcotte.com/event/bull-feeneys-portland-me-23/
LOCATION:Bull Feeney’s\, 375 Fore St.\, Portland\, ME\, 04101\, United States
ATTACH;FMTTYPE=image/jpeg:https://markturcotte.com/wp-content/uploads/205_portland_comedy_showcase.jpg
END:VEVENT
BEGIN:VEVENT
DTSTART;TZID=America/New_York:20180906T190000
DTEND;TZID=America/New_York:20180906T190000
DTSTAMP:20260424T050012
CREATED:20180406T184134Z
LAST-MODIFIED:20180406T184134Z
UID:27399-1536260400-1536260400@markturcotte.com
SUMMARY:Fore River Brewing (South Portland\, ME)
DESCRIPTION:
URL:https://markturcotte.com/event/fore-river-brewing-south-portland-me-6/
LOCATION:Fore River Brewing\, 45 Huntress Ave.\, South Portland\, ME\, 04106\, United States
ATTACH;FMTTYPE=image/jpeg:https://markturcotte.com/wp-content/uploads/250x250_fore_river_brewing.jpg
END:VEVENT
BEGIN:VEVENT
DTSTART;TZID=America/New_York:20180907T190000
DTEND;TZID=America/New_York:20180907T190000
DTSTAMP:20260424T050012
CREATED:20170916T101906Z
LAST-MODIFIED:20180601T022605Z
UID:27032-1536346800-1536346800@markturcotte.com
SUMMARY:Baxter Brewing (Lewiston\, ME)
DESCRIPTION:
URL:https://markturcotte.com/event/baxter-brewing-lewiston-me-19/
LOCATION:Baxter Brewing\, 130 Mill St.\, Lewiston\, ME\, 04240\, United States
ATTACH;FMTTYPE=image/jpeg:https://markturcotte.com/wp-content/uploads/baxter_brewing_250x250.jpg
END:VEVENT
BEGIN:VEVENT
DTSTART;TZID=America/New_York:20180912T103000
DTEND;TZID=America/New_York:20180912T103000
DTSTAMP:20260424T050012
CREATED:20180907T125745Z
LAST-MODIFIED:20180907T130218Z
UID:27763-1536748200-1536748200@markturcotte.com
SUMMARY:Bacon 'n Bits Podcast
DESCRIPTION:
URL:https://markturcotte.com/event/bacon-n-bits-podcast-3/
LOCATION:House of Bacon\, 34 Court St\, Auburn\, ME\, Auburn\, ME\, 04210\, United States
END:VEVENT
BEGIN:VEVENT
DTSTART;TZID=America/New_York:20180914T190000
DTEND;TZID=America/New_York:20180914T190000
DTSTAMP:20260424T050012
CREATED:20180511T122602Z
LAST-MODIFIED:20180511T122602Z
UID:27462-1536951600-1536951600@markturcotte.com
SUMMARY:Private Event
DESCRIPTION:
URL:https://markturcotte.com/event/private-event-6/
LOCATION:Thomas College\, 180 West River Rd.\, Waterville\, ME\, 04901\, United States
END:VEVENT
BEGIN:VEVENT
DTSTART;TZID=America/New_York:20180915T193000
DTEND;TZID=America/New_York:20180915T193000
DTSTAMP:20260424T050012
CREATED:20180531T195902Z
LAST-MODIFIED:20180531T195902Z
UID:27489-1537039800-1537039800@markturcotte.com
SUMMARY:Johnson Hall (Gardiner\, ME)
DESCRIPTION:
URL:https://markturcotte.com/event/johnson-hall-gardiner-me-7/
LOCATION:Johnson Hall\, 280 Water St.\, Gardiner\, ME\, 04345\, United States
ATTACH;FMTTYPE=image/jpeg:https://markturcotte.com/wp-content/uploads/johnson_hall_250x250.jpg
END:VEVENT
BEGIN:VEVENT
DTSTART;TZID=America/New_York:20180919T103000
DTEND;TZID=America/New_York:20180919T103000
DTSTAMP:20260424T050012
CREATED:20180907T125836Z
LAST-MODIFIED:20180907T130307Z
UID:27765-1537353000-1537353000@markturcotte.com
SUMMARY:Bacon 'n Bits Podcast
DESCRIPTION:
URL:https://markturcotte.com/event/bacon-n-bits-podcast-4/
LOCATION:House of Bacon\, 34 Court St\, Auburn\, ME\, Auburn\, ME\, 04210\, United States
END:VEVENT
BEGIN:VEVENT
DTSTART;TZID=America/New_York:20180919T200000
DTEND;TZID=America/New_York:20180919T200000
DTSTAMP:20260424T050012
CREATED:20180709T105609Z
LAST-MODIFIED:20180709T105609Z
UID:27569-1537387200-1537387200@markturcotte.com
SUMMARY:Bull Feeney's (Portland\, ME)
DESCRIPTION:
URL:https://markturcotte.com/event/bull-feeneys-portland-me-24/
LOCATION:Bull Feeney’s\, 375 Fore St.\, Portland\, ME\, 04101\, United States
ATTACH;FMTTYPE=image/jpeg:https://markturcotte.com/wp-content/uploads/205_portland_comedy_showcase.jpg
END:VEVENT
BEGIN:VEVENT
DTSTART;TZID=America/New_York:20180920T190000
DTEND;TZID=America/New_York:20180920T190000
DTSTAMP:20260424T050012
CREATED:20171022T154421Z
LAST-MODIFIED:20171022T154421Z
UID:27110-1537470000-1537470000@markturcotte.com
SUMMARY:Bear Bones Beer (Lewiston\, ME)
DESCRIPTION:
URL:https://markturcotte.com/event/bear-bones-beer-lewiston-me-20/
LOCATION:Bear Bones Beer\, 43 Lisbon St.\, Lewiston\, ME\, 04240\, United States
ATTACH;FMTTYPE=image/jpeg:https://markturcotte.com/wp-content/uploads/205_bear_bones_beer.jpg
END:VEVENT
BEGIN:VEVENT
DTSTART;TZID=America/New_York:20180921T200000
DTEND;TZID=America/New_York:20180921T200000
DTSTAMP:20260424T050012
CREATED:20180620T032314Z
LAST-MODIFIED:20180620T032314Z
UID:27541-1537560000-1537560000@markturcotte.com
SUMMARY:Bangor Beer Co. (Bangor\, ME)
DESCRIPTION:
URL:https://markturcotte.com/event/bangor-beer-co-bangor-me-3/
LOCATION:Bangor Beer Company\, 330 Bangor Mall Blvd.\, Bangor\, ME\, 04401\, United States
ATTACH;FMTTYPE=image/jpeg:https://markturcotte.com/wp-content/uploads/250_bangor_beer_co.jpg
END:VEVENT
BEGIN:VEVENT
DTSTART;TZID=America/New_York:20180926T103000
DTEND;TZID=America/New_York:20180926T103000
DTSTAMP:20260424T050012
CREATED:20180907T125928Z
LAST-MODIFIED:20180907T130126Z
UID:27767-1537957800-1537957800@markturcotte.com
SUMMARY:Bacon 'n Bits Podcast
DESCRIPTION:
URL:https://markturcotte.com/event/bacon-n-bits-podcast-5/
LOCATION:House of Bacon\, 34 Court St\, Auburn\, ME\, Auburn\, ME\, 04210\, United States
END:VEVENT
BEGIN:VEVENT
DTSTART;TZID=America/New_York:20180928T200000
DTEND;TZID=America/New_York:20180928T200000
DTSTAMP:20260424T050012
CREATED:20180507T194511Z
LAST-MODIFIED:20180709T105055Z
UID:27460-1538164800-1538164800@markturcotte.com
SUMMARY:House of Bacon (Auburn\, ME)
DESCRIPTION:
URL:https://markturcotte.com/event/house-of-bacon-auburn-me-4/
LOCATION:House of Bacon\, 34 Court St\, Auburn\, ME\, Auburn\, ME\, 04210\, United States
ATTACH;FMTTYPE=image/jpeg:https://markturcotte.com/wp-content/uploads/205_house_of_bacon.jpg
END:VEVENT
BEGIN:VEVENT
DTSTART;TZID=America/New_York:20180929T200000
DTEND;TZID=America/New_York:20180929T200000
DTSTAMP:20260424T050012
CREATED:20180726T152138Z
LAST-MODIFIED:20180726T152138Z
UID:27594-1538251200-1538251200@markturcotte.com
SUMMARY:Mystic Theater (Rumford\, ME)
DESCRIPTION:
URL:https://markturcotte.com/event/mystic-theater-rumford-me-7/
LOCATION:Mystic Theater at 49 Franklin\, 49 Franklin St.\, Rumford\, ME\, 04276\, United States
ATTACH;FMTTYPE=image/jpeg:https://markturcotte.com/wp-content/uploads/205_49_franklin.jpg
END:VEVENT
END:VCALENDAR