BEGIN:VCALENDAR
VERSION:2.0
PRODID:-//Mark Turcotte - ECPv6.15.20//NONSGML v1.0//EN
CALSCALE:GREGORIAN
METHOD:PUBLISH
X-ORIGINAL-URL:https://markturcotte.com
X-WR-CALDESC:Events for Mark Turcotte
REFRESH-INTERVAL;VALUE=DURATION:PT1H
X-Robots-Tag:noindex
X-PUBLISHED-TTL:PT1H
BEGIN:VTIMEZONE
TZID:America/New_York
BEGIN:DAYLIGHT
TZOFFSETFROM:-0500
TZOFFSETTO:-0400
TZNAME:EDT
DTSTART:20170312T070000
END:DAYLIGHT
BEGIN:STANDARD
TZOFFSETFROM:-0400
TZOFFSETTO:-0500
TZNAME:EST
DTSTART:20171105T060000
END:STANDARD
BEGIN:DAYLIGHT
TZOFFSETFROM:-0500
TZOFFSETTO:-0400
TZNAME:EDT
DTSTART:20180311T070000
END:DAYLIGHT
BEGIN:STANDARD
TZOFFSETFROM:-0400
TZOFFSETTO:-0500
TZNAME:EST
DTSTART:20181104T060000
END:STANDARD
BEGIN:DAYLIGHT
TZOFFSETFROM:-0500
TZOFFSETTO:-0400
TZNAME:EDT
DTSTART:20190310T070000
END:DAYLIGHT
BEGIN:STANDARD
TZOFFSETFROM:-0400
TZOFFSETTO:-0500
TZNAME:EST
DTSTART:20191103T060000
END:STANDARD
END:VTIMEZONE
BEGIN:VEVENT
DTSTART;TZID=America/New_York:20181101T190000
DTEND;TZID=America/New_York:20181101T190000
DTSTAMP:20260424T023307
CREATED:20180406T184248Z
LAST-MODIFIED:20180406T184248Z
UID:27403-1541098800-1541098800@markturcotte.com
SUMMARY:Fore River Brewing (South Portland\, ME)
DESCRIPTION:
URL:https://markturcotte.com/event/fore-river-brewing-south-portland-me-8/
LOCATION:Fore River Brewing\, 45 Huntress Ave.\, South Portland\, ME\, 04106\, United States
ATTACH;FMTTYPE=image/jpeg:https://markturcotte.com/wp-content/uploads/250x250_fore_river_brewing.jpg
END:VEVENT
BEGIN:VEVENT
DTSTART;TZID=America/New_York:20181102T120000
DTEND;TZID=America/New_York:20181102T120000
DTSTAMP:20260424T023307
CREATED:20180925T192857Z
LAST-MODIFIED:20181006T123141Z
UID:27803-1541160000-1541160000@markturcotte.com
SUMMARY:Bacon 'n Bits Podcast
DESCRIPTION:
URL:https://markturcotte.com/event/bacon-n-bits-podcast-12/
LOCATION:Fitts’ Bar & Grill\, 150 Center St.\, Auburn\, ME\, 04210\, United States
END:VEVENT
BEGIN:VEVENT
DTSTART;TZID=America/New_York:20181103T200000
DTEND;TZID=America/New_York:20181103T200000
DTSTAMP:20260424T023307
CREATED:20180511T123421Z
LAST-MODIFIED:20180609T125706Z
UID:27471-1541275200-1541275200@markturcotte.com
SUMMARY:Island Dog Brewing (South Portland\, ME)
DESCRIPTION:
URL:https://markturcotte.com/event/island-dog-brewing-south-portland-me-4/
LOCATION:Island Dog Brewing\, 125 John Roberts Rd.\, South Portland\, ME\, 04106\, United States
ATTACH;FMTTYPE=image/jpeg:https://markturcotte.com/wp-content/uploads/island_dog_brewing_250.jpg
END:VEVENT
BEGIN:VEVENT
DTSTART;TZID=America/New_York:20181107T200000
DTEND;TZID=America/New_York:20181107T200000
DTSTAMP:20260424T023307
CREATED:20180912T120247Z
LAST-MODIFIED:20180912T120247Z
UID:27778-1541620800-1541620800@markturcotte.com
SUMMARY:Bull Feeney's (Portland\, ME)
DESCRIPTION:
URL:https://markturcotte.com/event/bull-feeneys-portland-me-26/
LOCATION:Bull Feeney’s\, 375 Fore St.\, Portland\, ME\, 04101\, United States
ATTACH;FMTTYPE=image/jpeg:https://markturcotte.com/wp-content/uploads/205_portland_comedy_showcase.jpg
END:VEVENT
BEGIN:VEVENT
DTSTART;TZID=America/New_York:20181109T130000
DTEND;TZID=America/New_York:20181109T130000
DTSTAMP:20260424T023307
CREATED:20181021T222437Z
LAST-MODIFIED:20181107T222708Z
UID:27943-1541768400-1541768400@markturcotte.com
SUMMARY:Bacon 'n Bits Podcast
DESCRIPTION:
URL:https://markturcotte.com/event/bacon-n-bits-podcast-13/
LOCATION:Fitts’ Bar & Grill\, 150 Center St.\, Auburn\, ME\, 04210\, United States
ATTACH;FMTTYPE=image/jpeg:https://markturcotte.com/wp-content/uploads/bnb_250_new.jpg
END:VEVENT
BEGIN:VEVENT
DTSTART;TZID=America/New_York:20181109T190000
DTEND;TZID=America/New_York:20181109T190000
DTSTAMP:20260424T023307
CREATED:20170812T123254Z
LAST-MODIFIED:20170812T123254Z
UID:26947-1541790000-1541790000@markturcotte.com
SUMMARY:Somerset Abbey (Madison\, ME)
DESCRIPTION:
URL:https://markturcotte.com/event/somerset-abbey-madison-me-16/
LOCATION:Somerset Abbey\, 98 Main St.\, Madison\, ME\, 04950\, United States
ATTACH;FMTTYPE=image/jpeg:https://markturcotte.com/wp-content/uploads/205_somerset_abbey.jpg
END:VEVENT
BEGIN:VEVENT
DTSTART;TZID=America/New_York:20181110T203000
DTEND;TZID=America/New_York:20181110T203000
DTSTAMP:20260424T023307
CREATED:20180821T230748Z
LAST-MODIFIED:20180821T230748Z
UID:27742-1541881800-1541881800@markturcotte.com
SUMMARY:Headliners (Manchester\, NH)
DESCRIPTION:
URL:https://markturcotte.com/event/headliners-manchester-nh-7/
LOCATION:Headliners Comedy Club\, 700 Elm St.\, Manchester\, NH\, United States
ATTACH;FMTTYPE=image/jpeg:https://markturcotte.com/wp-content/uploads/credit_headliners.jpg
END:VEVENT
BEGIN:VEVENT
DTSTART;TZID=America/New_York:20181111T180000
DTEND;TZID=America/New_York:20181111T180000
DTSTAMP:20260424T023307
CREATED:20181015T133218Z
LAST-MODIFIED:20181015T133218Z
UID:27923-1541959200-1541959200@markturcotte.com
SUMMARY:The Gold Room (Portland\, ME)
DESCRIPTION:
URL:https://markturcotte.com/event/the-gold-room-portland-me-5/
LOCATION:The Gold Room\,  512 Warren Ave.\, Portland\, ME\, 04103\, United States
ATTACH;FMTTYPE=image/jpeg:https://markturcotte.com/wp-content/uploads/205_the_gold_room.jpg
END:VEVENT
BEGIN:VEVENT
DTSTART;TZID=America/New_York:20181113T190000
DTEND;TZID=America/New_York:20181113T190000
DTSTAMP:20260424T023307
CREATED:20181107T222156Z
LAST-MODIFIED:20181107T222156Z
UID:27978-1542135600-1542135600@markturcotte.com
SUMMARY:84 Court (Auburn\, ME)
DESCRIPTION:
URL:https://markturcotte.com/event/84-court-auburn-me/
LOCATION:84 Court\, 84 Court St.\, Auburn\, ME\, 04210\, United States
ATTACH;FMTTYPE=image/jpeg:https://markturcotte.com/wp-content/uploads/84court_250.jpg
END:VEVENT
BEGIN:VEVENT
DTSTART;TZID=America/New_York:20181115T190000
DTEND;TZID=America/New_York:20181115T190000
DTSTAMP:20260424T023307
CREATED:20171022T154550Z
LAST-MODIFIED:20171022T154550Z
UID:27114-1542308400-1542308400@markturcotte.com
SUMMARY:Bear Bones Beer (Lewiston\, ME)
DESCRIPTION:
URL:https://markturcotte.com/event/bear-bones-beer-lewiston-me-22/
LOCATION:Bear Bones Beer\, 43 Lisbon St.\, Lewiston\, ME\, 04240\, United States
ATTACH;FMTTYPE=image/jpeg:https://markturcotte.com/wp-content/uploads/205_bear_bones_beer.jpg
END:VEVENT
BEGIN:VEVENT
DTSTART;TZID=America/New_York:20181116T130000
DTEND;TZID=America/New_York:20181116T130000
DTSTAMP:20260424T023307
CREATED:20181021T222520Z
LAST-MODIFIED:20181107T222829Z
UID:27945-1542373200-1542373200@markturcotte.com
SUMMARY:Bacon 'n Bits Podcast
DESCRIPTION:
URL:https://markturcotte.com/event/bacon-n-bits-podcast-14/
LOCATION:Fitts’ Bar & Grill\, 150 Center St.\, Auburn\, ME\, 04210\, United States
ATTACH;FMTTYPE=image/jpeg:https://markturcotte.com/wp-content/uploads/bnb_250_new.jpg
END:VEVENT
BEGIN:VEVENT
DTSTART;TZID=America/New_York:20181116T203000
DTEND;TZID=America/New_York:20181116T203000
DTSTAMP:20260424T023307
CREATED:20181027T180328Z
LAST-MODIFIED:20181027T180328Z
UID:27964-1542400200-1542400200@markturcotte.com
SUMMARY:Bangor Beer Co. (Bangor\, ME)
DESCRIPTION:
URL:https://markturcotte.com/event/bangor-beer-co-bangor-me-5/
LOCATION:Bangor Beer Company\, 330 Bangor Mall Blvd.\, Bangor\, ME\, 04401\, United States
ATTACH;FMTTYPE=image/jpeg:https://markturcotte.com/wp-content/uploads/250_bangor_beer_co.jpg
END:VEVENT
BEGIN:VEVENT
DTSTART;TZID=America/New_York:20181117T193000
DTEND;TZID=America/New_York:20181117T193000
DTSTAMP:20260424T023307
CREATED:20180531T200019Z
LAST-MODIFIED:20180531T200019Z
UID:27494-1542483000-1542483000@markturcotte.com
SUMMARY:Johnson Hall (Gardiner\, ME)
DESCRIPTION:
URL:https://markturcotte.com/event/johnson-hall-gardiner-me-9/
LOCATION:Johnson Hall\, 280 Water St.\, Gardiner\, ME\, 04345\, United States
ATTACH;FMTTYPE=image/jpeg:https://markturcotte.com/wp-content/uploads/johnson_hall_250x250.jpg
END:VEVENT
BEGIN:VEVENT
DTSTART;TZID=America/New_York:20181119T060000
DTEND;TZID=America/New_York:20181119T090000
DTSTAMP:20260424T023307
CREATED:20181021T222833Z
LAST-MODIFIED:20181021T222833Z
UID:27952-1542607200-1542618000@markturcotte.com
SUMMARY:Maine's Big Z
DESCRIPTION:
URL:https://markturcotte.com/event/maines-big-z-16/
LOCATION:Maine’s Big Z\, 555 Center St.\, Auburn\, ME\, 04210\, United States
END:VEVENT
BEGIN:VEVENT
DTSTART;TZID=America/New_York:20181120T060000
DTEND;TZID=America/New_York:20181120T090000
DTSTAMP:20260424T023307
CREATED:20181021T222927Z
LAST-MODIFIED:20181021T223011Z
UID:27954-1542693600-1542704400@markturcotte.com
SUMMARY:Maine's Big Z
DESCRIPTION:
URL:https://markturcotte.com/event/maines-big-z-17/
LOCATION:Maine’s Big Z\, 555 Center St.\, Auburn\, ME\, 04210\, United States
END:VEVENT
BEGIN:VEVENT
DTSTART;TZID=America/New_York:20181121T060000
DTEND;TZID=America/New_York:20181121T090000
DTSTAMP:20260424T023307
CREATED:20181021T223106Z
LAST-MODIFIED:20181021T223106Z
UID:27956-1542780000-1542790800@markturcotte.com
SUMMARY:Maine's Big Z
DESCRIPTION:
URL:https://markturcotte.com/event/maines-big-z-18/
LOCATION:Maine’s Big Z\, 555 Center St.\, Auburn\, ME\, 04210\, United States
END:VEVENT
BEGIN:VEVENT
DTSTART;TZID=America/New_York:20181121T200000
DTEND;TZID=America/New_York:20181121T200000
DTSTAMP:20260424T023307
CREATED:20180912T120350Z
LAST-MODIFIED:20180912T120350Z
UID:27780-1542830400-1542830400@markturcotte.com
SUMMARY:Bull Feeney's (Portland\, ME)
DESCRIPTION:
URL:https://markturcotte.com/event/bull-feeneys-portland-me-27/
LOCATION:Bull Feeney’s\, 375 Fore St.\, Portland\, ME\, 04101\, United States
ATTACH;FMTTYPE=image/jpeg:https://markturcotte.com/wp-content/uploads/205_portland_comedy_showcase.jpg
END:VEVENT
BEGIN:VEVENT
DTSTART;TZID=America/New_York:20181122T060000
DTEND;TZID=America/New_York:20181122T090000
DTSTAMP:20260424T023307
CREATED:20181021T223156Z
LAST-MODIFIED:20181021T223156Z
UID:27958-1542866400-1542877200@markturcotte.com
SUMMARY:Maine's Big Z
DESCRIPTION:
URL:https://markturcotte.com/event/maines-big-z-19/
LOCATION:Maine’s Big Z\, 555 Center St.\, Auburn\, ME\, 04210\, United States
END:VEVENT
BEGIN:VEVENT
DTSTART;TZID=America/New_York:20181123T060000
DTEND;TZID=America/New_York:20181123T210000
DTSTAMP:20260424T023307
CREATED:20181021T223248Z
LAST-MODIFIED:20181021T223248Z
UID:27960-1542952800-1543006800@markturcotte.com
SUMMARY:Maine's Big Z
DESCRIPTION:
URL:https://markturcotte.com/event/maines-big-z-20/
LOCATION:Maine’s Big Z\, 555 Center St.\, Auburn\, ME\, 04210\, United States
END:VEVENT
BEGIN:VEVENT
DTSTART;TZID=America/New_York:20181123T130000
DTEND;TZID=America/New_York:20181123T130000
DTSTAMP:20260424T023307
CREATED:20181021T222614Z
LAST-MODIFIED:20181107T223531Z
UID:27947-1542978000-1542978000@markturcotte.com
SUMMARY:Bacon 'n Bits Podcast
DESCRIPTION:
URL:https://markturcotte.com/event/bacon-n-bits-podcast-15/
LOCATION:Fitts’ Bar & Grill\, 150 Center St.\, Auburn\, ME\, 04210\, United States
ATTACH;FMTTYPE=image/jpeg:https://markturcotte.com/wp-content/uploads/bnb_250_new.jpg
END:VEVENT
BEGIN:VEVENT
DTSTART;TZID=America/New_York:20181124T200000
DTEND;TZID=America/New_York:20181124T200000
DTSTAMP:20260424T023307
CREATED:20180726T152233Z
LAST-MODIFIED:20180726T152233Z
UID:27596-1543089600-1543089600@markturcotte.com
SUMMARY:Mystic Theater (Rumford\, ME)
DESCRIPTION:
URL:https://markturcotte.com/event/mystic-theater-rumford-me-8/
LOCATION:Mystic Theater at 49 Franklin\, 49 Franklin St.\, Rumford\, ME\, 04276\, United States
ATTACH;FMTTYPE=image/jpeg:https://markturcotte.com/wp-content/uploads/205_49_franklin.jpg
END:VEVENT
BEGIN:VEVENT
DTSTART;TZID=America/New_York:20181126T060000
DTEND;TZID=America/New_York:20181126T090000
DTSTAMP:20260424T023307
CREATED:20181118T163903Z
LAST-MODIFIED:20181118T163903Z
UID:28001-1543212000-1543222800@markturcotte.com
SUMMARY:Maine's Big Z
DESCRIPTION:
URL:https://markturcotte.com/event/maines-big-z-21/
LOCATION:Maine’s Big Z\, 555 Center St.\, Auburn\, ME\, 04210\, United States
END:VEVENT
BEGIN:VEVENT
DTSTART;TZID=America/New_York:20181127T190000
DTEND;TZID=America/New_York:20181127T200000
DTSTAMP:20260424T023307
CREATED:20181118T164001Z
LAST-MODIFIED:20181118T164001Z
UID:28003-1543345200-1543348800@markturcotte.com
SUMMARY:84 Court (Auburn\, ME)
DESCRIPTION:
URL:https://markturcotte.com/event/84-court-auburn-me-2/
LOCATION:84 Court\, 84 Court St.\, Auburn\, ME\, 04210\, United States
ATTACH;FMTTYPE=image/jpeg:https://markturcotte.com/wp-content/uploads/84court_250.jpg
END:VEVENT
BEGIN:VEVENT
DTSTART;TZID=America/New_York:20181130T130000
DTEND;TZID=America/New_York:20181130T130000
DTSTAMP:20260424T023307
CREATED:20181021T222658Z
LAST-MODIFIED:20181107T223635Z
UID:27950-1543582800-1543582800@markturcotte.com
SUMMARY:Bacon 'n Bits Podcast
DESCRIPTION:
URL:https://markturcotte.com/event/bacon-n-bits-podcast-16/
LOCATION:Fitts’ Bar & Grill\, 150 Center St.\, Auburn\, ME\, 04210\, United States
ATTACH;FMTTYPE=image/jpeg:https://markturcotte.com/wp-content/uploads/bnb_250_new.jpg
END:VEVENT
END:VCALENDAR