BEGIN:VCALENDAR
VERSION:2.0
PRODID:-//Mark Turcotte - ECPv6.15.20//NONSGML v1.0//EN
CALSCALE:GREGORIAN
METHOD:PUBLISH
X-WR-CALNAME:Mark Turcotte
X-ORIGINAL-URL:https://markturcotte.com
X-WR-CALDESC:Events for Mark Turcotte
REFRESH-INTERVAL;VALUE=DURATION:PT1H
X-Robots-Tag:noindex
X-PUBLISHED-TTL:PT1H
BEGIN:VTIMEZONE
TZID:America/New_York
BEGIN:DAYLIGHT
TZOFFSETFROM:-0500
TZOFFSETTO:-0400
TZNAME:EDT
DTSTART:20170312T070000
END:DAYLIGHT
BEGIN:STANDARD
TZOFFSETFROM:-0400
TZOFFSETTO:-0500
TZNAME:EST
DTSTART:20171105T060000
END:STANDARD
BEGIN:DAYLIGHT
TZOFFSETFROM:-0500
TZOFFSETTO:-0400
TZNAME:EDT
DTSTART:20180311T070000
END:DAYLIGHT
BEGIN:STANDARD
TZOFFSETFROM:-0400
TZOFFSETTO:-0500
TZNAME:EST
DTSTART:20181104T060000
END:STANDARD
BEGIN:DAYLIGHT
TZOFFSETFROM:-0500
TZOFFSETTO:-0400
TZNAME:EDT
DTSTART:20190310T070000
END:DAYLIGHT
BEGIN:STANDARD
TZOFFSETFROM:-0400
TZOFFSETTO:-0500
TZNAME:EST
DTSTART:20191103T060000
END:STANDARD
END:VTIMEZONE
BEGIN:VEVENT
DTSTART;TZID=America/New_York:20181201T200000
DTEND;TZID=America/New_York:20181201T200000
DTSTAMP:20260424T011809
CREATED:20180511T123446Z
LAST-MODIFIED:20180609T125801Z
UID:27473-1543694400-1543694400@markturcotte.com
SUMMARY:Island Dog Brewing (South Portland\, ME)
DESCRIPTION:
URL:https://markturcotte.com/event/island-dog-brewing-south-portland-me-5/
LOCATION:Island Dog Brewing\, 125 John Roberts Rd.\, South Portland\, ME\, 04106\, United States
ATTACH;FMTTYPE=image/jpeg:https://markturcotte.com/wp-content/uploads/island_dog_brewing_250.jpg
END:VEVENT
BEGIN:VEVENT
DTSTART;TZID=America/New_York:20181205T200000
DTEND;TZID=America/New_York:20181205T200000
DTSTAMP:20260424T011809
CREATED:20180912T120450Z
LAST-MODIFIED:20180912T120450Z
UID:27782-1544040000-1544040000@markturcotte.com
SUMMARY:Bull Feeney's (Portland\, ME)
DESCRIPTION:
URL:https://markturcotte.com/event/bull-feeneys-portland-me-28/
LOCATION:Bull Feeney’s\, 375 Fore St.\, Portland\, ME\, 04101\, United States
ATTACH;FMTTYPE=image/jpeg:https://markturcotte.com/wp-content/uploads/205_portland_comedy_showcase.jpg
END:VEVENT
BEGIN:VEVENT
DTSTART;TZID=America/New_York:20181206T190000
DTEND;TZID=America/New_York:20181206T190000
DTSTAMP:20260424T011809
CREATED:20180406T184324Z
LAST-MODIFIED:20180406T184324Z
UID:27405-1544122800-1544122800@markturcotte.com
SUMMARY:Fore River Brewing (South Portland\, ME)
DESCRIPTION:
URL:https://markturcotte.com/event/fore-river-brewing-south-portland-me-9/
LOCATION:Fore River Brewing\, 45 Huntress Ave.\, South Portland\, ME\, 04106\, United States
ATTACH;FMTTYPE=image/jpeg:https://markturcotte.com/wp-content/uploads/250x250_fore_river_brewing.jpg
END:VEVENT
BEGIN:VEVENT
DTSTART;TZID=America/New_York:20181206T190000
DTEND;TZID=America/New_York:20181206T190000
DTSTAMP:20260424T011809
CREATED:20181120T221407Z
LAST-MODIFIED:20181120T221407Z
UID:28034-1544122800-1544122800@markturcotte.com
SUMMARY:Private Event
DESCRIPTION:Caribou
URL:https://markturcotte.com/event/private-event-8/
LOCATION:ME
END:VEVENT
BEGIN:VEVENT
DTSTART;TZID=America/New_York:20181207T173000
DTEND;TZID=America/New_York:20181207T173000
DTSTAMP:20260424T011809
CREATED:20181205T180816Z
LAST-MODIFIED:20181205T180816Z
UID:28057-1544203800-1544203800@markturcotte.com
SUMMARY:Bacon 'n Bits Podcast
DESCRIPTION:
URL:https://markturcotte.com/event/bacon-n-bits-podcast-17/
LOCATION:Fitts’ Bar & Grill\, 150 Center St.\, Auburn\, ME\, 04210\, United States
ATTACH;FMTTYPE=image/jpeg:https://markturcotte.com/wp-content/uploads/bnb_250_new.jpg
END:VEVENT
BEGIN:VEVENT
DTSTART;TZID=America/New_York:20181207T210000
DTEND;TZID=America/New_York:20181207T210000
DTSTAMP:20260424T011809
CREATED:20170916T102129Z
LAST-MODIFIED:20181029T202940Z
UID:27038-1544216400-1544216400@markturcotte.com
SUMMARY:Baxter Brewing (Lewiston\, ME)
DESCRIPTION:
URL:https://markturcotte.com/event/baxter-brewing-lewiston-me-22/
LOCATION:Baxter Brewing\, 130 Mill St.\, Lewiston\, ME\, 04240\, United States
ATTACH;FMTTYPE=image/jpeg:https://markturcotte.com/wp-content/uploads/baxter_brewing_250x250.jpg
END:VEVENT
BEGIN:VEVENT
DTSTART;TZID=America/New_York:20181208T200000
DTEND;TZID=America/New_York:20181208T200000
DTSTAMP:20260424T011809
CREATED:20180806T182756Z
LAST-MODIFIED:20180831T160443Z
UID:27631-1544299200-1544299200@markturcotte.com
SUMMARY:American Legion (West Rutland\, VT)
DESCRIPTION:
URL:https://markturcotte.com/event/american-legion-west-rutland-vt-2/
LOCATION:American Legion (West Rutland)\, 871 Pleasant St.\, West Rutland\, VT\, 05777\, United States
ATTACH;FMTTYPE=image/jpeg:https://markturcotte.com/wp-content/uploads/205_american_legion.jpg
END:VEVENT
BEGIN:VEVENT
DTSTART;TZID=America/New_York:20181210T060000
DTEND;TZID=America/New_York:20181210T090000
DTSTAMP:20260424T011809
CREATED:20181128T160117Z
LAST-MODIFIED:20181128T160117Z
UID:28045-1544421600-1544432400@markturcotte.com
SUMMARY:Maine's Big Z
DESCRIPTION:Hosting The Breakfast Club
URL:https://markturcotte.com/event/maines-big-z-22/
LOCATION:Maine’s Big Z\, 555 Center St.\, Auburn\, ME\, 04210\, United States
END:VEVENT
BEGIN:VEVENT
DTSTART;TZID=America/New_York:20181211T060000
DTEND;TZID=America/New_York:20181211T090000
DTSTAMP:20260424T011809
CREATED:20181128T160222Z
LAST-MODIFIED:20181128T160222Z
UID:28047-1544508000-1544518800@markturcotte.com
SUMMARY:Maine's Big Z
DESCRIPTION:Hosting The Breakfast Club
URL:https://markturcotte.com/event/maines-big-z-23/
LOCATION:Maine’s Big Z\, 555 Center St.\, Auburn\, ME\, 04210\, United States
END:VEVENT
BEGIN:VEVENT
DTSTART;TZID=America/New_York:20181212T060000
DTEND;TZID=America/New_York:20181212T090000
DTSTAMP:20260424T011809
CREATED:20181128T160319Z
LAST-MODIFIED:20181128T160319Z
UID:28049-1544594400-1544605200@markturcotte.com
SUMMARY:Maine's Big Z
DESCRIPTION:Hosting The Breakfast Club
URL:https://markturcotte.com/event/maines-big-z-24/
LOCATION:Maine’s Big Z\, 555 Center St.\, Auburn\, ME\, 04210\, United States
END:VEVENT
BEGIN:VEVENT
DTSTART;TZID=America/New_York:20181212T113000
DTEND;TZID=America/New_York:20181212T113000
DTSTAMP:20260424T011809
CREATED:20181120T215345Z
LAST-MODIFIED:20181120T215345Z
UID:28032-1544614200-1544614200@markturcotte.com
SUMMARY:Private Event
DESCRIPTION:SCORE
URL:https://markturcotte.com/event/private-event-7/
LOCATION:ME
END:VEVENT
BEGIN:VEVENT
DTSTART;TZID=America/New_York:20181213T060000
DTEND;TZID=America/New_York:20181213T090000
DTSTAMP:20260424T011809
CREATED:20181128T160453Z
LAST-MODIFIED:20181128T160453Z
UID:28051-1544680800-1544691600@markturcotte.com
SUMMARY:Maine's Big Z
DESCRIPTION:Hosting The Breakfast Club
URL:https://markturcotte.com/event/maines-big-z-25/
LOCATION:Maine’s Big Z\, 555 Center St.\, Auburn\, ME\, 04210\, United States
END:VEVENT
BEGIN:VEVENT
DTSTART;TZID=America/New_York:20181214T060000
DTEND;TZID=America/New_York:20181214T090000
DTSTAMP:20260424T011809
CREATED:20181128T160546Z
LAST-MODIFIED:20181128T160546Z
UID:28053-1544767200-1544778000@markturcotte.com
SUMMARY:Maine's Big Z
DESCRIPTION:Hosting The Breakfast Club
URL:https://markturcotte.com/event/maines-big-z-26/
LOCATION:Maine’s Big Z\, 555 Center St.\, Auburn\, ME\, 04210\, United States
END:VEVENT
BEGIN:VEVENT
DTSTART;TZID=America/New_York:20181214T160000
DTEND;TZID=America/New_York:20181214T160000
DTSTAMP:20260424T011809
CREATED:20181205T180906Z
LAST-MODIFIED:20181205T180906Z
UID:28059-1544803200-1544803200@markturcotte.com
SUMMARY:Bacon 'n Bits Podcast
DESCRIPTION:
URL:https://markturcotte.com/event/bacon-n-bits-podcast-18/
LOCATION:Fitts’ Bar & Grill\, 150 Center St.\, Auburn\, ME\, 04210\, United States
ATTACH;FMTTYPE=image/jpeg:https://markturcotte.com/wp-content/uploads/bnb_250_new.jpg
END:VEVENT
BEGIN:VEVENT
DTSTART;TZID=America/New_York:20181214T190000
DTEND;TZID=America/New_York:20181214T190000
DTSTAMP:20260424T011809
CREATED:20180424T203601Z
LAST-MODIFIED:20180814T170228Z
UID:27447-1544814000-1544814000@markturcotte.com
SUMMARY:Pavement (Boston\, MA)
DESCRIPTION:
URL:https://markturcotte.com/event/pavement-boston-ma/
LOCATION:Pavement Coffeehouse\, 736 Commonwealth Ave.\, Boston\, MA\, 02215\, United States
ATTACH;FMTTYPE=image/jpeg:https://markturcotte.com/wp-content/uploads/250_pavement.jpg
END:VEVENT
BEGIN:VEVENT
DTSTART;TZID=America/New_York:20181215T193000
DTEND;TZID=America/New_York:20181215T193000
DTSTAMP:20260424T011809
CREATED:20180531T200055Z
LAST-MODIFIED:20180531T200055Z
UID:27496-1544902200-1544902200@markturcotte.com
SUMMARY:Johnson Hall (Gardiner\, ME)
DESCRIPTION:
URL:https://markturcotte.com/event/johnson-hall-gardiner-me-10/
LOCATION:Johnson Hall\, 280 Water St.\, Gardiner\, ME\, 04345\, United States
ATTACH;FMTTYPE=image/jpeg:https://markturcotte.com/wp-content/uploads/johnson_hall_250x250.jpg
END:VEVENT
BEGIN:VEVENT
DTSTART;TZID=America/New_York:20181217T193000
DTEND;TZID=America/New_York:20181217T193000
DTSTAMP:20260424T011809
CREATED:20180827T134044Z
LAST-MODIFIED:20180827T134044Z
UID:27750-1545075000-1545075000@markturcotte.com
SUMMARY:The Luna Theater (Lowell\, MA)
DESCRIPTION:
URL:https://markturcotte.com/event/the-luna-theater-lowell-ma/
LOCATION:Luna Theater\, 250 Jackson St.\, Lowell\, MA\, 01852\, United States
ATTACH;FMTTYPE=image/jpeg:https://markturcotte.com/wp-content/uploads/250_luna_theater.jpg
END:VEVENT
BEGIN:VEVENT
DTSTART;TZID=America/New_York:20181219T200000
DTEND;TZID=America/New_York:20181219T200000
DTSTAMP:20260424T011809
CREATED:20180912T120553Z
LAST-MODIFIED:20180912T120553Z
UID:27784-1545249600-1545249600@markturcotte.com
SUMMARY:Bull Feeney's (Portland\, ME)
DESCRIPTION:
URL:https://markturcotte.com/event/bull-feeneys-portland-me-29/
LOCATION:Bull Feeney’s\, 375 Fore St.\, Portland\, ME\, 04101\, United States
ATTACH;FMTTYPE=image/jpeg:https://markturcotte.com/wp-content/uploads/205_portland_comedy_showcase.jpg
END:VEVENT
BEGIN:VEVENT
DTSTART;TZID=America/New_York:20181220T190000
DTEND;TZID=America/New_York:20181220T190000
DTSTAMP:20260424T011809
CREATED:20171022T154633Z
LAST-MODIFIED:20171022T154633Z
UID:27116-1545332400-1545332400@markturcotte.com
SUMMARY:Bear Bones Beer (Lewiston\, ME)
DESCRIPTION:
URL:https://markturcotte.com/event/bear-bones-beer-lewiston-me-23/
LOCATION:Bear Bones Beer\, 43 Lisbon St.\, Lewiston\, ME\, 04240\, United States
ATTACH;FMTTYPE=image/jpeg:https://markturcotte.com/wp-content/uploads/205_bear_bones_beer.jpg
END:VEVENT
BEGIN:VEVENT
DTSTART;TZID=America/New_York:20181221T160000
DTEND;TZID=America/New_York:20181221T160000
DTSTAMP:20260424T011809
CREATED:20181205T180946Z
LAST-MODIFIED:20181205T180946Z
UID:28061-1545408000-1545408000@markturcotte.com
SUMMARY:Bacon 'n Bits Podcast
DESCRIPTION:
URL:https://markturcotte.com/event/bacon-n-bits-podcast-19/
LOCATION:Fitts’ Bar & Grill\, 150 Center St.\, Auburn\, ME\, 04210\, United States
ATTACH;FMTTYPE=image/jpeg:https://markturcotte.com/wp-content/uploads/bnb_250_new.jpg
END:VEVENT
BEGIN:VEVENT
DTSTART;TZID=America/New_York:20181221T203000
DTEND;TZID=America/New_York:20181221T203000
DTSTAMP:20260424T011809
CREATED:20181206T163544Z
LAST-MODIFIED:20181206T163544Z
UID:28069-1545424200-1545424200@markturcotte.com
SUMMARY:Bangor Beer (Bangor\, ME)
DESCRIPTION:
URL:https://markturcotte.com/event/bangor-beer-bangor-me-2/
LOCATION:Bangor Beer Company\, 330 Bangor Mall Blvd.\, Bangor\, ME\, 04401\, United States
ATTACH;FMTTYPE=image/jpeg:https://markturcotte.com/wp-content/uploads/250_bangor_beer_co.jpg
END:VEVENT
BEGIN:VEVENT
DTSTART;TZID=America/New_York:20181228T160000
DTEND;TZID=America/New_York:20181228T160000
DTSTAMP:20260424T011809
CREATED:20181205T181032Z
LAST-MODIFIED:20181205T181032Z
UID:28063-1546012800-1546012800@markturcotte.com
SUMMARY:Bacon 'n Bits Podcast
DESCRIPTION:
URL:https://markturcotte.com/event/bacon-n-bits-podcast-20/
LOCATION:Fitts’ Bar & Grill\, 150 Center St.\, Auburn\, ME\, 04210\, United States
ATTACH;FMTTYPE=image/jpeg:https://markturcotte.com/wp-content/uploads/bnb_250_new.jpg
END:VEVENT
END:VCALENDAR