BEGIN:VCALENDAR
VERSION:2.0
PRODID:-//Mark Turcotte - ECPv6.15.20//NONSGML v1.0//EN
CALSCALE:GREGORIAN
METHOD:PUBLISH
X-ORIGINAL-URL:https://markturcotte.com
X-WR-CALDESC:Events for Mark Turcotte
REFRESH-INTERVAL;VALUE=DURATION:PT1H
X-Robots-Tag:noindex
X-PUBLISHED-TTL:PT1H
BEGIN:VTIMEZONE
TZID:America/New_York
BEGIN:DAYLIGHT
TZOFFSETFROM:-0500
TZOFFSETTO:-0400
TZNAME:EDT
DTSTART:20180311T070000
END:DAYLIGHT
BEGIN:STANDARD
TZOFFSETFROM:-0400
TZOFFSETTO:-0500
TZNAME:EST
DTSTART:20181104T060000
END:STANDARD
BEGIN:DAYLIGHT
TZOFFSETFROM:-0500
TZOFFSETTO:-0400
TZNAME:EDT
DTSTART:20190310T070000
END:DAYLIGHT
BEGIN:STANDARD
TZOFFSETFROM:-0400
TZOFFSETTO:-0500
TZNAME:EST
DTSTART:20191103T060000
END:STANDARD
BEGIN:DAYLIGHT
TZOFFSETFROM:-0500
TZOFFSETTO:-0400
TZNAME:EDT
DTSTART:20200308T070000
END:DAYLIGHT
BEGIN:STANDARD
TZOFFSETFROM:-0400
TZOFFSETTO:-0500
TZNAME:EST
DTSTART:20201101T060000
END:STANDARD
END:VTIMEZONE
BEGIN:VEVENT
DTSTART;TZID=America/New_York:20190201T210000
DTEND;TZID=America/New_York:20190201T210000
DTSTAMP:20260423T225855
CREATED:20181015T131048Z
LAST-MODIFIED:20181029T203212Z
UID:27877-1549054800-1549054800@markturcotte.com
SUMMARY:Baxter Brewing (Lewiston\, ME)
DESCRIPTION:
URL:https://markturcotte.com/event/baxter-brewing-lewiston-me-24/
LOCATION:Baxter Brewing\, 130 Mill St.\, Lewiston\, ME\, 04240\, United States
ATTACH;FMTTYPE=image/jpeg:https://markturcotte.com/wp-content/uploads/baxter_brewing_250x250.jpg
END:VEVENT
BEGIN:VEVENT
DTSTART;TZID=America/New_York:20190202T200000
DTEND;TZID=America/New_York:20190202T200000
DTSTAMP:20260423T225855
CREATED:20181015T124033Z
LAST-MODIFIED:20181015T124033Z
UID:27835-1549137600-1549137600@markturcotte.com
SUMMARY:Island Dog Brewing (South Portland\, ME)
DESCRIPTION:
URL:https://markturcotte.com/event/island-dog-brewing-south-portland-me-7/
LOCATION:Island Dog Brewing\, 125 John Roberts Rd.\, South Portland\, ME\, 04106\, United States
ATTACH;FMTTYPE=image/jpeg:https://markturcotte.com/wp-content/uploads/250_island_dog_brewing.jpg
END:VEVENT
BEGIN:VEVENT
DTSTART;TZID=America/New_York:20190207T190000
DTEND;TZID=America/New_York:20190207T190000
DTSTAMP:20260423T225855
CREATED:20181015T132250Z
LAST-MODIFIED:20181015T132250Z
UID:27901-1549566000-1549566000@markturcotte.com
SUMMARY:Fore River Brewing (South Portland\, ME)
DESCRIPTION:
URL:https://markturcotte.com/event/fore-river-brewing-south-portland-me-11/
LOCATION:Fore River Brewing\, 45 Huntress Ave.\, South Portland\, ME\, 04106\, United States
ATTACH;FMTTYPE=image/jpeg:https://markturcotte.com/wp-content/uploads/250x250_fore_river_brewing.jpg
END:VEVENT
BEGIN:VEVENT
DTSTART;TZID=America/New_York:20190208T190000
DTEND;TZID=America/New_York:20190208T190000
DTSTAMP:20260423T225855
CREATED:20181015T130148Z
LAST-MODIFIED:20181015T130148Z
UID:27861-1549652400-1549652400@markturcotte.com
SUMMARY:Somerset Abbey (Madison\, ME)
DESCRIPTION:
URL:https://markturcotte.com/event/somerset-abbey-madison-me-17/
LOCATION:Somerset Abbey\, 98 Main St.\, Madison\, ME\, 04950\, United States
ATTACH;FMTTYPE=image/jpeg:https://markturcotte.com/wp-content/uploads/205_somerset_abbey.jpg
END:VEVENT
BEGIN:VEVENT
DTSTART;TZID=America/New_York:20190209T210000
DTEND;TZID=America/New_York:20190209T210000
DTSTAMP:20260423T225855
CREATED:20181119T011802Z
LAST-MODIFIED:20181119T011802Z
UID:28009-1549746000-1549746000@markturcotte.com
SUMMARY:School Street Pub & Grill (Gorham\, ME)
DESCRIPTION:
URL:https://markturcotte.com/event/school-street-pub-grill-gorham-me-2/
LOCATION:School Street Pub & Grill\, 29 School St.\, Gorham\, ME\, 04038\, United States
ATTACH;FMTTYPE=image/jpeg:https://markturcotte.com/wp-content/uploads/school_street_blk_250.jpg
END:VEVENT
BEGIN:VEVENT
DTSTART;TZID=America/New_York:20190215T203000
DTEND;TZID=America/New_York:20190215T220000
DTSTAMP:20260423T225855
CREATED:20190108T174138Z
LAST-MODIFIED:20190108T174138Z
UID:28105-1550262600-1550268000@markturcotte.com
SUMMARY:Bangor Beer (Bangor\, ME)
DESCRIPTION:
URL:https://markturcotte.com/event/bangor-beer-bangor-me-3/
LOCATION:Bangor Beer Company\, 330 Bangor Mall Blvd.\, Bangor\, ME\, 04401\, United States
ATTACH;FMTTYPE=image/jpeg:https://markturcotte.com/wp-content/uploads/250_bangor_beer_co.jpg
END:VEVENT
BEGIN:VEVENT
DTSTART;TZID=America/New_York:20190216T193000
DTEND;TZID=America/New_York:20190216T193000
DTSTAMP:20260423T225855
CREATED:20180531T200216Z
LAST-MODIFIED:20180531T200216Z
UID:27500-1550345400-1550345400@markturcotte.com
SUMMARY:Johnson Hall (Gardiner\, ME)
DESCRIPTION:
URL:https://markturcotte.com/event/johnson-hall-gardiner-me-12/
LOCATION:Johnson Hall\, 280 Water St.\, Gardiner\, ME\, 04345\, United States
ATTACH;FMTTYPE=image/jpeg:https://markturcotte.com/wp-content/uploads/johnson_hall_250x250.jpg
END:VEVENT
BEGIN:VEVENT
DTSTART;TZID=America/New_York:20190221T190000
DTEND;TZID=America/New_York:20190221T190000
DTSTAMP:20260423T225855
CREATED:20181015T122056Z
LAST-MODIFIED:20181015T122056Z
UID:27810-1550775600-1550775600@markturcotte.com
SUMMARY:Bear Bones Beer (Lewiston\, ME)
DESCRIPTION:
URL:https://markturcotte.com/event/bear-bones-beer-lewiston-me-25/
LOCATION:Bear Bones Beer\, 43 Lisbon St.\, Lewiston\, ME\, 04240\, United States
ATTACH;FMTTYPE=image/jpeg:https://markturcotte.com/wp-content/uploads/205_bear_bones_beer.jpg
END:VEVENT
BEGIN:VEVENT
DTSTART;TZID=America/New_York:20190223T200000
DTEND;TZID=America/New_York:20190223T200000
DTSTAMP:20260423T225855
CREATED:20190110T010033Z
LAST-MODIFIED:20190110T010033Z
UID:28136-1550952000-1550952000@markturcotte.com
SUMMARY:Mystic Theater (Rumford\, ME)
DESCRIPTION:
URL:https://markturcotte.com/event/mystic-theater-rumford-me-10/
LOCATION:Mystic Theater at 49 Franklin\, 49 Franklin St.\, Rumford\, ME\, 04276\, United States
ATTACH;FMTTYPE=image/jpeg:https://markturcotte.com/wp-content/uploads/205_49_franklin.jpg
END:VEVENT
BEGIN:VEVENT
DTSTART;TZID=America/New_York:20190228T190000
DTEND;TZID=America/New_York:20190228T190000
DTSTAMP:20260423T225855
CREATED:20190105T125334Z
LAST-MODIFIED:20190226T231536Z
UID:28091-1551380400-1551380400@markturcotte.com
SUMMARY:Cowbell Grill & Tap (Lewiston\, ME)
DESCRIPTION:
URL:https://markturcotte.com/event/cowbell-grill-tap-lewiston-me-2/
LOCATION:Cowbell Grill & Tap\, 49 Lisbon St.\, Lewiston\, ME\, 04240\, United States
ATTACH;FMTTYPE=image/jpeg:https://markturcotte.com/wp-content/uploads/250_cowbell.jpg
END:VEVENT
END:VCALENDAR