BEGIN:VCALENDAR
VERSION:2.0
PRODID:-//Mark Turcotte - ECPv6.15.20//NONSGML v1.0//EN
CALSCALE:GREGORIAN
METHOD:PUBLISH
X-WR-CALNAME:Mark Turcotte
X-ORIGINAL-URL:https://markturcotte.com
X-WR-CALDESC:Events for Mark Turcotte
REFRESH-INTERVAL;VALUE=DURATION:PT1H
X-Robots-Tag:noindex
X-PUBLISHED-TTL:PT1H
BEGIN:VTIMEZONE
TZID:America/New_York
BEGIN:DAYLIGHT
TZOFFSETFROM:-0500
TZOFFSETTO:-0400
TZNAME:EDT
DTSTART:20180311T070000
END:DAYLIGHT
BEGIN:STANDARD
TZOFFSETFROM:-0400
TZOFFSETTO:-0500
TZNAME:EST
DTSTART:20181104T060000
END:STANDARD
BEGIN:DAYLIGHT
TZOFFSETFROM:-0500
TZOFFSETTO:-0400
TZNAME:EDT
DTSTART:20190310T070000
END:DAYLIGHT
BEGIN:STANDARD
TZOFFSETFROM:-0400
TZOFFSETTO:-0500
TZNAME:EST
DTSTART:20191103T060000
END:STANDARD
BEGIN:DAYLIGHT
TZOFFSETFROM:-0500
TZOFFSETTO:-0400
TZNAME:EDT
DTSTART:20200308T070000
END:DAYLIGHT
BEGIN:STANDARD
TZOFFSETFROM:-0400
TZOFFSETTO:-0500
TZNAME:EST
DTSTART:20201101T060000
END:STANDARD
END:VTIMEZONE
BEGIN:VEVENT
DTSTART;TZID=America/New_York:20190403T193000
DTEND;TZID=America/New_York:20190403T193000
DTSTAMP:20260423T202035
CREATED:20190302T163216Z
LAST-MODIFIED:20190302T163216Z
UID:28308-1554319800-1554319800@markturcotte.com
SUMMARY:Doolin's Pub (Litchfield\, ME)
DESCRIPTION:
URL:https://markturcotte.com/event/doolins-pub-litchfield-me/
LOCATION:Doolin’s Pub\, 495 Huntington Hill Rd.\, Litchfield\, Maine\, 04350\, United States
ATTACH;FMTTYPE=image/jpeg:https://markturcotte.com/wp-content/uploads/250_doolins.jpg
END:VEVENT
BEGIN:VEVENT
DTSTART;TZID=America/New_York:20190406T200000
DTEND;TZID=America/New_York:20190406T200000
DTSTAMP:20260423T202035
CREATED:20181015T124223Z
LAST-MODIFIED:20181015T124223Z
UID:27839-1554580800-1554580800@markturcotte.com
SUMMARY:Island Dog Brewing (South Portland\, ME)
DESCRIPTION:
URL:https://markturcotte.com/event/island-dog-brewing-south-portland-me-9/
LOCATION:Island Dog Brewing\, 125 John Roberts Rd.\, South Portland\, ME\, 04106\, United States
ATTACH;FMTTYPE=image/jpeg:https://markturcotte.com/wp-content/uploads/250_island_dog_brewing.jpg
END:VEVENT
BEGIN:VEVENT
DTSTART;TZID=America/New_York:20190408T193000
DTEND;TZID=America/New_York:20190408T193000
DTSTAMP:20260423T202035
CREATED:20190321T194626Z
LAST-MODIFIED:20190321T194626Z
UID:28397-1554751800-1554751800@markturcotte.com
SUMMARY:CMCC (Auburn\, ME)
DESCRIPTION:
URL:https://markturcotte.com/event/cmcc-auburn-me/
LOCATION:CMCC\, 1250 Turner St.\, Auburn\, ME\, 04210\, United States
ATTACH;FMTTYPE=image/jpeg:https://markturcotte.com/wp-content/uploads/250_cmcc.jpg
END:VEVENT
BEGIN:VEVENT
DTSTART;TZID=America/New_York:20190411T193000
DTEND;TZID=America/New_York:20190411T193000
DTSTAMP:20260423T202035
CREATED:20190313T214538Z
LAST-MODIFIED:20190313T214611Z
UID:28385-1555011000-1555011000@markturcotte.com
SUMMARY:Nonesuch River Brewing (Scarborough\, ME)
DESCRIPTION:
URL:https://markturcotte.com/event/nonesuch-river-brewing-scarborough-me/
LOCATION:Nonesuch River Brewing\, 201 Gorham Rd.\, Scarborough\, Maine\, 04074\, United States
ATTACH;FMTTYPE=image/jpeg:https://markturcotte.com/wp-content/uploads/250_nonesuch_river_brewing.jpg
END:VEVENT
BEGIN:VEVENT
DTSTART;TZID=America/New_York:20190412T190000
DTEND;TZID=America/New_York:20190412T190000
DTSTAMP:20260423T202035
CREATED:20181015T130258Z
LAST-MODIFIED:20181015T130258Z
UID:27863-1555095600-1555095600@markturcotte.com
SUMMARY:Somerset Abbey (Madison\, ME)
DESCRIPTION:
URL:https://markturcotte.com/event/somerset-abbey-madison-me-18/
LOCATION:Somerset Abbey\, 98 Main St.\, Madison\, ME\, 04950\, United States
ATTACH;FMTTYPE=image/jpeg:https://markturcotte.com/wp-content/uploads/205_somerset_abbey.jpg
END:VEVENT
BEGIN:VEVENT
DTSTART;TZID=America/New_York:20190413T210000
DTEND;TZID=America/New_York:20190413T210000
DTSTAMP:20260423T202035
CREATED:20181119T012001Z
LAST-MODIFIED:20181119T012001Z
UID:28014-1555189200-1555189200@markturcotte.com
SUMMARY:School Street Pub & Grill (Gorham\, ME)
DESCRIPTION:
URL:https://markturcotte.com/event/school-street-pub-grill-gorham-me-4/
LOCATION:School Street Pub & Grill\, 29 School St.\, Gorham\, ME\, 04038\, United States
ATTACH;FMTTYPE=image/jpeg:https://markturcotte.com/wp-content/uploads/school_street_blk_250.jpg
END:VEVENT
BEGIN:VEVENT
DTSTART;TZID=America/New_York:20190417T193000
DTEND;TZID=America/New_York:20190417T193000
DTSTAMP:20260423T202035
CREATED:20190302T163306Z
LAST-MODIFIED:20190302T163306Z
UID:28312-1555529400-1555529400@markturcotte.com
SUMMARY:Doolin's Pub (Litchfield\, ME)
DESCRIPTION:
URL:https://markturcotte.com/event/doolins-pub-litchfield-me-2/
LOCATION:Doolin’s Pub\, 495 Huntington Hill Rd.\, Litchfield\, Maine\, 04350\, United States
ATTACH;FMTTYPE=image/jpeg:https://markturcotte.com/wp-content/uploads/250_doolins.jpg
END:VEVENT
BEGIN:VEVENT
DTSTART;TZID=America/New_York:20190418T190000
DTEND;TZID=America/New_York:20190418T190000
DTSTAMP:20260423T202035
CREATED:20181015T122307Z
LAST-MODIFIED:20181015T122307Z
UID:27814-1555614000-1555614000@markturcotte.com
SUMMARY:Bear Bones Beer (Lewiston\, ME)
DESCRIPTION:
URL:https://markturcotte.com/event/bear-bones-beer-lewiston-me-27/
LOCATION:Bear Bones Beer\, 43 Lisbon St.\, Lewiston\, ME\, 04240\, United States
ATTACH;FMTTYPE=image/jpeg:https://markturcotte.com/wp-content/uploads/205_bear_bones_beer.jpg
END:VEVENT
BEGIN:VEVENT
DTSTART;TZID=America/New_York:20190419T203000
DTEND;TZID=America/New_York:20190419T203000
DTSTAMP:20260423T202035
CREATED:20190108T174350Z
LAST-MODIFIED:20190108T174350Z
UID:28110-1555705800-1555705800@markturcotte.com
SUMMARY:Bangor Beer (Bangor\, ME)
DESCRIPTION:
URL:https://markturcotte.com/event/bangor-beer-bangor-me-5/
LOCATION:Bangor Beer Company\, 330 Bangor Mall Blvd.\, Bangor\, ME\, 04401\, United States
ATTACH;FMTTYPE=image/jpeg:https://markturcotte.com/wp-content/uploads/250_bangor_beer_co.jpg
END:VEVENT
BEGIN:VEVENT
DTSTART;TZID=America/New_York:20190420T193000
DTEND;TZID=America/New_York:20190420T193000
DTSTAMP:20260423T202035
CREATED:20180531T200349Z
LAST-MODIFIED:20180531T200349Z
UID:27504-1555788600-1555788600@markturcotte.com
SUMMARY:Johnson Hall (Gardiner\, ME)
DESCRIPTION:
URL:https://markturcotte.com/event/johnson-hall-gardiner-me-14/
LOCATION:Johnson Hall\, 280 Water St.\, Gardiner\, ME\, 04345\, United States
ATTACH;FMTTYPE=image/jpeg:https://markturcotte.com/wp-content/uploads/johnson_hall_250x250.jpg
END:VEVENT
BEGIN:VEVENT
DTSTART;TZID=America/New_York:20190425T190000
DTEND;TZID=America/New_York:20190425T190000
DTSTAMP:20260423T202035
CREATED:20190303T173920Z
LAST-MODIFIED:20190303T173920Z
UID:28318-1556218800-1556218800@markturcotte.com
SUMMARY:Cowbell Grill & Tap (Lewiston\, ME)
DESCRIPTION:
URL:https://markturcotte.com/event/cowbell-grill-tap-lewiston-me-3/
LOCATION:Cowbell Grill & Tap\, 49 Lisbon St.\, Lewiston\, ME\, 04240\, United States
ATTACH;FMTTYPE=image/jpeg:https://markturcotte.com/wp-content/uploads/250_cowbell.jpg
END:VEVENT
BEGIN:VEVENT
DTSTART;TZID=America/New_York:20190426T200000
DTEND;TZID=America/New_York:20190426T200000
DTSTAMP:20260423T202035
CREATED:20181213T192446Z
LAST-MODIFIED:20190217T143031Z
UID:28072-1556308800-1556308800@markturcotte.com
SUMMARY:Mixers (Sabattus\, ME)
DESCRIPTION:Lewiston High School Football Boosters Fundraiser
URL:https://markturcotte.com/event/mixers-sabattus-me-2/
LOCATION:Mixers\, 136 Sabattus Rd.\, Sabattus\, ME\, 04280\, United States
ATTACH;FMTTYPE=image/jpeg:https://markturcotte.com/wp-content/uploads/205_mixers.jpg
END:VEVENT
BEGIN:VEVENT
DTSTART;TZID=America/New_York:20190427T200000
DTEND;TZID=America/New_York:20190427T200000
DTSTAMP:20260423T202035
CREATED:20190110T010144Z
LAST-MODIFIED:20190110T010144Z
UID:28138-1556395200-1556395200@markturcotte.com
SUMMARY:Mystic Theater (Rumford\, ME)
DESCRIPTION:
URL:https://markturcotte.com/event/mystic-theater-rumford-me-11/
LOCATION:Mystic Theater at 49 Franklin\, 49 Franklin St.\, Rumford\, ME\, 04276\, United States
ATTACH;FMTTYPE=image/jpeg:https://markturcotte.com/wp-content/uploads/205_49_franklin.jpg
END:VEVENT
END:VCALENDAR