BEGIN:VCALENDAR
VERSION:2.0
PRODID:-//Mark Turcotte - ECPv6.15.20//NONSGML v1.0//EN
CALSCALE:GREGORIAN
METHOD:PUBLISH
X-WR-CALNAME:Mark Turcotte
X-ORIGINAL-URL:https://markturcotte.com
X-WR-CALDESC:Events for Mark Turcotte
REFRESH-INTERVAL;VALUE=DURATION:PT1H
X-Robots-Tag:noindex
X-PUBLISHED-TTL:PT1H
BEGIN:VTIMEZONE
TZID:America/New_York
BEGIN:DAYLIGHT
TZOFFSETFROM:-0500
TZOFFSETTO:-0400
TZNAME:EDT
DTSTART:20180311T070000
END:DAYLIGHT
BEGIN:STANDARD
TZOFFSETFROM:-0400
TZOFFSETTO:-0500
TZNAME:EST
DTSTART:20181104T060000
END:STANDARD
BEGIN:DAYLIGHT
TZOFFSETFROM:-0500
TZOFFSETTO:-0400
TZNAME:EDT
DTSTART:20190310T070000
END:DAYLIGHT
BEGIN:STANDARD
TZOFFSETFROM:-0400
TZOFFSETTO:-0500
TZNAME:EST
DTSTART:20191103T060000
END:STANDARD
BEGIN:DAYLIGHT
TZOFFSETFROM:-0500
TZOFFSETTO:-0400
TZNAME:EDT
DTSTART:20200308T070000
END:DAYLIGHT
BEGIN:STANDARD
TZOFFSETFROM:-0400
TZOFFSETTO:-0500
TZNAME:EST
DTSTART:20201101T060000
END:STANDARD
END:VTIMEZONE
BEGIN:VEVENT
DTSTART;TZID=America/New_York:20190501T193000
DTEND;TZID=America/New_York:20190501T193000
DTSTAMP:20260423T190018
CREATED:20190302T163359Z
LAST-MODIFIED:20190302T163359Z
UID:28314-1556739000-1556739000@markturcotte.com
SUMMARY:Doolin's Pub (Litchfield\, ME)
DESCRIPTION:
URL:https://markturcotte.com/event/doolins-pub-litchfield-me-3/
LOCATION:Doolin’s Pub\, 495 Huntington Hill Rd.\, Litchfield\, Maine\, 04350\, United States
ATTACH;FMTTYPE=image/jpeg:https://markturcotte.com/wp-content/uploads/250_doolins.jpg
END:VEVENT
BEGIN:VEVENT
DTSTART;TZID=America/New_York:20190502T190000
DTEND;TZID=America/New_York:20190502T190000
DTSTAMP:20260423T190018
CREATED:20181015T132513Z
LAST-MODIFIED:20181015T132513Z
UID:27907-1556823600-1556823600@markturcotte.com
SUMMARY:Fore River Brewing (South Portland\, ME)
DESCRIPTION:
URL:https://markturcotte.com/event/fore-river-brewing-south-portland-me-14/
LOCATION:Fore River Brewing\, 45 Huntress Ave.\, South Portland\, ME\, 04106\, United States
ATTACH;FMTTYPE=image/jpeg:https://markturcotte.com/wp-content/uploads/250x250_fore_river_brewing.jpg
END:VEVENT
BEGIN:VEVENT
DTSTART;TZID=America/New_York:20190504T130000
DTEND;TZID=America/New_York:20190504T130000
DTSTAMP:20260423T190018
CREATED:20190502T205948Z
LAST-MODIFIED:20190502T205948Z
UID:28443-1556974800-1556974800@markturcotte.com
SUMMARY:Private Event
DESCRIPTION:
URL:https://markturcotte.com/event/private-event-12/
LOCATION:ME
END:VEVENT
BEGIN:VEVENT
DTSTART;TZID=America/New_York:20190504T200000
DTEND;TZID=America/New_York:20190504T200000
DTSTAMP:20260423T190018
CREATED:20181015T124321Z
LAST-MODIFIED:20181015T124321Z
UID:27841-1557000000-1557000000@markturcotte.com
SUMMARY:Island Dog Brewing (South Portland\, ME)
DESCRIPTION:
URL:https://markturcotte.com/event/island-dog-brewing-south-portland-me-10/
LOCATION:Island Dog Brewing\, 125 John Roberts Rd.\, South Portland\, ME\, 04106\, United States
ATTACH;FMTTYPE=image/jpeg:https://markturcotte.com/wp-content/uploads/250_island_dog_brewing.jpg
END:VEVENT
BEGIN:VEVENT
DTSTART;TZID=America/New_York:20190508T200000
DTEND;TZID=America/New_York:20190508T200000
DTSTAMP:20260423T190018
CREATED:20190404T090851Z
LAST-MODIFIED:20190404T090851Z
UID:28414-1557345600-1557345600@markturcotte.com
SUMMARY:Riverside Golf Course (Portland\, ME)
DESCRIPTION:
URL:https://markturcotte.com/event/riverside-golf-course-portland-me/
LOCATION:Riverside Golf Course\, 1158 Riverside St.\, Portland\, ME\, 04103\, United States
END:VEVENT
BEGIN:VEVENT
DTSTART;TZID=America/New_York:20190510T190000
DTEND;TZID=America/New_York:20190510T190000
DTSTAMP:20260423T190018
CREATED:20181015T130353Z
LAST-MODIFIED:20181015T130353Z
UID:27865-1557514800-1557514800@markturcotte.com
SUMMARY:Somerset Abbey (Madison\, ME)
DESCRIPTION:
URL:https://markturcotte.com/event/somerset-abbey-madison-me-19/
LOCATION:Somerset Abbey\, 98 Main St.\, Madison\, ME\, 04950\, United States
ATTACH;FMTTYPE=image/jpeg:https://markturcotte.com/wp-content/uploads/205_somerset_abbey.jpg
END:VEVENT
BEGIN:VEVENT
DTSTART;TZID=America/New_York:20190511T210000
DTEND;TZID=America/New_York:20190511T210000
DTSTAMP:20260423T190018
CREATED:20181119T012052Z
LAST-MODIFIED:20181119T012052Z
UID:28016-1557608400-1557608400@markturcotte.com
SUMMARY:School Street Pub & Grill (Gorham\, ME)
DESCRIPTION:
URL:https://markturcotte.com/event/school-street-pub-grill-gorham-me-5/
LOCATION:School Street Pub & Grill\, 29 School St.\, Gorham\, ME\, 04038\, United States
ATTACH;FMTTYPE=image/jpeg:https://markturcotte.com/wp-content/uploads/school_street_blk_250.jpg
END:VEVENT
BEGIN:VEVENT
DTSTART;TZID=America/New_York:20190515T193000
DTEND;TZID=America/New_York:20190515T193000
DTSTAMP:20260423T190018
CREATED:20190302T163503Z
LAST-MODIFIED:20190302T163503Z
UID:28316-1557948600-1557948600@markturcotte.com
SUMMARY:Doolin's Pub (Litchfield\, ME)
DESCRIPTION:
URL:https://markturcotte.com/event/doolins-pub-litchfield-me-4/
LOCATION:Doolin’s Pub\, 495 Huntington Hill Rd.\, Litchfield\, Maine\, 04350\, United States
ATTACH;FMTTYPE=image/jpeg:https://markturcotte.com/wp-content/uploads/250_doolins.jpg
END:VEVENT
BEGIN:VEVENT
DTSTART;TZID=America/New_York:20190516T190000
DTEND;TZID=America/New_York:20190516T190000
DTSTAMP:20260423T190018
CREATED:20181015T122405Z
LAST-MODIFIED:20181015T122405Z
UID:27816-1558033200-1558033200@markturcotte.com
SUMMARY:Bear Bones Beer (Lewiston\, ME)
DESCRIPTION:
URL:https://markturcotte.com/event/bear-bones-beer-lewiston-me-28/
LOCATION:Bear Bones Beer\, 43 Lisbon St.\, Lewiston\, ME\, 04240\, United States
ATTACH;FMTTYPE=image/jpeg:https://markturcotte.com/wp-content/uploads/205_bear_bones_beer.jpg
END:VEVENT
BEGIN:VEVENT
DTSTART;TZID=America/New_York:20190517T203000
DTEND;TZID=America/New_York:20190517T203000
DTSTAMP:20260423T190018
CREATED:20190108T174503Z
LAST-MODIFIED:20190108T174503Z
UID:28112-1558125000-1558125000@markturcotte.com
SUMMARY:Bangor Beer (Bangor\, ME)
DESCRIPTION:
URL:https://markturcotte.com/event/bangor-beer-bangor-me-6/
LOCATION:Bangor Beer Company\, 330 Bangor Mall Blvd.\, Bangor\, ME\, 04401\, United States
ATTACH;FMTTYPE=image/jpeg:https://markturcotte.com/wp-content/uploads/250_bangor_beer_co.jpg
END:VEVENT
BEGIN:VEVENT
DTSTART;TZID=America/New_York:20190518T193000
DTEND;TZID=America/New_York:20190518T193000
DTSTAMP:20260423T190018
CREATED:20180531T200425Z
LAST-MODIFIED:20180531T200425Z
UID:27506-1558207800-1558207800@markturcotte.com
SUMMARY:Johnson Hall (Gardiner\, ME)
DESCRIPTION:
URL:https://markturcotte.com/event/johnson-hall-gardiner-me-15/
LOCATION:Johnson Hall\, 280 Water St.\, Gardiner\, ME\, 04345\, United States
ATTACH;FMTTYPE=image/jpeg:https://markturcotte.com/wp-content/uploads/johnson_hall_250x250.jpg
END:VEVENT
BEGIN:VEVENT
DTSTART;TZID=America/New_York:20190530T190000
DTEND;TZID=America/New_York:20190530T190000
DTSTAMP:20260423T190018
CREATED:20190303T174023Z
LAST-MODIFIED:20190303T174023Z
UID:28320-1559242800-1559242800@markturcotte.com
SUMMARY:Cowbell Grill & Tap (Lewiston\, ME)
DESCRIPTION:
URL:https://markturcotte.com/event/cowbell-grill-tap-lewiston-me-4/
LOCATION:Cowbell Grill & Tap\, 49 Lisbon St.\, Lewiston\, ME\, 04240\, United States
ATTACH;FMTTYPE=image/jpeg:https://markturcotte.com/wp-content/uploads/250_cowbell.jpg
END:VEVENT
BEGIN:VEVENT
DTSTART;TZID=America/New_York:20190531T200000
DTEND;TZID=America/New_York:20190531T213000
DTSTAMP:20260423T190018
CREATED:20190420T154955Z
LAST-MODIFIED:20190420T155041Z
UID:28431-1559332800-1559338200@markturcotte.com
SUMMARY:Theater at Monmouth (Monmouth\, ME)
DESCRIPTION:
URL:https://markturcotte.com/event/theater-at-monmouth-monmouth-me/
LOCATION:Theater at Monmouth\, 796 Main St.\, Monmouth\, ME\, 04259\, United States
END:VEVENT
END:VCALENDAR