BEGIN:VCALENDAR
VERSION:2.0
PRODID:-//Mark Turcotte - ECPv6.15.20//NONSGML v1.0//EN
CALSCALE:GREGORIAN
METHOD:PUBLISH
X-WR-CALNAME:Mark Turcotte
X-ORIGINAL-URL:https://markturcotte.com
X-WR-CALDESC:Events for Mark Turcotte
REFRESH-INTERVAL;VALUE=DURATION:PT1H
X-Robots-Tag:noindex
X-PUBLISHED-TTL:PT1H
BEGIN:VTIMEZONE
TZID:America/New_York
BEGIN:DAYLIGHT
TZOFFSETFROM:-0500
TZOFFSETTO:-0400
TZNAME:EDT
DTSTART:20180311T070000
END:DAYLIGHT
BEGIN:STANDARD
TZOFFSETFROM:-0400
TZOFFSETTO:-0500
TZNAME:EST
DTSTART:20181104T060000
END:STANDARD
BEGIN:DAYLIGHT
TZOFFSETFROM:-0500
TZOFFSETTO:-0400
TZNAME:EDT
DTSTART:20190310T070000
END:DAYLIGHT
BEGIN:STANDARD
TZOFFSETFROM:-0400
TZOFFSETTO:-0500
TZNAME:EST
DTSTART:20191103T060000
END:STANDARD
BEGIN:DAYLIGHT
TZOFFSETFROM:-0500
TZOFFSETTO:-0400
TZNAME:EDT
DTSTART:20200308T070000
END:DAYLIGHT
BEGIN:STANDARD
TZOFFSETFROM:-0400
TZOFFSETTO:-0500
TZNAME:EST
DTSTART:20201101T060000
END:STANDARD
END:VTIMEZONE
BEGIN:VEVENT
DTSTART;TZID=America/New_York:20190601T200000
DTEND;TZID=America/New_York:20190601T200000
DTSTAMP:20260423T174450
CREATED:20181015T124415Z
LAST-MODIFIED:20181015T124415Z
UID:27843-1559419200-1559419200@markturcotte.com
SUMMARY:Island Dog Brewing (South Portland\, ME)
DESCRIPTION:
URL:https://markturcotte.com/event/island-dog-brewing-south-portland-me-11/
LOCATION:Island Dog Brewing\, 125 John Roberts Rd.\, South Portland\, ME\, 04106\, United States
ATTACH;FMTTYPE=image/jpeg:https://markturcotte.com/wp-content/uploads/250_island_dog_brewing.jpg
END:VEVENT
BEGIN:VEVENT
DTSTART;TZID=America/New_York:20190602T150000
DTEND;TZID=America/New_York:20190602T150000
DTSTAMP:20260423T174450
CREATED:20190309T142142Z
LAST-MODIFIED:20190309T142142Z
UID:28381-1559487600-1559487600@markturcotte.com
SUMMARY:St. Mary's Medical Center (Lewiston\, ME)
DESCRIPTION:
URL:https://markturcotte.com/event/st-marys-medical-center-lewiston-me/
LOCATION:St. Mary’s Regional Medical Center\, 93 Campus Ave.\, Lewiston\, ME\, 04240\, United States
END:VEVENT
BEGIN:VEVENT
DTSTART;TZID=America/New_York:20190606T190000
DTEND;TZID=America/New_York:20190606T190000
DTSTAMP:20260423T174450
CREATED:20181015T132559Z
LAST-MODIFIED:20181015T132559Z
UID:27909-1559847600-1559847600@markturcotte.com
SUMMARY:Fore River Brewing (South Portland\, ME)
DESCRIPTION:
URL:https://markturcotte.com/event/fore-river-brewing-south-portland-me-15/
LOCATION:Fore River Brewing\, 45 Huntress Ave.\, South Portland\, ME\, 04106\, United States
ATTACH;FMTTYPE=image/jpeg:https://markturcotte.com/wp-content/uploads/250x250_fore_river_brewing.jpg
END:VEVENT
BEGIN:VEVENT
DTSTART;VALUE=DATE:20190607
DTEND;VALUE=DATE:20190608
DTSTAMP:20260423T174450
CREATED:20190530T174632Z
LAST-MODIFIED:20190530T174632Z
UID:28461-1559865600-1559951999@markturcotte.com
SUMMARY:Unavailable
DESCRIPTION:
URL:https://markturcotte.com/event/unavailable-13/
LOCATION:ME
END:VEVENT
BEGIN:VEVENT
DTSTART;TZID=America/New_York:20190615T200000
DTEND;TZID=America/New_York:20190615T200000
DTSTAMP:20260423T174450
CREATED:20190226T185624Z
LAST-MODIFIED:20190226T190149Z
UID:28263-1560628800-1560628800@markturcotte.com
SUMMARY:Denmark Arts Center (Denmark\, ME)
DESCRIPTION:
URL:https://markturcotte.com/event/denmark-arts-center/
LOCATION:Denmark Arts Center\, 50 W Main St.\, Denmark\, ME\, 04022\, United States
END:VEVENT
BEGIN:VEVENT
DTSTART;TZID=America/New_York:20190620T190000
DTEND;TZID=America/New_York:20190620T190000
DTSTAMP:20260423T174450
CREATED:20181015T122501Z
LAST-MODIFIED:20181015T122501Z
UID:27818-1561057200-1561057200@markturcotte.com
SUMMARY:Bear Bones Beer (Lewiston\, ME)
DESCRIPTION:
URL:https://markturcotte.com/event/bear-bones-beer-lewiston-me-29/
LOCATION:Bear Bones Beer\, 43 Lisbon St.\, Lewiston\, ME\, 04240\, United States
ATTACH;FMTTYPE=image/jpeg:https://markturcotte.com/wp-content/uploads/205_bear_bones_beer.jpg
END:VEVENT
BEGIN:VEVENT
DTSTART;TZID=America/New_York:20190621T203000
DTEND;TZID=America/New_York:20190621T203000
DTSTAMP:20260423T174450
CREATED:20190108T174720Z
LAST-MODIFIED:20190108T174720Z
UID:28114-1561149000-1561149000@markturcotte.com
SUMMARY:Bangor Beer (Bangor\, ME)
DESCRIPTION:
URL:https://markturcotte.com/event/bangor-beer-bangor-me-7/
LOCATION:Bangor Beer Company\, 330 Bangor Mall Blvd.\, Bangor\, ME\, 04401\, United States
ATTACH;FMTTYPE=image/jpeg:https://markturcotte.com/wp-content/uploads/250_bangor_beer_co.jpg
END:VEVENT
BEGIN:VEVENT
DTSTART;TZID=America/New_York:20190627T200000
DTEND;TZID=America/New_York:20190627T213000
DTSTAMP:20260423T174450
CREATED:20190420T154606Z
LAST-MODIFIED:20190420T154606Z
UID:28424-1561665600-1561671000@markturcotte.com
SUMMARY:Ember (Dover\, NH)
DESCRIPTION:
URL:https://markturcotte.com/event/ember-dover-nh/
LOCATION:Ember\, 1 Orchard St.\, Dover\, NH\, 03820\, United States
END:VEVENT
BEGIN:VEVENT
DTSTART;TZID=America/New_York:20190629T200000
DTEND;TZID=America/New_York:20190629T200000
DTSTAMP:20260423T174450
CREATED:20190516T202356Z
LAST-MODIFIED:20190516T202623Z
UID:28453-1561838400-1561838400@markturcotte.com
SUMMARY:Side By Each Brewing (Auburn\, ME)
DESCRIPTION:Make-A-Wish Fundraiser
URL:https://markturcotte.com/event/side-by-each-brewing-auburn-me/
LOCATION:Side By Each Brewing\, 1110 Minot Ave.\, Auburn\, ME\, 04210\, United States
ATTACH;FMTTYPE=image/jpeg:https://markturcotte.com/wp-content/uploads/250_side_by_each.jpg
END:VEVENT
END:VCALENDAR