BEGIN:VCALENDAR
VERSION:2.0
PRODID:-//Mark Turcotte - ECPv6.15.20//NONSGML v1.0//EN
CALSCALE:GREGORIAN
METHOD:PUBLISH
X-WR-CALNAME:Mark Turcotte
X-ORIGINAL-URL:https://markturcotte.com
X-WR-CALDESC:Events for Mark Turcotte
REFRESH-INTERVAL;VALUE=DURATION:PT1H
X-Robots-Tag:noindex
X-PUBLISHED-TTL:PT1H
BEGIN:VTIMEZONE
TZID:America/New_York
BEGIN:DAYLIGHT
TZOFFSETFROM:-0500
TZOFFSETTO:-0400
TZNAME:EDT
DTSTART:20180311T070000
END:DAYLIGHT
BEGIN:STANDARD
TZOFFSETFROM:-0400
TZOFFSETTO:-0500
TZNAME:EST
DTSTART:20181104T060000
END:STANDARD
BEGIN:DAYLIGHT
TZOFFSETFROM:-0500
TZOFFSETTO:-0400
TZNAME:EDT
DTSTART:20190310T070000
END:DAYLIGHT
BEGIN:STANDARD
TZOFFSETFROM:-0400
TZOFFSETTO:-0500
TZNAME:EST
DTSTART:20191103T060000
END:STANDARD
BEGIN:DAYLIGHT
TZOFFSETFROM:-0500
TZOFFSETTO:-0400
TZNAME:EDT
DTSTART:20200308T070000
END:DAYLIGHT
BEGIN:STANDARD
TZOFFSETFROM:-0400
TZOFFSETTO:-0500
TZNAME:EST
DTSTART:20201101T060000
END:STANDARD
END:VTIMEZONE
BEGIN:VEVENT
DTSTART;TZID=America/New_York:20191002T190000
DTEND;TZID=America/New_York:20191002T190000
DTSTAMP:20260423T123532
CREATED:20190827T164010Z
LAST-MODIFIED:20190827T164010Z
UID:28541-1570042800-1570042800@markturcotte.com
SUMMARY:Doolin's Pub (Litchfield\, ME)
DESCRIPTION:
URL:https://markturcotte.com/event/doolins-pub-litchfield-me-5/
LOCATION:Doolin’s Pub\, 495 Huntington Hill Rd.\, Litchfield\, Maine\, 04350\, United States
ATTACH;FMTTYPE=image/jpeg:https://markturcotte.com/wp-content/uploads/250_doolins.jpg
END:VEVENT
BEGIN:VEVENT
DTSTART;TZID=America/New_York:20191004T200000
DTEND;TZID=America/New_York:20191004T200000
DTSTAMP:20260423T123532
CREATED:20190530T174133Z
LAST-MODIFIED:20190530T174133Z
UID:28458-1570219200-1570219200@markturcotte.com
SUMMARY:Private Event
DESCRIPTION:PS\, NWNA
URL:https://markturcotte.com/event/private-event-13/
LOCATION:Green Ladle\, 156 East Ave.\, Lewiston\, ME\, 04240\, United States
END:VEVENT
BEGIN:VEVENT
DTSTART;TZID=America/New_York:20191005T200000
DTEND;TZID=America/New_York:20191005T200000
DTSTAMP:20260423T123532
CREATED:20181015T124845Z
LAST-MODIFIED:20181015T124845Z
UID:27853-1570305600-1570305600@markturcotte.com
SUMMARY:Island Dog Brewing (South Portland\, ME)
DESCRIPTION:
URL:https://markturcotte.com/event/island-dog-brewing-south-portland-me-16/
LOCATION:Island Dog Brewing\, 125 John Roberts Rd.\, South Portland\, ME\, 04106\, United States
ATTACH;FMTTYPE=image/jpeg:https://markturcotte.com/wp-content/uploads/250_island_dog_brewing.jpg
END:VEVENT
BEGIN:VEVENT
DTSTART;TZID=America/New_York:20191011T200000
DTEND;TZID=America/New_York:20191011T200000
DTSTAMP:20260423T123532
CREATED:20190816T212055Z
LAST-MODIFIED:20190816T212055Z
UID:28534-1570824000-1570824000@markturcotte.com
SUMMARY:Craft Brew Underground (Auburn\, ME)
DESCRIPTION:
URL:https://markturcotte.com/event/craft-brew-underground-auburn-me-2/
LOCATION:Craft Brew Underground\, 34 Court St.\, Auburn\, ME\, 04210\, United States
ATTACH;FMTTYPE=image/jpeg:https://markturcotte.com/wp-content/uploads/250_craft_brew_underground.jpg
END:VEVENT
BEGIN:VEVENT
DTSTART;TZID=America/New_York:20191012T203000
DTEND;TZID=America/New_York:20191012T203000
DTSTAMP:20260423T123532
CREATED:20190816T204009Z
LAST-MODIFIED:20190828T200900Z
UID:28515-1570912200-1570912200@markturcotte.com
SUMMARY:Headliners (Manchester\, NH)
DESCRIPTION:
URL:https://markturcotte.com/event/headliners-manchester-nh-9/
LOCATION:Headliners Comedy Club\, 700 Elm St.\, Manchester\, NH\, United States
ATTACH;FMTTYPE=image/jpeg:https://markturcotte.com/wp-content/uploads/credit_headliners.jpg
END:VEVENT
BEGIN:VEVENT
DTSTART;TZID=America/New_York:20191016T190000
DTEND;TZID=America/New_York:20191016T190000
DTSTAMP:20260423T123532
CREATED:20190827T164053Z
LAST-MODIFIED:20190827T164053Z
UID:28543-1571252400-1571252400@markturcotte.com
SUMMARY:Doolin's Pub (Litchfield\, ME)
DESCRIPTION:
URL:https://markturcotte.com/event/doolins-pub-litchfield-me-6/
LOCATION:Doolin’s Pub\, 495 Huntington Hill Rd.\, Litchfield\, Maine\, 04350\, United States
ATTACH;FMTTYPE=image/jpeg:https://markturcotte.com/wp-content/uploads/250_doolins.jpg
END:VEVENT
BEGIN:VEVENT
DTSTART;TZID=America/New_York:20191017T190000
DTEND;TZID=America/New_York:20191017T190000
DTSTAMP:20260423T123532
CREATED:20181015T123323Z
LAST-MODIFIED:20181015T123323Z
UID:27826-1571338800-1571338800@markturcotte.com
SUMMARY:Bear Bones Beer (Lewiston\, ME)
DESCRIPTION:
URL:https://markturcotte.com/event/bear-bones-beer-lewiston-me-33/
LOCATION:Bear Bones Beer\, 43 Lisbon St.\, Lewiston\, ME\, 04240\, United States
ATTACH;FMTTYPE=image/jpeg:https://markturcotte.com/wp-content/uploads/205_bear_bones_beer.jpg
END:VEVENT
BEGIN:VEVENT
DTSTART;TZID=America/New_York:20191019T193000
DTEND;TZID=America/New_York:20191019T193000
DTSTAMP:20260423T123532
CREATED:20190108T175506Z
LAST-MODIFIED:20190108T175506Z
UID:28130-1571513400-1571513400@markturcotte.com
SUMMARY:Johnson Hall (Gardiner\, ME)
DESCRIPTION:
URL:https://markturcotte.com/event/johnson-hall-gardiner-me-17/
LOCATION:Johnson Hall\, 280 Water St.\, Gardiner\, ME\, 04345\, United States
ATTACH;FMTTYPE=image/jpeg:https://markturcotte.com/wp-content/uploads/johnson_hall_250x250.jpg
END:VEVENT
BEGIN:VEVENT
DTSTART;TZID=America/New_York:20191026T200000
DTEND;TZID=America/New_York:20191026T200000
DTSTAMP:20260423T123532
CREATED:20190502T205808Z
LAST-MODIFIED:20190502T205808Z
UID:28441-1572120000-1572120000@markturcotte.com
SUMMARY:Headliners
DESCRIPTION:
URL:https://markturcotte.com/event/headliners-5/
LOCATION:ME
ATTACH;FMTTYPE=image/jpeg:https://markturcotte.com/wp-content/uploads/credit_headliners.jpg
END:VEVENT
END:VCALENDAR