BEGIN:VCALENDAR
VERSION:2.0
PRODID:-//Mark Turcotte - ECPv6.15.20//NONSGML v1.0//EN
CALSCALE:GREGORIAN
METHOD:PUBLISH
X-WR-CALNAME:Mark Turcotte
X-ORIGINAL-URL:https://markturcotte.com
X-WR-CALDESC:Events for Mark Turcotte
REFRESH-INTERVAL;VALUE=DURATION:PT1H
X-Robots-Tag:noindex
X-PUBLISHED-TTL:PT1H
BEGIN:VTIMEZONE
TZID:America/New_York
BEGIN:DAYLIGHT
TZOFFSETFROM:-0500
TZOFFSETTO:-0400
TZNAME:EDT
DTSTART:20180311T070000
END:DAYLIGHT
BEGIN:STANDARD
TZOFFSETFROM:-0400
TZOFFSETTO:-0500
TZNAME:EST
DTSTART:20181104T060000
END:STANDARD
BEGIN:DAYLIGHT
TZOFFSETFROM:-0500
TZOFFSETTO:-0400
TZNAME:EDT
DTSTART:20190310T070000
END:DAYLIGHT
BEGIN:STANDARD
TZOFFSETFROM:-0400
TZOFFSETTO:-0500
TZNAME:EST
DTSTART:20191103T060000
END:STANDARD
BEGIN:DAYLIGHT
TZOFFSETFROM:-0500
TZOFFSETTO:-0400
TZNAME:EDT
DTSTART:20200308T070000
END:DAYLIGHT
BEGIN:STANDARD
TZOFFSETFROM:-0400
TZOFFSETTO:-0500
TZNAME:EST
DTSTART:20201101T060000
END:STANDARD
END:VTIMEZONE
BEGIN:VEVENT
DTSTART;TZID=America/New_York:20191204T190000
DTEND;TZID=America/New_York:20191204T190000
DTSTAMP:20260423T095727
CREATED:20190827T164303Z
LAST-MODIFIED:20190827T164303Z
UID:28549-1575486000-1575486000@markturcotte.com
SUMMARY:Doolin's Pub (Litchfield\, ME)
DESCRIPTION:
URL:https://markturcotte.com/event/doolins-pub-litchfield-me-9/
LOCATION:Doolin’s Pub\, 495 Huntington Hill Rd.\, Litchfield\, Maine\, 04350\, United States
ATTACH;FMTTYPE=image/jpeg:https://markturcotte.com/wp-content/uploads/250_doolins.jpg
END:VEVENT
BEGIN:VEVENT
DTSTART;TZID=America/New_York:20191206T200000
DTEND;TZID=America/New_York:20191206T200000
DTSTAMP:20260423T095727
CREATED:20190921T165821Z
LAST-MODIFIED:20190921T165821Z
UID:28576-1575662400-1575662400@markturcotte.com
SUMMARY:Craft Brew Underground (Auburn\, ME)
DESCRIPTION:
URL:https://markturcotte.com/event/craft-brew-underground-auburn-me-8/
LOCATION:Craft Brew Underground\, 34 Court St.\, Auburn\, ME\, 04210\, United States
ATTACH;FMTTYPE=image/jpeg:https://markturcotte.com/wp-content/uploads/250_craft_brew_underground.jpg
END:VEVENT
BEGIN:VEVENT
DTSTART;TZID=America/New_York:20191207T200000
DTEND;TZID=America/New_York:20191207T200000
DTSTAMP:20260423T095727
CREATED:20181015T125029Z
LAST-MODIFIED:20181015T125029Z
UID:27857-1575748800-1575748800@markturcotte.com
SUMMARY:Island Dog Brewing (South Portland\, ME)
DESCRIPTION:
URL:https://markturcotte.com/event/island-dog-brewing-south-portland-me-18/
LOCATION:Island Dog Brewing\, 125 John Roberts Rd.\, South Portland\, ME\, 04106\, United States
ATTACH;FMTTYPE=image/jpeg:https://markturcotte.com/wp-content/uploads/250_island_dog_brewing.jpg
END:VEVENT
BEGIN:VEVENT
DTSTART;TZID=America/New_York:20191210T190000
DTEND;TZID=America/New_York:20191210T190000
DTSTAMP:20260423T095727
CREATED:20191031T131651Z
LAST-MODIFIED:20191031T131651Z
UID:28607-1576004400-1576004400@markturcotte.com
SUMMARY:Lowell\, MA
DESCRIPTION:with Steen
URL:https://markturcotte.com/event/lowell-ma/
LOCATION:ME
END:VEVENT
BEGIN:VEVENT
DTSTART;TZID=America/New_York:20191212T193000
DTEND;TZID=America/New_York:20191212T193000
DTSTAMP:20260423T095727
CREATED:20191031T132113Z
LAST-MODIFIED:20191031T132113Z
UID:28610-1576179000-1576179000@markturcotte.com
SUMMARY:Old Orchard Beach\, ME
DESCRIPTION:with Rob Steen
URL:https://markturcotte.com/event/old-orchard-beach-me/
LOCATION:ME
END:VEVENT
BEGIN:VEVENT
DTSTART;TZID=America/New_York:20191213T200000
DTEND;TZID=America/New_York:20191213T200000
DTSTAMP:20260423T095727
CREATED:20190816T212219Z
LAST-MODIFIED:20190816T212219Z
UID:28538-1576267200-1576267200@markturcotte.com
SUMMARY:Craft Brew Underground (Auburn\, ME)
DESCRIPTION:
URL:https://markturcotte.com/event/craft-brew-underground-auburn-me-4/
LOCATION:Craft Brew Underground\, 34 Court St.\, Auburn\, ME\, 04210\, United States
ATTACH;FMTTYPE=image/jpeg:https://markturcotte.com/wp-content/uploads/250_craft_brew_underground.jpg
END:VEVENT
BEGIN:VEVENT
DTSTART;VALUE=DATE:20191214
DTEND;VALUE=DATE:20191215
DTSTAMP:20260423T095727
CREATED:20190906T154749Z
LAST-MODIFIED:20191031T132255Z
UID:28564-1576281600-1576367999@markturcotte.com
SUMMARY:Private Event
DESCRIPTION:
URL:https://markturcotte.com/event/private-event-18/
LOCATION:ME
END:VEVENT
BEGIN:VEVENT
DTSTART;TZID=America/New_York:20191218T190000
DTEND;TZID=America/New_York:20191218T190000
DTSTAMP:20260423T095727
CREATED:20190827T164400Z
LAST-MODIFIED:20190827T164400Z
UID:28551-1576695600-1576695600@markturcotte.com
SUMMARY:Doolin's Pub (Litchfield\, ME)
DESCRIPTION:
URL:https://markturcotte.com/event/doolins-pub-litchfield-me-10/
LOCATION:Doolin’s Pub\, 495 Huntington Hill Rd.\, Litchfield\, Maine\, 04350\, United States
ATTACH;FMTTYPE=image/jpeg:https://markturcotte.com/wp-content/uploads/250_doolins.jpg
END:VEVENT
BEGIN:VEVENT
DTSTART;TZID=America/New_York:20191220T200000
DTEND;TZID=America/New_York:20191220T200000
DTSTAMP:20260423T095727
CREATED:20190921T165908Z
LAST-MODIFIED:20190921T165908Z
UID:28578-1576872000-1576872000@markturcotte.com
SUMMARY:Craft Brew Underground (Auburn\, ME)
DESCRIPTION:
URL:https://markturcotte.com/event/craft-brew-underground-auburn-me-9/
LOCATION:Craft Brew Underground\, 34 Court St.\, Auburn\, ME\, 04210\, United States
ATTACH;FMTTYPE=image/jpeg:https://markturcotte.com/wp-content/uploads/250_craft_brew_underground.jpg
END:VEVENT
BEGIN:VEVENT
DTSTART;TZID=America/New_York:20191221T193000
DTEND;TZID=America/New_York:20191221T193000
DTSTAMP:20260423T095727
CREATED:20190108T175651Z
LAST-MODIFIED:20190108T175651Z
UID:28134-1576956600-1576956600@markturcotte.com
SUMMARY:Johnson Hall (Gardiner\, ME)
DESCRIPTION:
URL:https://markturcotte.com/event/johnson-hall-gardiner-me-19/
LOCATION:Johnson Hall\, 280 Water St.\, Gardiner\, ME\, 04345\, United States
ATTACH;FMTTYPE=image/jpeg:https://markturcotte.com/wp-content/uploads/johnson_hall_250x250.jpg
END:VEVENT
END:VCALENDAR