BEGIN:VCALENDAR
VERSION:2.0
PRODID:-//Mark Turcotte - ECPv6.15.20//NONSGML v1.0//EN
CALSCALE:GREGORIAN
METHOD:PUBLISH
X-ORIGINAL-URL:https://markturcotte.com
X-WR-CALDESC:Events for Mark Turcotte
REFRESH-INTERVAL;VALUE=DURATION:PT1H
X-Robots-Tag:noindex
X-PUBLISHED-TTL:PT1H
BEGIN:VTIMEZONE
TZID:America/New_York
BEGIN:DAYLIGHT
TZOFFSETFROM:-0500
TZOFFSETTO:-0400
TZNAME:EDT
DTSTART:20190310T070000
END:DAYLIGHT
BEGIN:STANDARD
TZOFFSETFROM:-0400
TZOFFSETTO:-0500
TZNAME:EST
DTSTART:20191103T060000
END:STANDARD
BEGIN:DAYLIGHT
TZOFFSETFROM:-0500
TZOFFSETTO:-0400
TZNAME:EDT
DTSTART:20200308T070000
END:DAYLIGHT
BEGIN:STANDARD
TZOFFSETFROM:-0400
TZOFFSETTO:-0500
TZNAME:EST
DTSTART:20201101T060000
END:STANDARD
BEGIN:DAYLIGHT
TZOFFSETFROM:-0500
TZOFFSETTO:-0400
TZNAME:EDT
DTSTART:20210314T070000
END:DAYLIGHT
BEGIN:STANDARD
TZOFFSETFROM:-0400
TZOFFSETTO:-0500
TZNAME:EST
DTSTART:20211107T060000
END:STANDARD
END:VTIMEZONE
BEGIN:VEVENT
DTSTART;TZID=America/New_York:20200304T190000
DTEND;TZID=America/New_York:20200304T190000
DTSTAMP:20260423T052607
CREATED:20191115T205105Z
LAST-MODIFIED:20191115T205105Z
UID:28668-1583348400-1583348400@markturcotte.com
SUMMARY:Doolin's Pub (Litchfield\, ME)
DESCRIPTION:
URL:https://markturcotte.com/event/doolins-pub-litchfield-me-15/
LOCATION:Doolin’s Pub\, 495 Huntington Hill Rd.\, Litchfield\, Maine\, 04350\, United States
ATTACH;FMTTYPE=image/jpeg:https://markturcotte.com/wp-content/uploads/250_doolins.jpg
END:VEVENT
BEGIN:VEVENT
DTSTART;TZID=America/New_York:20200305T180000
DTEND;TZID=America/New_York:20200305T200000
DTSTAMP:20260423T052607
CREATED:20200109T204536Z
LAST-MODIFIED:20200109T204536Z
UID:28723-1583431200-1583438400@markturcotte.com
SUMMARY:Stand-Up Workshop (Lewiston\, ME)
DESCRIPTION:
URL:https://markturcotte.com/event/stand-up-workshop-lewiston-me/
LOCATION:ME
END:VEVENT
BEGIN:VEVENT
DTSTART;TZID=America/New_York:20200306T200000
DTEND;TZID=America/New_York:20200306T200000
DTSTAMP:20260423T052607
CREATED:20191216T221926Z
LAST-MODIFIED:20191216T221926Z
UID:28685-1583524800-1583524800@markturcotte.com
SUMMARY:Craft Brew Underground (Auburn\, ME)
DESCRIPTION:
URL:https://markturcotte.com/event/craft-brew-underground-auburn-me-17/
LOCATION:Craft Brew Underground\, 34 Court St.\, Auburn\, ME\, 04210\, United States
ATTACH;FMTTYPE=image/jpeg:https://markturcotte.com/wp-content/uploads/250_craft_brew_underground.jpg
END:VEVENT
BEGIN:VEVENT
DTSTART;TZID=America/New_York:20200307T200000
DTEND;TZID=America/New_York:20200307T200000
DTSTAMP:20260423T052607
CREATED:20191109T162939Z
LAST-MODIFIED:20191109T162939Z
UID:28628-1583611200-1583611200@markturcotte.com
SUMMARY:Island Dog Brewing (South Portland\, ME)
DESCRIPTION:
URL:https://markturcotte.com/event/island-dog-brewing-south-portland-me-20/
LOCATION:Island Dog Brewing\, 125 John Roberts Rd.\, South Portland\, ME\, 04106\, United States
ATTACH;FMTTYPE=image/jpeg:https://markturcotte.com/wp-content/uploads/250_island_dog_brewing.jpg
END:VEVENT
BEGIN:VEVENT
DTSTART;TZID=America/New_York:20200311T190000
DTEND;TZID=America/New_York:20200311T190000
DTSTAMP:20260423T052607
CREATED:20200204T105540Z
LAST-MODIFIED:20200204T105540Z
UID:28751-1583953200-1583953200@markturcotte.com
SUMMARY:Highway to Spell (Auburn\, ME)
DESCRIPTION:
URL:https://markturcotte.com/event/highway-to-spell-auburn-me-3/
LOCATION:Craft Brew Underground\, 34 Court St.\, Auburn\, ME\, 04210\, United States
ATTACH;FMTTYPE=image/jpeg:https://markturcotte.com/wp-content/uploads/250_craft_brew_underground.jpg
END:VEVENT
BEGIN:VEVENT
DTSTART;TZID=America/New_York:20200312T190000
DTEND;TZID=America/New_York:20200312T190000
DTSTAMP:20260423T052607
CREATED:20191229T143117Z
LAST-MODIFIED:20191229T143117Z
UID:28717-1584039600-1584039600@markturcotte.com
SUMMARY:Side By Each Brewing (Auburn\, ME)
DESCRIPTION:
URL:https://markturcotte.com/event/side-by-each-brewing-auburn-me-3/
LOCATION:Side By Each Brewing\, 1110 Minot Ave.\, Auburn\, ME\, 04210\, United States
ATTACH;FMTTYPE=image/jpeg:https://markturcotte.com/wp-content/uploads/250_side_by_each.jpg
END:VEVENT
BEGIN:VEVENT
DTSTART;TZID=America/New_York:20200313T200000
DTEND;TZID=America/New_York:20200313T200000
DTSTAMP:20260423T052607
CREATED:20191216T222001Z
LAST-MODIFIED:20191216T222001Z
UID:28687-1584129600-1584129600@markturcotte.com
SUMMARY:Craft Brew Underground (Auburn\, ME)
DESCRIPTION:
URL:https://markturcotte.com/event/craft-brew-underground-auburn-me-18/
LOCATION:Craft Brew Underground\, 34 Court St.\, Auburn\, ME\, 04210\, United States
ATTACH;FMTTYPE=image/jpeg:https://markturcotte.com/wp-content/uploads/250_craft_brew_underground.jpg
END:VEVENT
END:VCALENDAR